Workbook

Sheet MADRE
A5: Vivero iris 11 54527839 whatsapp y telefono -Septiembre2026
A6: Precios sin iva
A7: www.viveroiris.com.ar
A8: Abedul ( Betula alba).
A9: 120-150 cm de altura E, 10 lts | D9: 39072
A10: 180-210 cm de altura E. 20 lts | D10: 109890
A11: Abelia grandiflora. | D11: 0
A12: E. 4 lts | D12: 12232
A13: E. 10 lts | D13: 27000
A14: E. 15 lts | D14: 36500 | E14: s/stock
A15: E. 20 lts | D15: 49000
A16: Abelia grandiflora compacta (enana).
A17: E. 4 lts | D17: 12232
A18: E. 10 lts | D18: 27000 | E18: s/stock
A19: Acacia bayleyana rubra. Inj. | D19: 0
A20: Injertada 80 cm de altura E. 4 lts | D20: 53724 | E20: s/stock
A21: Inj. 120-150 cm. E. 4 lts | D21: 58608 | E21: s/stock
A22: Acacia blanca (Robinia pseudoacicia). | D22: 0
A23: 150-180 cm. E. 4 lts | D23: 36630 | E23: s/stock
A24: 180-210cm E. 10 lts | D24: 61050
A25: 220-250cm E.. 15lts | D25: 79365
A26: Acacia bola (Robinia pseudoacacia umbracuculifera). Inj. | D26: 0
A27: Inj. A 200 cm de altura, Con copa, 6-8 cm circunsferencia de tronco. E. 10 lts. | D27: 58608 | E27: s/stock
A28: Inj, a 200 cm. Con copa, 8-10 cm E. 15 lts. | D28: 67155
A29: inj a 200cm con copa, 10-12cm circunsf. 20lts | D29: 85470
A30: Acacia casque rouge (Robinia pseudoacacia). Inj. | D30: 0
A31: Inj. 200cm de altura Con copa, 8-10 cm de circunsferencia de tronco. E. 15 lts. | D31: 67155
A32: Inj. Con copa, 10-12 cm E. 20 lts. | D32: 78144
A33: Acacia constantinopla (Albizzia julibrissin). | D33: 0
A34: con copa, 6-8 cm de circunsferencia de tronco. 180-210 cm de altura E. 15 lts | D34: 67155
A35: con copa, 8-10 cm. 210-250 cm E. 20 lts | D35: 78144
A36: Acacia dealbata (Aromo frances). | D36: 0
A37: con copa, 210-250 cm. E. 10 lts | D37: 42000
A38: con copa, 250 cm. E. 20 lts | D38: 78144
A39: Acacia Caven (Vachellia caven) Espinillo | D39: 0
A40: 120-150cm E. 4lts | D40: 28083 | E40: s/stock
A41: 150-180cm E. 10lts | D41: 40000
A42: Acacia floribunda.
A43: 150-180 cm. E. 4 lts | D43: 28083
A44: 180-210cm. .. E. 10lts | D44: 58608 | E44: s/stock
...

Sheet WHATSAPP
A1: VIVERO IRIS — TEXTOS PARA WHATSAPP | D1: 📱 COPIAR PARA WHATSAPP DESDE EL CELULAR
A2: Copiá la celda de la columna B y pegala directamente en WhatsApp.
D3: Texto listo para copiar:
A4: PRODUCTO | B4: TEXTO PARA COPIAR Y PEGAR | D4: =B2 -> 0
A5: =TRIM(MADRE!A8) -> Abedul ( Betula alba). | B5: ="🌱 "&UPPER(TRIM(MADRE!A8))&CHAR(10)&CHAR(10)&"📏 "&TRIM(MADRE!A9)&CHAR(10)&"💰 "&IF(MADRE!D9="","",IF(MADRE!D9<1000,TEXT(MADRE!D9,"0"),IF(MADRE!D9<1000000,LEFT(TEXT(MADRE!D9,"0"),LEN(TEXT(MADRE!D9,"0"))-3)&"."&RIGHT(TEXT(MADRE!D9,"0"),3),LEFT(TEXT(MADRE!D9,"0"),LEN(TEXT(MADRE!D9,"0"))-6)&"."&MID(TEXT(MADRE!D9,"0"),LEN(TEXT(MADRE!D9,"0"))-5,3)&"."&RIGHT(TEXT(MADRE!D9,"0"),3))))&CHAR(10)&CHAR(10)&"📏 "&TRIM(MADRE!A10)&CHAR(10)&"💰 "&IF(MADRE!D10="","",IF(MADRE!D10<1000,TEXT(MADRE!D10,"0"),IF(MADRE!D10<1000000,LEFT(TEXT(MADRE!D10,"0"),LEN(TEXT(MADRE!D10,"0"))-3)&"."&RIGHT(TEXT(MADRE!D10,"0"),3),LEFT(TEXT(MADRE!D10,"0"),LEN(TEXT(MADRE!D10,"0"))-6)&"."&MID(TEXT(MADRE!D10,"0"),LEN(TEXT(MADRE!D10,"0"))-5,3)&"."&RIGHT(TEXT(MADRE!D10,"0"),3)))) -> 🌱 ABEDUL ( BETULA ALBA). 📏 120-150 cm de altura E, 10 lts 💰 39.072 📏 180-210 cm de altura E. 20 lts 💰 109.890
A6: =TRIM(MADRE!A11) -> Abelia grandiflora. | B6: ="🌱 "&UPPER(TRIM(MADRE!A11))&CHAR(10)&CHAR(10)&"📏 "&TRIM(MADRE!A12)&CHAR(10)&"💰 "&IF(MADRE!D12="","",IF(MADRE!D12<1000,TEXT(MADRE!D12,"0"),IF(MADRE!D12<1000000,LEFT(TEXT(MADRE!D12,"0"),LEN(TEXT(MADRE!D12,"0"))-3)&"."&RIGHT(TEXT(MADRE!D12,"0"),3),LEFT(TEXT(MADRE!D12,"0"),LEN(TEXT(MADRE!D12,"0"))-6)&"."&MID(TEXT(MADRE!D12,"0"),LEN(TEXT(MADRE!D12,"0"))-5,3)&"."&RIGHT(TEXT(MADRE!D12,"0"),3))))&CHAR(10)&CHAR(10)&"📏 "&TRIM(MADRE!A13)&CHAR(10)&"💰 "&IF(MADRE!D13="","",IF(MADRE!D13<1000,TEXT(MADRE!D13,"0"),IF(MADRE!D13<1000000,LEFT(TEXT(MADRE!D13,"0"),LEN(TEXT(MADRE!D13,"0"))-3)&"."&RIGHT(TEXT(MADRE!D13,"0"),3),LEFT(TEXT(MADRE!D13,"0"),LEN(TEXT(MADRE!D13,"0"))-6)&"."&MID(TEXT(MADRE!D13,"0"),LEN(TEXT(MADRE!D13,"0"))-5,3)&"."&RIGHT(TEXT(MADRE!D13,"0"),3))))&CHAR(10)&CHAR(10)&"📏 "&TRIM(MADRE!A14)&CHAR(10)&"💰 "&IF(MADRE!D14="","",IF(MADRE!D14<1000,TEXT(MADRE!D14,"0"),IF(MADRE!D14<1000000,LEFT(TEXT(MADRE!D14,"0"),LEN(TEXT(MADRE!D14,"0"))-3)&"."&RIGHT(TEXT(MADRE!D14,"0"),3),LEFT(TEXT(MADRE!D14,"0"),LEN(TEXT(MADRE!D14,"0"))-6)&"."&MID(TEXT(MADRE!D14,"0"),LEN(TEXT(MADRE!D14,"0"))-5,3)&"."&RIGHT(TEXT(MADRE!D14,"0"),3))))&CHAR(10)&CHAR(10)&"📏 "&TRIM(MADRE!A15)&CHAR(10)&"💰 "&IF(MADRE!D15="","",IF(MADRE!D15<1000,TEXT(MADRE!D15,"0"),IF(MADRE!D15<1000000,LEFT(TEXT(MADRE!D15,"0"),LEN(TEXT(MADRE!D15,"0"))-3)&"."&RIGHT(TEXT(MADRE!D15,"0"),3),LEFT(TEXT(MADRE!D15,"0"),LEN(TEXT(MADRE!D15,"0"))-6)&"."&MID(TEXT(MADRE!D15,"0"),LEN(TEXT(MADRE!D15,"0"))-5,3)&"."&RIGHT(TEXT(MADRE!D15,"0"),3)))) -> 🌱 ABELIA GRANDIFLORA. 📏 E. 4 lts 💰 12.232 📏 E. 10 lts 💰 27.000 📏 E. 15 lts 💰 36.500 📏 E. 20 lts 💰 49.000 | D6: En el celular: mantené apretado dentro del texto → seleccioná el contenido → Copiar → abrí WhatsApp → Pegar.
A7: =TRIM(MADRE!A16) -> Abelia grandiflora compacta (enana). | B7: ="🌱 "&UPPER(TRIM(MADRE!A16))&CHAR(10)&CHAR(10)&"📏 "&TRIM(MADRE!A17)&CHAR(10)&"💰 "&IF(MADRE!D17="","",IF(MADRE!D17<1000,TEXT(MADRE!D17,"0"),IF(MADRE!D17<1000000,LEFT(TEXT(MADRE!D17,"0"),LEN(TEXT(MADRE!D17,"0"))-3)&"."&RIGHT(TEXT(MADRE!D17,"0"),3),LEFT(TEXT(MADRE!D17,"0"),LEN(TEXT(MADRE!D17,"0"))-6)&"."&MID(TEXT(MADRE!D17,"0"),LEN(TEXT(MADRE!D17,"0"))-5,3)&"."&RIGHT(TEXT(MADRE!D17,"0"),3))))&CHAR(10)&CHAR(10)&"📏 "&TRIM(MADRE!A18)&CHAR(10)&"💰 "&IF(MADRE!D18="","",IF(MADRE!D18<1000,TEXT(MADRE!D18,"0"),IF(MADRE!D18<1000000,LEFT(TEXT(MADRE!D18,"0"),LEN(TEXT(MADRE!D18,"0"))-3)&"."&RIGHT(TEXT(MADRE!D18,"0"),3),LEFT(TEXT(MADRE!D18,"0"),LEN(TEXT(MADRE!D18,"0"))-6)&"."&MID(TEXT(MADRE!D18,"0"),LEN(TEXT(MADRE!D18,"0"))-5,3)&"."&RIGHT(TEXT(MADRE!D18,"0"),3)))) -> 🌱 ABELIA GRANDIFLORA COMPACTA (ENANA). 📏 E. 4 lts 💰 12.232 📏 E. 10 lts 💰 27.000
A8: =TRIM(MADRE!A19) -> Acacia bayleyana rubra. Inj. | B8: ="🌱 "&UPPER(TRIM(MADRE!A19))&CHAR(10)&CHAR(10)&"📏 "&TRIM(MADRE!A20)&CHAR(10)&"💰 "&IF(MADRE!D20="","",IF(MADRE!D20<1000,TEXT(MADRE!D20,"0"),IF(MADRE!D20<1000000,LEFT(TEXT(MADRE!D20,"0"),LEN(TEXT(MADRE!D20,"0"))-3)&"."&RIGHT(TEXT(MADRE!D20,"0"),3),LEFT(TEXT(MADRE!D20,"0"),LEN(TEXT(MADRE!D20,"0"))-6)&"."&MID(TEXT(MADRE!D20,"0"),LEN(TEXT(MADRE!D20,"0"))-5,3)&"."&RIGHT(TEXT(MADRE!D20,"0"),3))))&CHAR(10)&CHAR(10)&"📏 "&TRIM(MADRE!A21)&CHAR(10)&"💰 "&IF(MADRE!D21="","",IF(MADRE!D21<1000,TEXT(MADRE!D21,"0"),IF(MADRE!D21<1000000,LEFT(TEXT(MADRE!D21,"0"),LEN(TEXT(MADRE!D21,"0"))-3)&"."&RIGHT(TEXT(MADRE!D21,"0"),3),LEFT(TEXT(MADRE!D21,"0"),LEN(TEXT(MADRE!D21,"0"))-6)&"."&MID(TEXT(MADRE!D21,"0"),LEN(TEXT(MADRE!D21,"0"))-5,3)&"."&RIGHT(TEXT(MADRE!D21,"0"),3)))) -> 🌱 ACACIA BAYLEYANA RUBRA. INJ. 📏 Injertada 80 cm de altura E. 4 lts 💰 53.724 📏 Inj. 120-150 cm. E. 4 lts 💰 58.608 | D8: IMPORTANTE
A9: =TRIM(MADRE!A22) -> Acacia blanca (Robinia pseudoacicia). | B9: ="🌱 "&UPPER(TRIM(MADRE!A22))&CHAR(10)&CHAR(10)&"📏 "&TRIM(MADRE!A23)&CHAR(10)&"💰 "&IF(MADRE!D23="","",IF(MADRE!D23<1000,TEXT(MADRE!D23,"0"),IF(MADRE!D23<1000000,LEFT(TEXT(MADRE!D23,"0"),LEN(TEXT(MADRE!D23,"0"))-3)&"."&RIGHT(TEXT(MADRE!D23,"0"),3),LEFT(TEXT(MADRE!D23,"0"),LEN(TEXT(MADRE!D23,"0"))-6)&"."&MID(TEXT(MADRE!D23,"0"),LEN(TEXT(MADRE!D23,"0"))-5,3)&"."&RIGHT(TEXT(MADRE!D23,"0"),3))))&CHAR(10)&CHAR(10)&"📏 "&TRIM(MADRE!A24)&CHAR(10)&"💰 "&IF(MADRE!D24="","",IF(MADRE!D24<1000,TEXT(MADRE!D24,"0"),IF(MADRE!D24<1000000,LEFT(TEXT(MADRE!D24,"0"),LEN(TEXT(MADRE!D24,"0"))-3)&"."&RIGHT(TEXT(MADRE!D24,"0"),3),LEFT(TEXT(MADRE!D24,"0"),LEN(TEXT(MADRE!D24,"0"))-6)&"."&MID(TEXT(MADRE!D24,"0"),LEN(TEXT(MADRE!D24,"0"))-5,3)&"."&RIGHT(TEXT(MADRE!D24,"0"),3))))&CHAR(10)&CHAR(10)&"📏 "&TRIM(MADRE!A25)&CHAR(10)&"💰 "&IF(MADRE!D25="","",IF(MADRE!D25<1000,TEXT(MADRE!D25,"0"),IF(MADRE!D25<1000000,LEFT(TEXT(MADRE!D25,"0"),LEN(TEXT(MADRE!D25,"0"))-3)&"."&RIGHT(TEXT(MADRE!D25,"0"),3),LEFT(TEXT(MADRE!D25,"0"),LEN(TEXT(MADRE!D25,"0"))-6)&"."&MID(TEXT(MADRE!D25,"0"),LEN(TEXT(MADRE!D25,"0"))-5,3)&"."&RIGHT(TEXT(MADRE!D25,"0"),3)))) -> 🌱 ACACIA BLANCA (ROBINIA PSEUDOACICIA). 📏 150-180 cm. E. 4 lts 💰 36.630 📏 180-210cm E. 10 lts 💰 61.050 📏 220-250cm E.. 15lts 💰 79.365 | D9: La solapa original WHATSAPP queda sin modificar. Esta zona es solamente para facilitar la copia desde el celular.
A10: =TRIM(MADRE!A26) -> Acacia bola (Robinia pseudoacacia umbracuculifera). Inj. | B10: ="🌱 "&UPPER(TRIM(MADRE!A26))&CHAR(10)&CHAR(10)&"📏 "&TRIM(MADRE!A27)&CHAR(10)&"💰 "&IF(MADRE!D27="","",IF(MADRE!D27<1000,TEXT(MADRE!D27,"0"),IF(MADRE!D27<1000000,LEFT(TEXT(MADRE!D27,"0"),LEN(TEXT(MADRE!D27,"0"))-3)&"."&RIGHT(TEXT(MADRE!D27,"0"),3),LEFT(TEXT(MADRE!D27,"0"),LEN(TEXT(MADRE!D27,"0"))-6)&"."&MID(TEXT(MADRE!D27,"0"),LEN(TEXT(MADRE!D27,"0"))-5,3)&"."&RIGHT(TEXT(MADRE!D27,"0"),3))))&CHAR(10)&CHAR(10)&"📏 "&TRIM(MADRE!A28)&CHAR(10)&"💰 "&IF(MADRE!D28="","",IF(MADRE!D28<1000,TEXT(MADRE!D28,"0"),IF(MADRE!D28<1000000,LEFT(TEXT(MADRE!D28,"0"),LEN(TEXT(MADRE!D28,"0"))-3)&"."&RIGHT(TEXT(MADRE!D28,"0"),3),LEFT(TEXT(MADRE!D28,"0"),LEN(TEXT(MADRE!D28,"0"))-6)&"."&MID(TEXT(MADRE!D28,"0"),LEN(TEXT(MADRE!D28,"0"))-5,3)&"."&RIGHT(TEXT(MADRE!D28,"0"),3))))&CHAR(10)&CHAR(10)&"📏 "&TRIM(MADRE!A29)&CHAR(10)&"💰 "&IF(MADRE!D29="","",IF(MADRE!D29<1000,TEXT(MADRE!D29,"0"),IF(MADRE!D29<1000000,LEFT(TEXT(MADRE!D29,"0"),LEN(TEXT(MADRE!D29,"0"))-3)&"."&RIGHT(TEXT(MADRE!D29,"0"),3),LEFT(TEXT(MADRE!D29,"0"),LEN(TEXT(MADRE!D29,"0"))-6)&"."&MID(TEXT(MADRE!D29,"0"),LEN(TEXT(MADRE!D29,"0"))-5,3)&"."&RIGHT(TEXT(MADRE!D29,"0"),3)))) -> 🌱 ACACIA BOLA (ROBINIA PSEUDOACACIA UMBRACUCULIFERA). INJ. 📏 Inj. A 200 cm de altura, Con copa, 6-8 cm circunsferencia de tronco. E. 10 lts. 💰 58.608 📏 Inj, a 200 cm. Con copa, 8-10 cm E. 15 lts. 💰 67.155 📏 inj a 200cm con copa, 10-12cm circunsf. 20lts 💰 85.470
A11: =TRIM(MADRE!A30) -> Acacia casque rouge (Robinia pseudoacacia). Inj. | B11: ="🌱 "&UPPER(TRIM(MADRE!A30))&CHAR(10)&CHAR(10)&"📏 "&TRIM(MADRE!A31)&CHAR(10)&"💰 "&IF(MADRE!D31="","",IF(MADRE!D31<1000,TEXT(MADRE!D31,"0"),IF(MADRE!D31<1000000,LEFT(TEXT(MADRE!D31,"0"),LEN(TEXT(MADRE!D31,"0"))-3)&"."&RIGHT(TEXT(MADRE!D31,"0"),3),LEFT(TEXT(MADRE!D31,"0"),LEN(TEXT(MADRE!D31,"0"))-6)&"."&MID(TEXT(MADRE!D31,"0"),LEN(TEXT(MADRE!D31,"0"))-5,3)&"."&RIGHT(TEXT(MADRE!D31,"0"),3))))&CHAR(10)&CHAR(10)&"📏 "&TRIM(MADRE!A32)&CHAR(10)&"💰 "&IF(MADRE!D32="","",IF(MADRE!D32<1000,TEXT(MADRE!D32,"0"),IF(MADRE!D32<1000000,LEFT(TEXT(MADRE!D32,"0"),LEN(TEXT(MADRE!D32,"0"))-3)&"."&RIGHT(TEXT(MADRE!D32,"0"),3),LEFT(TEXT(MADRE!D32,"0"),LEN(TEXT(MADRE!D32,"0"))-6)&"."&MID(TEXT(MADRE!D32,"0"),LEN(TEXT(MADRE!D32,"0"))-5,3)&"."&RIGHT(TEXT(MADRE!D32,"0"),3)))) -> 🌱 ACACIA CASQUE ROUGE (ROBINIA PSEUDOACACIA). INJ. 📏 Inj. 200cm de altura Con copa, 8-10 cm de circunsferencia de tronco. E. 15 lts. 💰 67.155 📏 Inj. Con copa, 10-12 cm E. 20 lts. 💰 78.144
A12: =TRIM(MADRE!A33) -> Acacia constantinopla (Albizzia julibrissin). | B12: ="🌱 "&UPPER(TRIM(MADRE!A33))&CHAR(10)&CHAR(10)&"📏 "&TRIM(MADRE!A34)&CHAR(10)&"💰 "&IF(MADRE!D34="","",IF(MADRE!D34<1000,TEXT(MADRE!D34,"0"),IF(MADRE!D34<1000000,LEFT(TEXT(MADRE!D34,"0"),LEN(TEXT(MADRE!D34,"0"))-3)&"."&RIGHT(TEXT(MADRE!D34,"0"),3),LEFT(TEXT(MADRE!D34,"0"),LEN(TEXT(MADRE!D34,"0"))-6)&"."&MID(TEXT(MADRE!D34,"0"),LEN(TEXT(MADRE!D34,"0"))-5,3)&"."&RIGHT(TEXT(MADRE!D34,"0"),3))))&CHAR(10)&CHAR(10)&"📏 "&TRIM(MADRE!A35)&CHAR(10)&"💰 "&IF(MADRE!D35="","",IF(MADRE!D35<1000,TEXT(MADRE!D35,"0"),IF(MADRE!D35<1000000,LEFT(TEXT(MADRE!D35,"0"),LEN(TEXT(MADRE!D35,"0"))-3)&"."&RIGHT(TEXT(MADRE!D35,"0"),3),LEFT(TEXT(MADRE!D35,"0"),LEN(TEXT(MADRE!D35,"0"))-6)&"."&MID(TEXT(MADRE!D35,"0"),LEN(TEXT(MADRE!D35,"0"))-5,3)&"."&RIGHT(TEXT(MADRE!D35,"0"),3)))) -> 🌱 ACACIA CONSTANTINOPLA (ALBIZZIA JULIBRISSIN). 📏 con copa, 6-8 cm de circunsferencia de tronco. 180-210 cm de altura E. 15 lts 💰 67.155 📏 con copa, 8-10 cm. 210-250 cm E. 20 lts 💰 78.144
A13: =TRIM(MADRE!A36) -> Acacia dealbata (Aromo frances). | B13: ="🌱 "&UPPER(TRIM(MADRE!A36))&CHAR(10)&CHAR(10)&"📏 "&TRIM(MADRE!A37)&CHAR(10)&"💰 "&IF(MADRE!D37="","",IF(MADRE!D37<1000,TEXT(MADRE!D37,"0"),IF(MADRE!D37<1000000,LEFT(TEXT(MADRE!D37,"0"),LEN(TEXT(MADRE!D37,"0"))-3)&"."&RIGHT(TEXT(MADRE!D37,"0"),3),LEFT(TEXT(MADRE!D37,"0"),LEN(TEXT(MADRE!D37,"0"))-6)&"."&MID(TEXT(MADRE!D37,"0"),LEN(TEXT(MADRE!D37,"0"))-5,3)&"."&RIGHT(TEXT(MADRE!D37,"0"),3))))&CHAR(10)&CHAR(10)&"📏 "&TRIM(MADRE!A38)&CHAR(10)&"💰 "&IF(MADRE!D38="","",IF(MADRE!D38<1000,TEXT(MADRE!D38,"0"),IF(MADRE!D38<1000000,LEFT(TEXT(MADRE!D38,"0"),LEN(TEXT(MADRE!D38,"0"))-3)&"."&RIGHT(TEXT(MADRE!D38,"0"),3),LEFT(TEXT(MADRE!D38,"0"),LEN(TEXT(MADRE!D38,"0"))-6)&"."&MID(TEXT(MADRE!D38,"0"),LEN(TEXT(MADRE!D38,"0"))-5,3)&"."&RIGHT(TEXT(MADRE!D38,"0"),3)))) -> 🌱 ACACIA DEALBATA (AROMO FRANCES). 📏 con copa, 210-250 cm. E. 10 lts 💰 42.000 📏 con copa, 250 cm. E. 20 lts 💰 78.144
A14: =TRIM(MADRE!A39) -> Acacia Caven (Vachellia caven) Espinillo | B14: ="🌱 "&UPPER(TRIM(MADRE!A39))&CHAR(10)&CHAR(10)&"📏 "&TRIM(MADRE!A40)&CHAR(10)&"💰 "&IF(MADRE!D40="","",IF(MADRE!D40<1000,TEXT(MADRE!D40,"0"),IF(MADRE!D40<1000000,LEFT(TEXT(MADRE!D40,"0"),LEN(TEXT(MADRE!D40,"0"))-3)&"."&RIGHT(TEXT(MADRE!D40,"0"),3),LEFT(TEXT(MADRE!D40,"0"),LEN(TEXT(MADRE!D40,"0"))-6)&"."&MID(TEXT(MADRE!D40,"0"),LEN(TEXT(MADRE!D40,"0"))-5,3)&"."&RIGHT(TEXT(MADRE!D40,"0"),3))))&CHAR(10)&CHAR(10)&"📏 "&TRIM(MADRE!A41)&CHAR(10)&"💰 "&IF(MADRE!D41="","",IF(MADRE!D41<1000,TEXT(MADRE!D41,"0"),IF(MADRE!D41<1000000,LEFT(TEXT(MADRE!D41,"0"),LEN(TEXT(MADRE!D41,"0"))-3)&"."&RIGHT(TEXT(MADRE!D41,"0"),3),LEFT(TEXT(MADRE!D41,"0"),LEN(TEXT(MADRE!D41,"0"))-6)&"."&MID(TEXT(MADRE!D41,"0"),LEN(TEXT(MADRE!D41,"0"))-5,3)&"."&RIGHT(TEXT(MADRE!D41,"0"),3)))) -> 🌱 ACACIA CAVEN (VACHELLIA CAVEN) ESPINILLO 📏 120-150cm E. 4lts 💰 28.083 📏 150-180cm E. 10lts 💰 40.000
A15: =TRIM(MADRE!A42) -> Acacia floribunda. | B15: ="🌱 "&UPPER(TRIM(MADRE!A42))&CHAR(10)&CHAR(10)&"📏 "&TRIM(MADRE!A43)&CHAR(10)&"💰 "&IF(MADRE!D43="","",IF(MADRE!D43<1000,TEXT(MADRE!D43,"0"),IF(MADRE!D43<1000000,LEFT(TEXT(MADRE!D43,"0"),LEN(TEXT(MADRE!D43,"0"))-3)&"."&RIGHT(TEXT(MADRE!D43,"0"),3),LEFT(TEXT(MADRE!D43,"0"),LEN(TEXT(MADRE!D43,"0"))-6)&"."&MID(TEXT(MADRE!D43,"0"),LEN(TEXT(MADRE!D43,"0"))-5,3)&"."&RIGHT(TEXT(MADRE!D43,"0"),3))))&CHAR(10)&CHAR(10)&"📏 "&TRIM(MADRE!A44)&CHAR(10)&"💰 "&IF(MADRE!D44="","",IF(MADRE!D44<1000,TEXT(MADRE!D44,"0"),IF(MADRE!D44<1000000,LEFT(TEXT(MADRE!D44,"0"),LEN(TEXT(MADRE!D44,"0"))-3)&"."&RIGHT(TEXT(MADRE!D44,"0"),3),LEFT(TEXT(MADRE!D44,"0"),LEN(TEXT(MADRE!D44,"0"))-6)&"."&MID(TEXT(MADRE!D44,"0"),LEN(TEXT(MADRE!D44,"0"))-5,3)&"."&RIGHT(TEXT(MADRE!D44,"0"),3)))) -> 🌱 ACACIA FLORIBUNDA. 📏 150-180 cm. E. 4 lts 💰 28.083 📏 180-210cm. .. E. 10lts 💰 58.608
A16: =TRIM(MADRE!A45) -> Acacia frisia (Robinia pseudoacacia aurea). Inj. | B16: ="🌱 "&UPPER(TRIM(MADRE!A45))&CHAR(10)&CHAR(10)&"📏 "&TRIM(MADRE!A46)&CHAR(10)&"💰 "&IF(MADRE!D46="","",IF(MADRE!D46<1000,TEXT(MADRE!D46,"0"),IF(MADRE!D46<1000000,LEFT(TEXT(MADRE!D46,"0"),LEN(TEXT(MADRE!D46,"0"))-3)&"."&RIGHT(TEXT(MADRE!D46,"0"),3),LEFT(TEXT(MADRE!D46,"0"),LEN(TEXT(MADRE!D46,"0"))-6)&"."&MID(TEXT(MADRE!D46,"0"),LEN(TEXT(MADRE!D46,"0"))-5,3)&"."&RIGHT(TEXT(MADRE!D46,"0"),3))))&CHAR(10)&CHAR(10)&"📏 "&TRIM(MADRE!A47)&CHAR(10)&"💰 "&IF(MADRE!D47="","",IF(MADRE!D47<1000,TEXT(MADRE!D47,"0"),IF(MADRE!D47<1000000,LEFT(TEXT(MADRE!D47,"0"),LEN(TEXT(MADRE!D47,"0"))-3)&"."&RIGHT(TEXT(MADRE!D47,"0"),3),LEFT(TEXT(MADRE!D47,"0"),LEN(TEXT(MADRE!D47,"0"))-6)&"."&MID(TEXT(MADRE!D47,"0"),LEN(TEXT(MADRE!D47,"0"))-5,3)&"."&RIGHT(TEXT(MADRE!D47,"0"),3))))&CHAR(10)&CHAR(10)&"📏 "&TRIM(MADRE!A48)&CHAR(10)&"💰 "&IF(MADRE!D48="","",IF(MADRE!D48<1000,TEXT(MADRE!D48,"0"),IF(MADRE!D48<1000000,LEFT(TEXT(MADRE!D48,"0"),LEN(TEXT(MADRE!D48,"0"))-3)&"."&RIGHT(TEXT(MADRE!D48,"0"),3),LEFT(TEXT(MADRE!D48,"0"),LEN(TEXT(MADRE!D48,"0"))-6)&"."&MID(TEXT(MADRE!D48,"0"),LEN(TEXT(MADRE!D48,"0"))-5,3)&"."&RIGHT(TEXT(MADRE!D48,"0"),3)))) -> 🌱 ACACIA FRISIA (ROBINIA PSEUDOACACIA AUREA). INJ. 📏 Injertado. Con copa, 6-8 cm circunsferencia de tronco. E. 10 lts. 💰 58.608 📏 Inj. Con copa, 8-10 cm E. 15 lts. 💰 67.155 📏 inj. Con copa 10-12cm 💰 85.470
A17: =TRIM(MADRE!A49) -> Acacia Leucante | B17: ="🌱 "&UPPER(TRIM(MADRE!A49))&CHAR(10)&CHAR(10)&"📏 "&TRIM(MADRE!A50)&CHAR(10)&"💰 "&IF(MADRE!D50="","",IF(MADRE!D50<1000,TEXT(MADRE!D50,"0"),IF(MADRE!D50<1000000,LEFT(TEXT(MADRE!D50,"0"),LEN(TEXT(MADRE!D50,"0"))-3)&"."&RIGHT(TEXT(MADRE!D50,"0"),3),LEFT(TEXT(MADRE!D50,"0"),LEN(TEXT(MADRE!D50,"0"))-6)&"."&MID(TEXT(MADRE!D50,"0"),LEN(TEXT(MADRE!D50,"0"))-5,3)&"."&RIGHT(TEXT(MADRE!D50,"0"),3))))&CHAR(10)&CHAR(10)&"📏 "&TRIM(MADRE!A51)&CHAR(10)&"💰 "&IF(MADRE!D51="","",IF(MADRE!D51<1000,TEXT(MADRE!D51,"0"),IF(MADRE!D51<1000000,LEFT(TEXT(MADRE!D51,"0"),LEN(TEXT(MADRE!D51,"0"))-3)&"."&RIGHT(TEXT(MADRE!D51,"0"),3),LEFT(TEXT(MADRE!D51,"0"),LEN(TEXT(MADRE!D51,"0"))-6)&"."&MID(TEXT(MADRE!D51,"0"),LEN(TEXT(MADRE!D51,"0"))-5,3)&"."&RIGHT(TEXT(MADRE!D51,"0"),3)))) -> 🌱 ACACIA LEUCANTE 📏 150-180cm E. 4lts 💰 28.083 📏 180-210cm E. 10lts 💰 58.608
A18: =TRIM(MADRE!A52) -> Acacia Longifolia | B18: ="🌱 "&UPPER(TRIM(MADRE!A52))&CHAR(10)&CHAR(10)&"📏 "&TRIM(MADRE!A53)&CHAR(10)&"💰 "&IF(MADRE!D53="","",IF(MADRE!D53<1000,TEXT(MADRE!D53,"0"),IF(MADRE!D53<1000000,LEFT(TEXT(MADRE!D53,"0"),LEN(TEXT(MADRE!D53,"0"))-3)&"."&RIGHT(TEXT(MADRE!D53,"0"),3),LEFT(TEXT(MADRE!D53,"0"),LEN(TEXT(MADRE!D53,"0"))-6)&"."&MID(TEXT(MADRE!D53,"0"),LEN(TEXT(MADRE!D53,"0"))-5,3)&"."&RIGHT(TEXT(MADRE!D53,"0"),3))))&CHAR(10)&CHAR(10)&"📏 "&TRIM(MADRE!A54)&CHAR(10)&"💰 "&IF(MADRE!D54="","",IF(MADRE!D54<1000,TEXT(MADRE!D54,"0"),IF(MADRE!D54<1000000,LEFT(TEXT(MADRE!D54,"0"),LEN(TEXT(MADRE!D54,"0"))-3)&"."&RIGHT(TEXT(MADRE!D54,"0"),3),LEFT(TEXT(MADRE!D54,"0"),LEN(TEXT(MADRE!D54,"0"))-6)&"."&MID(TEXT(MADRE!D54,"0"),LEN(TEXT(MADRE!D54,"0"))-5,3)&"."&RIGHT(TEXT(MADRE!D54,"0"),3))))&CHAR(10)&CHAR(10)&"📏 "&TRIM(MADRE!A55)&CHAR(10)&"💰 "&IF(MADRE!D55="","",IF(MADRE!D55<1000,TEXT(MADRE!D55,"0"),IF(MADRE!D55<1000000,LEFT(TEXT(MADRE!D55,"0"),LEN(TEXT(MADRE!D55,"0"))-3)&"."&RIGHT(TEXT(MADRE!D55,"0"),3),LEFT(TEXT(MADRE!D55,"0"),LEN(TEXT(MADRE!D55,"0"))-6)&"."&MID(TEXT(MADRE!D55,"0"),LEN(TEXT(MADRE!D55,"0"))-5,3)&"."&RIGHT(TEXT(MADRE!D55,"0"),3))))&CHAR(10)&CHAR(10)&"📏 "&TRIM(MADRE!A56)&CHAR(10)&"💰 "&IF(MADRE!D56="","",IF(MADRE!D56<1000,TEXT(MADRE!D56,"0"),IF(MADRE!D56<1000000,LEFT(TEXT(MADRE!D56,"0"),LEN(TEXT(MADRE!D56,"0"))-3)&"."&RIGHT(TEXT(MADRE!D56,"0"),3),LEFT(TEXT(MADRE!D56,"0"),LEN(TEXT(MADRE!D56,"0"))-6)&"."&MID(TEXT(MADRE!D56,"0"),LEN(TEXT(MADRE!D56,"0"))-5,3)&"."&RIGHT(TEXT(MADRE!D56,"0"),3)))) -> 🌱 ACACIA LONGIFOLIA 📏 E. 4lts 150-180cm 💰 28.083 📏 E. 4lts 180-210cm 💰 35.409 📏 E. 10lts 210-250cm 💰 58.608 📏 E. 20lts 250-300cm 💰 79.365
A19: =TRIM(MADRE!A57) -> Acacia melanoxylon (A. Australiana). | B19: ="🌱 "&UPPER(TRIM(MADRE!A57))&CHAR(10)&CHAR(10)&"📏 "&TRIM(MADRE!A58)&CHAR(10)&"💰 "&IF(MADRE!D58="","",IF(MADRE!D58<1000,TEXT(MADRE!D58,"0"),IF(MADRE!D58<1000000,LEFT(TEXT(MADRE!D58,"0"),LEN(TEXT(MADRE!D58,"0"))-3)&"."&RIGHT(TEXT(MADRE!D58,"0"),3),LEFT(TEXT(MADRE!D58,"0"),LEN(TEXT(MADRE!D58,"0"))-6)&"."&MID(TEXT(MADRE!D58,"0"),LEN(TEXT(MADRE!D58,"0"))-5,3)&"."&RIGHT(TEXT(MADRE!D58,"0"),3))))&CHAR(10)&CHAR(10)&"📏 "&TRIM(MADRE!A59)&CHAR(10)&"💰 "&IF(MADRE!D59="","",IF(MADRE!D59<1000,TEXT(MADRE!D59,"0"),IF(MADRE!D59<1000000,LEFT(TEXT(MADRE!D59,"0"),LEN(TEXT(MADRE!D59,"0"))-3)&"."&RIGHT(TEXT(MADRE!D59,"0"),3),LEFT(TEXT(MADRE!D59,"0"),LEN(TEXT(MADRE!D59,"0"))-6)&"."&MID(TEXT(MADRE!D59,"0"),LEN(TEXT(MADRE!D59,"0"))-5,3)&"."&RIGHT(TEXT(MADRE!D59,"0"),3))))&CHAR(10)&CHAR(10)&"📏 "&TRIM(MADRE!A60)&CHAR(10)&"💰 "&IF(MADRE!D60="","",IF(MADRE!D60<1000,TEXT(MADRE!D60,"0"),IF(MADRE!D60<1000000,LEFT(TEXT(MADRE!D60,"0"),LEN(TEXT(MADRE!D60,"0"))-3)&"."&RIGHT(TEXT(MADRE!D60,"0"),3),LEFT(TEXT(MADRE!D60,"0"),LEN(TEXT(MADRE!D60,"0"))-6)&"."&MID(TEXT(MADRE!D60,"0"),LEN(TEXT(MADRE!D60,"0"))-5,3)&"."&RIGHT(TEXT(MADRE!D60,"0"),3))))&CHAR(10)&CHAR(10)&"📏 "&TRIM(MADRE!A61)&CHAR(10)&"💰 "&IF(MADRE!D61="","",IF(MADRE!D61<1000,TEXT(MADRE!D61,"0"),IF(MADRE!D61<1000000,LEFT(TEXT(MADRE!D61,"0"),LEN(TEXT(MADRE!D61,"0"))-3)&"."&RIGHT(TEXT(MADRE!D61,"0"),3),LEFT(TEXT(MADRE!D61,"0"),LEN(TEXT(MADRE!D61,"0"))-6)&"."&MID(TEXT(MADRE!D61,"0"),LEN(TEXT(MADRE!D61,"0"))-5,3)&"."&RIGHT(TEXT(MADRE!D61,"0"),3)))) -> 🌱 ACACIA MELANOXYLON (A. AUSTRALIANA). 📏 150-180 cm de altura. E. 4 lts 💰 28.083 📏 180-210 cm. E. 4 lts 💰 35.409 📏 210-250 cm E10 lts 💰 58.608 📏 250-300cm E 20lts 💰 78.144
A20: =TRIM(MADRE!A8) -> Abedul ( Betula alba). | B20: ="🌱 "&UPPER(TRIM(MADRE!A8))&CHAR(10)&CHAR(10)&"📏 "&TRIM(MADRE!A9)&CHAR(10)&CHAR(10)&"💰 "&IF(MADRE!D9="","",IF(MADRE!D9<1000,TEXT(MADRE!D9,"0"),IF(MADRE!D9<1000000,LEFT(TEXT(MADRE!D9,"0"),LEN(TEXT(MADRE!D9,"0"))-3)&"."&RIGHT(TEXT(MADRE!D9,"0"),3),LEFT(TEXT(MADRE!D9,"0"),LEN(TEXT(MADRE!D9,"0"))-6)&"."&MID(TEXT(MADRE!D9,"0"),LEN(TEXT(MADRE!D9,"0"))-5,3)&"."&RIGHT(TEXT(MADRE!D9,"0"),3))))&CHAR(10)&CHAR(10)&"📏 "&TRIM(MADRE!A10)&CHAR(10)&CHAR(10)&"💰 "&IF(MADRE!D10="","",IF(MADRE!D10<1000,TEXT(MADRE!D10,"0"),IF(MADRE!D10<1000000,LEFT(TEXT(MADRE!D10,"0"),LEN(TEXT(MADRE!D10,"0"))-3)&"."&RIGHT(TEXT(MADRE!D10,"0"),3),LEFT(TEXT(MADRE!D10,"0"),LEN(TEXT(MADRE!D10,"0"))-6)&"."&MID(TEXT(MADRE!D10,"0"),LEN(TEXT(MADRE!D10,"0"))-5,3)&"."&RIGHT(TEXT(MADRE!D10,"0"),3)))) -> 🌱 ABEDUL ( BETULA ALBA). 📏 120-150 cm de altura E, 10 lts 💰 39.072 📏 180-210 cm de altura E. 20 lts 💰 109.890 | D20: =B20 -> 🌱 ABEDUL ( BETULA ALBA). 📏 120-150 cm de altura E, 10 lts 💰 39.072 📏 180-210 cm de altura E. 20 lts 💰 109.890
A21: =TRIM(MADRE!A11) -> Abelia grandiflora. | B21: ="🌱 "&UPPER(TRIM(MADRE!A11))&CHAR(10)&CHAR(10)&"📏 "&TRIM(MADRE!A12)&CHAR(10)&CHAR(10)&"💰 "&IF(MADRE!D12="","",IF(MADRE!D12<1000,TEXT(MADRE!D12,"0"),IF(MADRE!D12<1000000,LEFT(TEXT(MADRE!D12,"0"),LEN(TEXT(MADRE!D12,"0"))-3)&"."&RIGHT(TEXT(MADRE!D12,"0"),3),LEFT(TEXT(MADRE!D12,"0"),LEN(TEXT(MADRE!D12,"0"))-6)&"."&MID(TEXT(MADRE!D12,"0"),LEN(TEXT(MADRE!D12,"0"))-5,3)&"."&RIGHT(TEXT(MADRE!D12,"0"),3))))&CHAR(10)&CHAR(10)&"📏 "&TRIM(MADRE!A13)&CHAR(10)&CHAR(10)&"💰 "&IF(MADRE!D13="","",IF(MADRE!D13<1000,TEXT(MADRE!D13,"0"),IF(MADRE!D13<1000000,LEFT(TEXT(MADRE!D13,"0"),LEN(TEXT(MADRE!D13,"0"))-3)&"."&RIGHT(TEXT(MADRE!D13,"0"),3),LEFT(TEXT(MADRE!D13,"0"),LEN(TEXT(MADRE!D13,"0"))-6)&"."&MID(TEXT(MADRE!D13,"0"),LEN(TEXT(MADRE!D13,"0"))-5,3)&"."&RIGHT(TEXT(MADRE!D13,"0"),3))))&CHAR(10)&CHAR(10)&"📏 "&TRIM(MADRE!A14)&CHAR(10)&CHAR(10)&"💰 "&IF(MADRE!D14="","",IF(MADRE!D14<1000,TEXT(MADRE!D14,"0"),IF(MADRE!D14<1000000,LEFT(TEXT(MADRE!D14,"0"),LEN(TEXT(MADRE!D14,"0"))-3)&"."&RIGHT(TEXT(MADRE!D14,"0"),3),LEFT(TEXT(MADRE!D14,"0"),LEN(TEXT(MADRE!D14,"0"))-6)&"."&MID(TEXT(MADRE!D14,"0"),LEN(TEXT(MADRE!D14,"0"))-5,3)&"."&RIGHT(TEXT(MADRE!D14,"0"),3))))&CHAR(10)&CHAR(10)&"📏 "&TRIM(MADRE!A15)&CHAR(10)&CHAR(10)&"💰 "&IF(MADRE!D15="","",IF(MADRE!D15<1000,TEXT(MADRE!D15,"0"),IF(MADRE!D15<1000000,LEFT(TEXT(MADRE!D15,"0"),LEN(TEXT(MADRE!D15,"0"))-3)&"."&RIGHT(TEXT(MADRE!D15,"0"),3),LEFT(TEXT(MADRE!D15,"0"),LEN(TEXT(MADRE!D15,"0"))-6)&"."&MID(TEXT(MADRE!D15,"0"),LEN(TEXT(MADRE!D15,"0"))-5,3)&"."&RIGHT(TEXT(MADRE!D15,"0"),3)))) -> 🌱 ABELIA GRANDIFLORA. 📏 E. 4 lts 💰 12.232 📏 E. 10 lts 💰 27.000 📏 E. 15 lts 💰 36.500 📏 E. 20 lts 💰 49.000 | D21: =B21 -> 🌱 ABELIA GRANDIFLORA. 📏 E. 4 lts 💰 12.232 📏 E. 10 lts 💰 27.000 📏 E. 15 lts 💰 36.500 📏 E. 20 lts 💰 49.000
A22: =TRIM(MADRE!A16) -> Abelia grandiflora compacta (enana). | B22: ="🌱 "&UPPER(TRIM(MADRE!A16))&CHAR(10)&CHAR(10)&"📏 "&TRIM(MADRE!A17)&CHAR(10)&CHAR(10)&"💰 "&IF(MADRE!D17="","",IF(MADRE!D17<1000,TEXT(MADRE!D17,"0"),IF(MADRE!D17<1000000,LEFT(TEXT(MADRE!D17,"0"),LEN(TEXT(MADRE!D17,"0"))-3)&"."&RIGHT(TEXT(MADRE!D17,"0"),3),LEFT(TEXT(MADRE!D17,"0"),LEN(TEXT(MADRE!D17,"0"))-6)&"."&MID(TEXT(MADRE!D17,"0"),LEN(TEXT(MADRE!D17,"0"))-5,3)&"."&RIGHT(TEXT(MADRE!D17,"0"),3))))&CHAR(10)&CHAR(10)&"📏 "&TRIM(MADRE!A18)&CHAR(10)&CHAR(10)&"💰 "&IF(MADRE!D18="","",IF(MADRE!D18<1000,TEXT(MADRE!D18,"0"),IF(MADRE!D18<1000000,LEFT(TEXT(MADRE!D18,"0"),LEN(TEXT(MADRE!D18,"0"))-3)&"."&RIGHT(TEXT(MADRE!D18,"0"),3),LEFT(TEXT(MADRE!D18,"0"),LEN(TEXT(MADRE!D18,"0"))-6)&"."&MID(TEXT(MADRE!D18,"0"),LEN(TEXT(MADRE!D18,"0"))-5,3)&"."&RIGHT(TEXT(MADRE!D18,"0"),3)))) -> 🌱 ABELIA GRANDIFLORA COMPACTA (ENANA). 📏 E. 4 lts 💰 12.232 📏 E. 10 lts 💰 27.000 | D22: =B22 -> 🌱 ABELIA GRANDIFLORA COMPACTA (ENANA). 📏 E. 4 lts 💰 12.232 📏 E. 10 lts 💰 27.000
A23: =TRIM(MADRE!A19) -> Acacia bayleyana rubra. Inj. | B23: ="🌱 "&UPPER(TRIM(MADRE!A19))&CHAR(10)&CHAR(10)&"📏 "&TRIM(MADRE!A20)&CHAR(10)&CHAR(10)&"💰 "&IF(MADRE!D20="","",IF(MADRE!D20<1000,TEXT(MADRE!D20,"0"),IF(MADRE!D20<1000000,LEFT(TEXT(MADRE!D20,"0"),LEN(TEXT(MADRE!D20,"0"))-3)&"."&RIGHT(TEXT(MADRE!D20,"0"),3),LEFT(TEXT(MADRE!D20,"0"),LEN(TEXT(MADRE!D20,"0"))-6)&"."&MID(TEXT(MADRE!D20,"0"),LEN(TEXT(MADRE!D20,"0"))-5,3)&"."&RIGHT(TEXT(MADRE!D20,"0"),3))))&CHAR(10)&CHAR(10)&"📏 "&TRIM(MADRE!A21)&CHAR(10)&CHAR(10)&"💰 "&IF(MADRE!D21="","",IF(MADRE!D21<1000,TEXT(MADRE!D21,"0"),IF(MADRE!D21<1000000,LEFT(TEXT(MADRE!D21,"0"),LEN(TEXT(MADRE!D21,"0"))-3)&"."&RIGHT(TEXT(MADRE!D21,"0"),3),LEFT(TEXT(MADRE!D21,"0"),LEN(TEXT(MADRE!D21,"0"))-6)&"."&MID(TEXT(MADRE!D21,"0"),LEN(TEXT(MADRE!D21,"0"))-5,3)&"."&RIGHT(TEXT(MADRE!D21,"0"),3)))) -> 🌱 ACACIA BAYLEYANA RUBRA. INJ. 📏 Injertada 80 cm de altura E. 4 lts 💰 53.724 📏 Inj. 120-150 cm. E. 4 lts 💰 58.608 | D23: =B23 -> 🌱 ACACIA BAYLEYANA RUBRA. INJ. 📏 Injertada 80 cm de altura E. 4 lts 💰 53.724 📏 Inj. 120-150 cm. E. 4 lts 💰 58.608
A24: =TRIM(MADRE!A22) -> Acacia blanca (Robinia pseudoacicia). | B24: ="🌱 "&UPPER(TRIM(MADRE!A22))&CHAR(10)&CHAR(10)&"📏 "&TRIM(MADRE!A23)&CHAR(10)&CHAR(10)&"💰 "&IF(MADRE!D23="","",IF(MADRE!D23<1000,TEXT(MADRE!D23,"0"),IF(MADRE!D23<1000000,LEFT(TEXT(MADRE!D23,"0"),LEN(TEXT(MADRE!D23,"0"))-3)&"."&RIGHT(TEXT(MADRE!D23,"0"),3),LEFT(TEXT(MADRE!D23,"0"),LEN(TEXT(MADRE!D23,"0"))-6)&"."&MID(TEXT(MADRE!D23,"0"),LEN(TEXT(MADRE!D23,"0"))-5,3)&"."&RIGHT(TEXT(MADRE!D23,"0"),3))))&CHAR(10)&CHAR(10)&"📏 "&TRIM(MADRE!A24)&CHAR(10)&CHAR(10)&"💰 "&IF(MADRE!D24="","",IF(MADRE!D24<1000,TEXT(MADRE!D24,"0"),IF(MADRE!D24<1000000,LEFT(TEXT(MADRE!D24,"0"),LEN(TEXT(MADRE!D24,"0"))-3)&"."&RIGHT(TEXT(MADRE!D24,"0"),3),LEFT(TEXT(MADRE!D24,"0"),LEN(TEXT(MADRE!D24,"0"))-6)&"."&MID(TEXT(MADRE!D24,"0"),LEN(TEXT(MADRE!D24,"0"))-5,3)&"."&RIGHT(TEXT(MADRE!D24,"0"),3))))&CHAR(10)&CHAR(10)&"📏 "&TRIM(MADRE!A25)&CHAR(10)&CHAR(10)&"💰 "&IF(MADRE!D25="","",IF(MADRE!D25<1000,TEXT(MADRE!D25,"0"),IF(MADRE!D25<1000000,LEFT(TEXT(MADRE!D25,"0"),LEN(TEXT(MADRE!D25,"0"))-3)&"."&RIGHT(TEXT(MADRE!D25,"0"),3),LEFT(TEXT(MADRE!D25,"0"),LEN(TEXT(MADRE!D25,"0"))-6)&"."&MID(TEXT(MADRE!D25,"0"),LEN(TEXT(MADRE!D25,"0"))-5,3)&"."&RIGHT(TEXT(MADRE!D25,"0"),3)))) -> 🌱 ACACIA BLANCA (ROBINIA PSEUDOACICIA). 📏 150-180 cm. E. 4 lts 💰 36.630 📏 180-210cm E. 10 lts 💰 61.050 📏 220-250cm E.. 15lts 💰 79.365 | D24: =B24 -> 🌱 ACACIA BLANCA (ROBINIA PSEUDOACICIA). 📏 150-180 cm. E. 4 lts 💰 36.630 📏 180-210cm E. 10 lts 💰 61.050 📏 220-250cm E.. 15lts 💰 79.365
A25: =TRIM(MADRE!A26) -> Acacia bola (Robinia pseudoacacia umbracuculifera). Inj. | B25: ="🌱 "&UPPER(TRIM(MADRE!A26))&CHAR(10)&CHAR(10)&"📏 "&TRIM(MADRE!A27)&CHAR(10)&CHAR(10)&"💰 "&IF(MADRE!D27="","",IF(MADRE!D27<1000,TEXT(MADRE!D27,"0"),IF(MADRE!D27<1000000,LEFT(TEXT(MADRE!D27,"0"),LEN(TEXT(MADRE!D27,"0"))-3)&"."&RIGHT(TEXT(MADRE!D27,"0"),3),LEFT(TEXT(MADRE!D27,"0"),LEN(TEXT(MADRE!D27,"0"))-6)&"."&MID(TEXT(MADRE!D27,"0"),LEN(TEXT(MADRE!D27,"0"))-5,3)&"."&RIGHT(TEXT(MADRE!D27,"0"),3))))&CHAR(10)&CHAR(10)&"📏 "&TRIM(MADRE!A28)&CHAR(10)&CHAR(10)&"💰 "&IF(MADRE!D28="","",IF(MADRE!D28<1000,TEXT(MADRE!D28,"0"),IF(MADRE!D28<1000000,LEFT(TEXT(MADRE!D28,"0"),LEN(TEXT(MADRE!D28,"0"))-3)&"."&RIGHT(TEXT(MADRE!D28,"0"),3),LEFT(TEXT(MADRE!D28,"0"),LEN(TEXT(MADRE!D28,"0"))-6)&"."&MID(TEXT(MADRE!D28,"0"),LEN(TEXT(MADRE!D28,"0"))-5,3)&"."&RIGHT(TEXT(MADRE!D28,"0"),3))))&CHAR(10)&CHAR(10)&"📏 "&TRIM(MADRE!A29)&CHAR(10)&CHAR(10)&"💰 "&IF(MADRE!D29="","",IF(MADRE!D29<1000,TEXT(MADRE!D29,"0"),IF(MADRE!D29<1000000,LEFT(TEXT(MADRE!D29,"0"),LEN(TEXT(MADRE!D29,"0"))-3)&"."&RIGHT(TEXT(MADRE!D29,"0"),3),LEFT(TEXT(MADRE!D29,"0"),LEN(TEXT(MADRE!D29,"0"))-6)&"."&MID(TEXT(MADRE!D29,"0"),LEN(TEXT(MADRE!D29,"0"))-5,3)&"."&RIGHT(TEXT(MADRE!D29,"0"),3)))) -> 🌱 ACACIA BOLA (ROBINIA PSEUDOACACIA UMBRACUCULIFERA). INJ. 📏 Inj. A 200 cm de altura, Con copa, 6-8 cm circunsferencia de tronco. E. 10 lts. 💰 58.608 📏 Inj, a 200 cm. Con copa, 8-10 cm E. 15 lts. 💰 67.155 📏 inj a 200cm con copa, 10-12cm circunsf. 20lts 💰 85.470 | D25: =B25 -> 🌱 ACACIA BOLA (ROBINIA PSEUDOACACIA UMBRACUCULIFERA). INJ. 📏 Inj. A 200 cm de altura, Con copa, 6-8 cm circunsferencia de tronco. E. 10 lts. 💰 58.608 📏 Inj, a 200 cm. Con copa, 8-10 cm E. 15 lts. 💰 67.155 📏 inj a 200cm con copa, 10-12cm circunsf. 20lts 💰 85.470
A26: =TRIM(MADRE!A30) -> Acacia casque rouge (Robinia pseudoacacia). Inj. | B26: ="🌱 "&UPPER(TRIM(MADRE!A30))&CHAR(10)&CHAR(10)&"📏 "&TRIM(MADRE!A31)&CHAR(10)&CHAR(10)&"💰 "&IF(MADRE!D31="","",IF(MADRE!D31<1000,TEXT(MADRE!D31,"0"),IF(MADRE!D31<1000000,LEFT(TEXT(MADRE!D31,"0"),LEN(TEXT(MADRE!D31,"0"))-3)&"."&RIGHT(TEXT(MADRE!D31,"0"),3),LEFT(TEXT(MADRE!D31,"0"),LEN(TEXT(MADRE!D31,"0"))-6)&"."&MID(TEXT(MADRE!D31,"0"),LEN(TEXT(MADRE!D31,"0"))-5,3)&"."&RIGHT(TEXT(MADRE!D31,"0"),3))))&CHAR(10)&CHAR(10)&"📏 "&TRIM(MADRE!A32)&CHAR(10)&CHAR(10)&"💰 "&IF(MADRE!D32="","",IF(MADRE!D32<1000,TEXT(MADRE!D32,"0"),IF(MADRE!D32<1000000,LEFT(TEXT(MADRE!D32,"0"),LEN(TEXT(MADRE!D32,"0"))-3)&"."&RIGHT(TEXT(MADRE!D32,"0"),3),LEFT(TEXT(MADRE!D32,"0"),LEN(TEXT(MADRE!D32,"0"))-6)&"."&MID(TEXT(MADRE!D32,"0"),LEN(TEXT(MADRE!D32,"0"))-5,3)&"."&RIGHT(TEXT(MADRE!D32,"0"),3)))) -> 🌱 ACACIA CASQUE ROUGE (ROBINIA PSEUDOACACIA). INJ. 📏 Inj. 200cm de altura Con copa, 8-10 cm de circunsferencia de tronco. E. 15 lts. 💰 67.155 📏 Inj. Con copa, 10-12 cm E. 20 lts. 💰 78.144 | D26: =B26 -> 🌱 ACACIA CASQUE ROUGE (ROBINIA PSEUDOACACIA). INJ. 📏 Inj. 200cm de altura Con copa, 8-10 cm de circunsferencia de tronco. E. 15 lts. 💰 67.155 📏 Inj. Con copa, 10-12 cm E. 20 lts. 💰 78.144
A27: =TRIM(MADRE!A33) -> Acacia constantinopla (Albizzia julibrissin). | B27: ="🌱 "&UPPER(TRIM(MADRE!A33))&CHAR(10)&CHAR(10)&"📏 "&TRIM(MADRE!A34)&CHAR(10)&CHAR(10)&"💰 "&IF(MADRE!D34="","",IF(MADRE!D34<1000,TEXT(MADRE!D34,"0"),IF(MADRE!D34<1000000,LEFT(TEXT(MADRE!D34,"0"),LEN(TEXT(MADRE!D34,"0"))-3)&"."&RIGHT(TEXT(MADRE!D34,"0"),3),LEFT(TEXT(MADRE!D34,"0"),LEN(TEXT(MADRE!D34,"0"))-6)&"."&MID(TEXT(MADRE!D34,"0"),LEN(TEXT(MADRE!D34,"0"))-5,3)&"."&RIGHT(TEXT(MADRE!D34,"0"),3))))&CHAR(10)&CHAR(10)&"📏 "&TRIM(MADRE!A35)&CHAR(10)&CHAR(10)&"💰 "&IF(MADRE!D35="","",IF(MADRE!D35<1000,TEXT(MADRE!D35,"0"),IF(MADRE!D35<1000000,LEFT(TEXT(MADRE!D35,"0"),LEN(TEXT(MADRE!D35,"0"))-3)&"."&RIGHT(TEXT(MADRE!D35,"0"),3),LEFT(TEXT(MADRE!D35,"0"),LEN(TEXT(MADRE!D35,"0"))-6)&"."&MID(TEXT(MADRE!D35,"0"),LEN(TEXT(MADRE!D35,"0"))-5,3)&"."&RIGHT(TEXT(MADRE!D35,"0"),3)))) -> 🌱 ACACIA CONSTANTINOPLA (ALBIZZIA JULIBRISSIN). 📏 con copa, 6-8 cm de circunsferencia de tronco. 180-210 cm de altura E. 15 lts 💰 67.155 📏 con copa, 8-10 cm. 210-250 cm E. 20 lts 💰 78.144 | D27: =B27 -> 🌱 ACACIA CONSTANTINOPLA (ALBIZZIA JULIBRISSIN). 📏 con copa, 6-8 cm de circunsferencia de tronco. 180-210 cm de altura E. 15 lts 💰 67.155 📏 con copa, 8-10 cm. 210-250 cm E. 20 lts 💰 78.144
A28: =TRIM(MADRE!A36) -> Acacia dealbata (Aromo frances). | B28: ="🌱 "&UPPER(TRIM(MADRE!A36))&CHAR(10)&CHAR(10)&"📏 "&TRIM(MADRE!A37)&CHAR(10)&CHAR(10)&"💰 "&IF(MADRE!D37="","",IF(MADRE!D37<1000,TEXT(MADRE!D37,"0"),IF(MADRE!D37<1000000,LEFT(TEXT(MADRE!D37,"0"),LEN(TEXT(MADRE!D37,"0"))-3)&"."&RIGHT(TEXT(MADRE!D37,"0"),3),LEFT(TEXT(MADRE!D37,"0"),LEN(TEXT(MADRE!D37,"0"))-6)&"."&MID(TEXT(MADRE!D37,"0"),LEN(TEXT(MADRE!D37,"0"))-5,3)&"."&RIGHT(TEXT(MADRE!D37,"0"),3))))&CHAR(10)&CHAR(10)&"📏 "&TRIM(MADRE!A38)&CHAR(10)&CHAR(10)&"💰 "&IF(MADRE!D38="","",IF(MADRE!D38<1000,TEXT(MADRE!D38,"0"),IF(MADRE!D38<1000000,LEFT(TEXT(MADRE!D38,"0"),LEN(TEXT(MADRE!D38,"0"))-3)&"."&RIGHT(TEXT(MADRE!D38,"0"),3),LEFT(TEXT(MADRE!D38,"0"),LEN(TEXT(MADRE!D38,"0"))-6)&"."&MID(TEXT(MADRE!D38,"0"),LEN(TEXT(MADRE!D38,"0"))-5,3)&"."&RIGHT(TEXT(MADRE!D38,"0"),3)))) -> 🌱 ACACIA DEALBATA (AROMO FRANCES). 📏 con copa, 210-250 cm. E. 10 lts 💰 42.000 📏 con copa, 250 cm. E. 20 lts 💰 78.144 | D28: =B28 -> 🌱 ACACIA DEALBATA (AROMO FRANCES). 📏 con copa, 210-250 cm. E. 10 lts 💰 42.000 📏 con copa, 250 cm. E. 20 lts 💰 78.144
A29: =TRIM(MADRE!A39) -> Acacia Caven (Vachellia caven) Espinillo | B29: ="🌱 "&UPPER(TRIM(MADRE!A39))&CHAR(10)&CHAR(10)&"📏 "&TRIM(MADRE!A40)&CHAR(10)&CHAR(10)&"💰 "&IF(MADRE!D40="","",IF(MADRE!D40<1000,TEXT(MADRE!D40,"0"),IF(MADRE!D40<1000000,LEFT(TEXT(MADRE!D40,"0"),LEN(TEXT(MADRE!D40,"0"))-3)&"."&RIGHT(TEXT(MADRE!D40,"0"),3),LEFT(TEXT(MADRE!D40,"0"),LEN(TEXT(MADRE!D40,"0"))-6)&"."&MID(TEXT(MADRE!D40,"0"),LEN(TEXT(MADRE!D40,"0"))-5,3)&"."&RIGHT(TEXT(MADRE!D40,"0"),3))))&CHAR(10)&CHAR(10)&"📏 "&TRIM(MADRE!A41)&CHAR(10)&CHAR(10)&"💰 "&IF(MADRE!D41="","",IF(MADRE!D41<1000,TEXT(MADRE!D41,"0"),IF(MADRE!D41<1000000,LEFT(TEXT(MADRE!D41,"0"),LEN(TEXT(MADRE!D41,"0"))-3)&"."&RIGHT(TEXT(MADRE!D41,"0"),3),LEFT(TEXT(MADRE!D41,"0"),LEN(TEXT(MADRE!D41,"0"))-6)&"."&MID(TEXT(MADRE!D41,"0"),LEN(TEXT(MADRE!D41,"0"))-5,3)&"."&RIGHT(TEXT(MADRE!D41,"0"),3)))) -> 🌱 ACACIA CAVEN (VACHELLIA CAVEN) ESPINILLO 📏 120-150cm E. 4lts 💰 28.083 📏 150-180cm E. 10lts 💰 40.000 | D29: =B29 -> 🌱 ACACIA CAVEN (VACHELLIA CAVEN) ESPINILLO 📏 120-150cm E. 4lts 💰 28.083 📏 150-180cm E. 10lts 💰 40.000
A30: =TRIM(MADRE!A42) -> Acacia floribunda. | B30: ="🌱 "&UPPER(TRIM(MADRE!A42))&CHAR(10)&CHAR(10)&"📏 "&TRIM(MADRE!A43)&CHAR(10)&CHAR(10)&"💰 "&IF(MADRE!D43="","",IF(MADRE!D43<1000,TEXT(MADRE!D43,"0"),IF(MADRE!D43<1000000,LEFT(TEXT(MADRE!D43,"0"),LEN(TEXT(MADRE!D43,"0"))-3)&"."&RIGHT(TEXT(MADRE!D43,"0"),3),LEFT(TEXT(MADRE!D43,"0"),LEN(TEXT(MADRE!D43,"0"))-6)&"."&MID(TEXT(MADRE!D43,"0"),LEN(TEXT(MADRE!D43,"0"))-5,3)&"."&RIGHT(TEXT(MADRE!D43,"0"),3))))&CHAR(10)&CHAR(10)&"📏 "&TRIM(MADRE!A44)&CHAR(10)&CHAR(10)&"💰 "&IF(MADRE!D44="","",IF(MADRE!D44<1000,TEXT(MADRE!D44,"0"),IF(MADRE!D44<1000000,LEFT(TEXT(MADRE!D44,"0"),LEN(TEXT(MADRE!D44,"0"))-3)&"."&RIGHT(TEXT(MADRE!D44,"0"),3),LEFT(TEXT(MADRE!D44,"0"),LEN(TEXT(MADRE!D44,"0"))-6)&"."&MID(TEXT(MADRE!D44,"0"),LEN(TEXT(MADRE!D44,"0"))-5,3)&"."&RIGHT(TEXT(MADRE!D44,"0"),3)))) -> 🌱 ACACIA FLORIBUNDA. 📏 150-180 cm. E. 4 lts 💰 28.083 📏 180-210cm. .. E. 10lts 💰 58.608 | D30: =B30 -> 🌱 ACACIA FLORIBUNDA. 📏 150-180 cm. E. 4 lts 💰 28.083 📏 180-210cm. .. E. 10lts 💰 58.608
A31: =TRIM(MADRE!A45) -> Acacia frisia (Robinia pseudoacacia aurea). Inj. | B31: ="🌱 "&UPPER(TRIM(MADRE!A45))&CHAR(10)&CHAR(10)&"📏 "&TRIM(MADRE!A46)&CHAR(10)&CHAR(10)&"💰 "&IF(MADRE!D46="","",IF(MADRE!D46<1000,TEXT(MADRE!D46,"0"),IF(MADRE!D46<1000000,LEFT(TEXT(MADRE!D46,"0"),LEN(TEXT(MADRE!D46,"0"))-3)&"."&RIGHT(TEXT(MADRE!D46,"0"),3),LEFT(TEXT(MADRE!D46,"0"),LEN(TEXT(MADRE!D46,"0"))-6)&"."&MID(TEXT(MADRE!D46,"0"),LEN(TEXT(MADRE!D46,"0"))-5,3)&"."&RIGHT(TEXT(MADRE!D46,"0"),3))))&CHAR(10)&CHAR(10)&"📏 "&TRIM(MADRE!A47)&CHAR(10)&CHAR(10)&"💰 "&IF(MADRE!D47="","",IF(MADRE!D47<1000,TEXT(MADRE!D47,"0"),IF(MADRE!D47<1000000,LEFT(TEXT(MADRE!D47,"0"),LEN(TEXT(MADRE!D47,"0"))-3)&"."&RIGHT(TEXT(MADRE!D47,"0"),3),LEFT(TEXT(MADRE!D47,"0"),LEN(TEXT(MADRE!D47,"0"))-6)&"."&MID(TEXT(MADRE!D47,"0"),LEN(TEXT(MADRE!D47,"0"))-5,3)&"."&RIGHT(TEXT(MADRE!D47,"0"),3))))&CHAR(10)&CHAR(10)&"📏 "&TRIM(MADRE!A48)&CHAR(10)&CHAR(10)&"💰 "&IF(MADRE!D48="","",IF(MADRE!D48<1000,TEXT(MADRE!D48,"0"),IF(MADRE!D48<1000000,LEFT(TEXT(MADRE!D48,"0"),LEN(TEXT(MADRE!D48,"0"))-3)&"."&RIGHT(TEXT(MADRE!D48,"0"),3),LEFT(TEXT(MADRE!D48,"0"),LEN(TEXT(MADRE!D48,"0"))-6)&"."&MID(TEXT(MADRE!D48,"0"),LEN(TEXT(MADRE!D48,"0"))-5,3)&"."&RIGHT(TEXT(MADRE!D48,"0"),3)))) -> 🌱 ACACIA FRISIA (ROBINIA PSEUDOACACIA AUREA). INJ. 📏 Injertado. Con copa, 6-8 cm circunsferencia de tronco. E. 10 lts. 💰 58.608 📏 Inj. Con copa, 8-10 cm E. 15 lts. 💰 67.155 📏 inj. Con copa 10-12cm 💰 85.470 | D31: =B31 -> 🌱 ACACIA FRISIA (ROBINIA PSEUDOACACIA AUREA). INJ. 📏 Injertado. Con copa, 6-8 cm circunsferencia de tronco. E. 10 lts. 💰 58.608 📏 Inj. Con copa, 8-10 cm E. 15 lts. 💰 67.155 📏 inj. Con copa 10-12cm 💰 85.470
A32: =TRIM(MADRE!A49) -> Acacia Leucante | B32: ="🌱 "&UPPER(TRIM(MADRE!A49))&CHAR(10)&CHAR(10)&"📏 "&TRIM(MADRE!A50)&CHAR(10)&CHAR(10)&"💰 "&IF(MADRE!D50="","",IF(MADRE!D50<1000,TEXT(MADRE!D50,"0"),IF(MADRE!D50<1000000,LEFT(TEXT(MADRE!D50,"0"),LEN(TEXT(MADRE!D50,"0"))-3)&"."&RIGHT(TEXT(MADRE!D50,"0"),3),LEFT(TEXT(MADRE!D50,"0"),LEN(TEXT(MADRE!D50,"0"))-6)&"."&MID(TEXT(MADRE!D50,"0"),LEN(TEXT(MADRE!D50,"0"))-5,3)&"."&RIGHT(TEXT(MADRE!D50,"0"),3))))&CHAR(10)&CHAR(10)&"📏 "&TRIM(MADRE!A51)&CHAR(10)&CHAR(10)&"💰 "&IF(MADRE!D51="","",IF(MADRE!D51<1000,TEXT(MADRE!D51,"0"),IF(MADRE!D51<1000000,LEFT(TEXT(MADRE!D51,"0"),LEN(TEXT(MADRE!D51,"0"))-3)&"."&RIGHT(TEXT(MADRE!D51,"0"),3),LEFT(TEXT(MADRE!D51,"0"),LEN(TEXT(MADRE!D51,"0"))-6)&"."&MID(TEXT(MADRE!D51,"0"),LEN(TEXT(MADRE!D51,"0"))-5,3)&"."&RIGHT(TEXT(MADRE!D51,"0"),3)))) -> 🌱 ACACIA LEUCANTE 📏 150-180cm E. 4lts 💰 28.083 📏 180-210cm E. 10lts 💰 58.608 | D32: =B32 -> 🌱 ACACIA LEUCANTE 📏 150-180cm E. 4lts 💰 28.083 📏 180-210cm E. 10lts 💰 58.608
A33: =TRIM(MADRE!A52) -> Acacia Longifolia | B33: ="🌱 "&UPPER(TRIM(MADRE!A52))&CHAR(10)&CHAR(10)&"📏 "&TRIM(MADRE!A53)&CHAR(10)&CHAR(10)&"💰 "&IF(MADRE!D53="","",IF(MADRE!D53<1000,TEXT(MADRE!D53,"0"),IF(MADRE!D53<1000000,LEFT(TEXT(MADRE!D53,"0"),LEN(TEXT(MADRE!D53,"0"))-3)&"."&RIGHT(TEXT(MADRE!D53,"0"),3),LEFT(TEXT(MADRE!D53,"0"),LEN(TEXT(MADRE!D53,"0"))-6)&"."&MID(TEXT(MADRE!D53,"0"),LEN(TEXT(MADRE!D53,"0"))-5,3)&"."&RIGHT(TEXT(MADRE!D53,"0"),3))))&CHAR(10)&CHAR(10)&"📏 "&TRIM(MADRE!A54)&CHAR(10)&CHAR(10)&"💰 "&IF(MADRE!D54="","",IF(MADRE!D54<1000,TEXT(MADRE!D54,"0"),IF(MADRE!D54<1000000,LEFT(TEXT(MADRE!D54,"0"),LEN(TEXT(MADRE!D54,"0"))-3)&"."&RIGHT(TEXT(MADRE!D54,"0"),3),LEFT(TEXT(MADRE!D54,"0"),LEN(TEXT(MADRE!D54,"0"))-6)&"."&MID(TEXT(MADRE!D54,"0"),LEN(TEXT(MADRE!D54,"0"))-5,3)&"."&RIGHT(TEXT(MADRE!D54,"0"),3))))&CHAR(10)&CHAR(10)&"📏 "&TRIM(MADRE!A55)&CHAR(10)&CHAR(10)&"💰 "&IF(MADRE!D55="","",IF(MADRE!D55<1000,TEXT(MADRE!D55,"0"),IF(MADRE!D55<1000000,LEFT(TEXT(MADRE!D55,"0"),LEN(TEXT(MADRE!D55,"0"))-3)&"."&RIGHT(TEXT(MADRE!D55,"0"),3),LEFT(TEXT(MADRE!D55,"0"),LEN(TEXT(MADRE!D55,"0"))-6)&"."&MID(TEXT(MADRE!D55,"0"),LEN(TEXT(MADRE!D55,"0"))-5,3)&"."&RIGHT(TEXT(MADRE!D55,"0"),3))))&CHAR(10)&CHAR(10)&"📏 "&TRIM(MADRE!A56)&CHAR(10)&CHAR(10)&"💰 "&IF(MADRE!D56="","",IF(MADRE!D56<1000,TEXT(MADRE!D56,"0"),IF(MADRE!D56<1000000,LEFT(TEXT(MADRE!D56,"0"),LEN(TEXT(MADRE!D56,"0"))-3)&"."&RIGHT(TEXT(MADRE!D56,"0"),3),LEFT(TEXT(MADRE!D56,"0"),LEN(TEXT(MADRE!D56,"0"))-6)&"."&MID(TEXT(MADRE!D56,"0"),LEN(TEXT(MADRE!D56,"0"))-5,3)&"."&RIGHT(TEXT(MADRE!D56,"0"),3)))) -> 🌱 ACACIA LONGIFOLIA 📏 E. 4lts 150-180cm 💰 28.083 📏 E. 4lts 180-210cm 💰 35.409 📏 E. 10lts 210-250cm 💰 58.608 📏 E. 20lts 250-300cm 💰 79.365 | D33: =B33 -> 🌱 ACACIA LONGIFOLIA 📏 E. 4lts 150-180cm 💰 28.083 📏 E. 4lts 180-210cm 💰 35.409 📏 E. 10lts 210-250cm 💰 58.608 📏 E. 20lts 250-300cm 💰 79.365
A34: =TRIM(MADRE!A57) -> Acacia melanoxylon (A. Australiana). | B34: ="🌱 "&UPPER(TRIM(MADRE!A57))&CHAR(10)&CHAR(10)&"📏 "&TRIM(MADRE!A58)&CHAR(10)&CHAR(10)&"💰 "&IF(MADRE!D58="","",IF(MADRE!D58<1000,TEXT(MADRE!D58,"0"),IF(MADRE!D58<1000000,LEFT(TEXT(MADRE!D58,"0"),LEN(TEXT(MADRE!D58,"0"))-3)&"."&RIGHT(TEXT(MADRE!D58,"0"),3),LEFT(TEXT(MADRE!D58,"0"),LEN(TEXT(MADRE!D58,"0"))-6)&"."&MID(TEXT(MADRE!D58,"0"),LEN(TEXT(MADRE!D58,"0"))-5,3)&"."&RIGHT(TEXT(MADRE!D58,"0"),3))))&CHAR(10)&CHAR(10)&"📏 "&TRIM(MADRE!A59)&CHAR(10)&CHAR(10)&"💰 "&IF(MADRE!D59="","",IF(MADRE!D59<1000,TEXT(MADRE!D59,"0"),IF(MADRE!D59<1000000,LEFT(TEXT(MADRE!D59,"0"),LEN(TEXT(MADRE!D59,"0"))-3)&"."&RIGHT(TEXT(MADRE!D59,"0"),3),LEFT(TEXT(MADRE!D59,"0"),LEN(TEXT(MADRE!D59,"0"))-6)&"."&MID(TEXT(MADRE!D59,"0"),LEN(TEXT(MADRE!D59,"0"))-5,3)&"."&RIGHT(TEXT(MADRE!D59,"0"),3))))&CHAR(10)&CHAR(10)&"📏 "&TRIM(MADRE!A60)&CHAR(10)&CHAR(10)&"💰 "&IF(MADRE!D60="","",IF(MADRE!D60<1000,TEXT(MADRE!D60,"0"),IF(MADRE!D60<1000000,LEFT(TEXT(MADRE!D60,"0"),LEN(TEXT(MADRE!D60,"0"))-3)&"."&RIGHT(TEXT(MADRE!D60,"0"),3),LEFT(TEXT(MADRE!D60,"0"),LEN(TEXT(MADRE!D60,"0"))-6)&"."&MID(TEXT(MADRE!D60,"0"),LEN(TEXT(MADRE!D60,"0"))-5,3)&"."&RIGHT(TEXT(MADRE!D60,"0"),3))))&CHAR(10)&CHAR(10)&"📏 "&TRIM(MADRE!A61)&CHAR(10)&CHAR(10)&"💰 "&IF(MADRE!D61="","",IF(MADRE!D61<1000,TEXT(MADRE!D61,"0"),IF(MADRE!D61<1000000,LEFT(TEXT(MADRE!D61,"0"),LEN(TEXT(MADRE!D61,"0"))-3)&"."&RIGHT(TEXT(MADRE!D61,"0"),3),LEFT(TEXT(MADRE!D61,"0"),LEN(TEXT(MADRE!D61,"0"))-6)&"."&MID(TEXT(MADRE!D61,"0"),LEN(TEXT(MADRE!D61,"0"))-5,3)&"."&RIGHT(TEXT(MADRE!D61,"0"),3)))) -> 🌱 ACACIA MELANOXYLON (A. AUSTRALIANA). 📏 150-180 cm de altura. E. 4 lts 💰 28.083 📏 180-210 cm. E. 4 lts 💰 35.409 📏 210-250 cm E10 lts 💰 58.608 📏 250-300cm E 20lts 💰 78.144 | D34: =B34 -> 🌱 ACACIA MELANOXYLON (A. AUSTRALIANA). 📏 150-180 cm de altura. E. 4 lts 💰 28.083 📏 180-210 cm. E. 4 lts 💰 35.409 📏 210-250 cm E10 lts 💰 58.608 📏 250-300cm E 20lts 💰 78.144
A35: =TRIM(MADRE!A62) -> Acacia visco. | B35: ="🌱 "&UPPER(TRIM(MADRE!A62))&CHAR(10)&CHAR(10)&"📏 "&TRIM(MADRE!A63)&CHAR(10)&CHAR(10)&"💰 "&IF(MADRE!D63="","",IF(MADRE!D63<1000,TEXT(MADRE!D63,"0"),IF(MADRE!D63<1000000,LEFT(TEXT(MADRE!D63,"0"),LEN(TEXT(MADRE!D63,"0"))-3)&"."&RIGHT(TEXT(MADRE!D63,"0"),3),LEFT(TEXT(MADRE!D63,"0"),LEN(TEXT(MADRE!D63,"0"))-6)&"."&MID(TEXT(MADRE!D63,"0"),LEN(TEXT(MADRE!D63,"0"))-5,3)&"."&RIGHT(TEXT(MADRE!D63,"0"),3))))&CHAR(10)&CHAR(10)&"📏 "&TRIM(MADRE!A64)&CHAR(10)&CHAR(10)&"💰 "&IF(MADRE!D64="","",IF(MADRE!D64<1000,TEXT(MADRE!D64,"0"),IF(MADRE!D64<1000000,LEFT(TEXT(MADRE!D64,"0"),LEN(TEXT(MADRE!D64,"0"))-3)&"."&RIGHT(TEXT(MADRE!D64,"0"),3),LEFT(TEXT(MADRE!D64,"0"),LEN(TEXT(MADRE!D64,"0"))-6)&"."&MID(TEXT(MADRE!D64,"0"),LEN(TEXT(MADRE!D64,"0"))-5,3)&"."&RIGHT(TEXT(MADRE!D64,"0"),3)))) -> 🌱 ACACIA VISCO. 📏 150-180 cm de altura E. 4 lts 💰 28.083 📏 180-210 cm. E 10 lts. 💰 58.608 | D35: =B35 -> 🌱 ACACIA VISCO. 📏 150-180 cm de altura E. 4 lts 💰 28.083 📏 180-210 cm. E 10 lts. 💰 58.608
A36: =TRIM(MADRE!A65) -> Acanthus Mollis (Cucaracha) | B36: ="🌱 "&UPPER(TRIM(MADRE!A65))&CHAR(10)&CHAR(10)&"📏 "&TRIM(MADRE!A66)&CHAR(10)&CHAR(10)&"💰 "&IF(MADRE!D66="","",IF(MADRE!D66<1000,TEXT(MADRE!D66,"0"),IF(MADRE!D66<1000000,LEFT(TEXT(MADRE!D66,"0"),LEN(TEXT(MADRE!D66,"0"))-3)&"."&RIGHT(TEXT(MADRE!D66,"0"),3),LEFT(TEXT(MADRE!D66,"0"),LEN(TEXT(MADRE!D66,"0"))-6)&"."&MID(TEXT(MADRE!D66,"0"),LEN(TEXT(MADRE!D66,"0"))-5,3)&"."&RIGHT(TEXT(MADRE!D66,"0"),3)))) -> 🌱 ACANTHUS MOLLIS (CUCARACHA) 📏 E. 4lts 💰 17.094 | D36: =B36 -> 🌱 ACANTHUS MOLLIS (CUCARACHA) 📏 E. 4lts 💰 17.094
A37: =TRIM(MADRE!A67) -> Acer buergerianus. | B37: ="🌱 "&UPPER(TRIM(MADRE!A67))&CHAR(10)&CHAR(10)&"📏 "&TRIM(MADRE!A68)&CHAR(10)&CHAR(10)&"💰 "&IF(MADRE!D68="","",IF(MADRE!D68<1000,TEXT(MADRE!D68,"0"),IF(MADRE!D68<1000000,LEFT(TEXT(MADRE!D68,"0"),LEN(TEXT(MADRE!D68,"0"))-3)&"."&RIGHT(TEXT(MADRE!D68,"0"),3),LEFT(TEXT(MADRE!D68,"0"),LEN(TEXT(MADRE!D68,"0"))-6)&"."&MID(TEXT(MADRE!D68,"0"),LEN(TEXT(MADRE!D68,"0"))-5,3)&"."&RIGHT(TEXT(MADRE!D68,"0"),3))))&CHAR(10)&CHAR(10)&"📏 "&TRIM(MADRE!A69)&CHAR(10)&CHAR(10)&"💰 "&IF(MADRE!D69="","",IF(MADRE!D69<1000,TEXT(MADRE!D69,"0"),IF(MADRE!D69<1000000,LEFT(TEXT(MADRE!D69,"0"),LEN(TEXT(MADRE!D69,"0"))-3)&"."&RIGHT(TEXT(MADRE!D69,"0"),3),LEFT(TEXT(MADRE!D69,"0"),LEN(TEXT(MADRE!D69,"0"))-6)&"."&MID(TEXT(MADRE!D69,"0"),LEN(TEXT(MADRE!D69,"0"))-5,3)&"."&RIGHT(TEXT(MADRE!D69,"0"),3)))) -> 🌱 ACER BUERGERIANUS. 📏 con copa 4-6 cm. 210-250 cm. E. 10 lts. 💰 67.155 📏 con copa 8-10 cm. 210-250 cm. E. 20 lts 💰 99.000 | D37: =B37 -> 🌱 ACER BUERGERIANUS. 📏 con copa 4-6 cm. 210-250 cm. E. 10 lts. 💰 67.155 📏 con copa 8-10 cm. 210-250 cm. E. 20 lts 💰 99.000
A38: =TRIM(MADRE!A70) -> Acer Nengundo | B38: ="🌱 "&UPPER(TRIM(MADRE!A70))&CHAR(10)&CHAR(10)&"📏 "&TRIM(MADRE!A71)&CHAR(10)&CHAR(10)&"💰 "&IF(MADRE!D71="","",IF(MADRE!D71<1000,TEXT(MADRE!D71,"0"),IF(MADRE!D71<1000000,LEFT(TEXT(MADRE!D71,"0"),LEN(TEXT(MADRE!D71,"0"))-3)&"."&RIGHT(TEXT(MADRE!D71,"0"),3),LEFT(TEXT(MADRE!D71,"0"),LEN(TEXT(MADRE!D71,"0"))-6)&"."&MID(TEXT(MADRE!D71,"0"),LEN(TEXT(MADRE!D71,"0"))-5,3)&"."&RIGHT(TEXT(MADRE!D71,"0"),3))))&CHAR(10)&CHAR(10)&"📏 "&TRIM(MADRE!A72)&CHAR(10)&CHAR(10)&"💰 "&IF(MADRE!D72="","",IF(MADRE!D72<1000,TEXT(MADRE!D72,"0"),IF(MADRE!D72<1000000,LEFT(TEXT(MADRE!D72,"0"),LEN(TEXT(MADRE!D72,"0"))-3)&"."&RIGHT(TEXT(MADRE!D72,"0"),3),LEFT(TEXT(MADRE!D72,"0"),LEN(TEXT(MADRE!D72,"0"))-6)&"."&MID(TEXT(MADRE!D72,"0"),LEN(TEXT(MADRE!D72,"0"))-5,3)&"."&RIGHT(TEXT(MADRE!D72,"0"),3)))) -> 🌱 ACER NENGUNDO 📏 con copa 4-6cm circunsf. 180-210cm E10lts 💰 58.608 📏 con copa 6-8cm circunsf. 210-250cm E 15lts 💰 67.155 | D38: =B38 -> 🌱 ACER NENGUNDO 📏 con copa 4-6cm circunsf. 180-210cm E10lts 💰 58.608 📏 con copa 6-8cm circunsf. 210-250cm E 15lts 💰 67.155
A39: =TRIM(MADRE!A73) -> Acer palmatum. | B39: ="🌱 "&UPPER(TRIM(MADRE!A73))&CHAR(10)&CHAR(10)&"📏 "&TRIM(MADRE!A74)&CHAR(10)&CHAR(10)&"💰 "&IF(MADRE!D74="","",IF(MADRE!D74<1000,TEXT(MADRE!D74,"0"),IF(MADRE!D74<1000000,LEFT(TEXT(MADRE!D74,"0"),LEN(TEXT(MADRE!D74,"0"))-3)&"."&RIGHT(TEXT(MADRE!D74,"0"),3),LEFT(TEXT(MADRE!D74,"0"),LEN(TEXT(MADRE!D74,"0"))-6)&"."&MID(TEXT(MADRE!D74,"0"),LEN(TEXT(MADRE!D74,"0"))-5,3)&"."&RIGHT(TEXT(MADRE!D74,"0"),3))))&CHAR(10)&CHAR(10)&"📏 "&TRIM(MADRE!A75)&CHAR(10)&CHAR(10)&"💰 "&IF(MADRE!D75="","",IF(MADRE!D75<1000,TEXT(MADRE!D75,"0"),IF(MADRE!D75<1000000,LEFT(TEXT(MADRE!D75,"0"),LEN(TEXT(MADRE!D75,"0"))-3)&"."&RIGHT(TEXT(MADRE!D75,"0"),3),LEFT(TEXT(MADRE!D75,"0"),LEN(TEXT(MADRE!D75,"0"))-6)&"."&MID(TEXT(MADRE!D75,"0"),LEN(TEXT(MADRE!D75,"0"))-5,3)&"."&RIGHT(TEXT(MADRE!D75,"0"),3)))) -> 🌱 ACER PALMATUM. 📏 E. 4 lts 40cm 💰 37.019 📏 E. 10lts 80cm 💰 50.000 | D39: =B39 -> 🌱 ACER PALMATUM. 📏 E. 4 lts 40cm 💰 37.019 📏 E. 10lts 80cm 💰 50.000
A40: =TRIM(MADRE!A76) -> Acer saccharinum. | B40: ="🌱 "&UPPER(TRIM(MADRE!A76))&CHAR(10)&CHAR(10)&"📏 "&TRIM(MADRE!A77)&CHAR(10)&CHAR(10)&"💰 "&IF(MADRE!D77="","",IF(MADRE!D77<1000,TEXT(MADRE!D77,"0"),IF(MADRE!D77<1000000,LEFT(TEXT(MADRE!D77,"0"),LEN(TEXT(MADRE!D77,"0"))-3)&"."&RIGHT(TEXT(MADRE!D77,"0"),3),LEFT(TEXT(MADRE!D77,"0"),LEN(TEXT(MADRE!D77,"0"))-6)&"."&MID(TEXT(MADRE!D77,"0"),LEN(TEXT(MADRE!D77,"0"))-5,3)&"."&RIGHT(TEXT(MADRE!D77,"0"),3)))) -> 🌱 ACER SACCHARINUM. 📏 120-150cm x 4lts 💰 28.083 | D40: =B40 -> 🌱 ACER SACCHARINUM. 📏 120-150cm x 4lts 💰 28.083
...
