Workbook

Sheet MADRE
A5: Vivero iris 11 54527839 whatsapp y telefono -Septiembre2026
A6: Precios sin iva
A7: www.viveroiris.com.ar
A8: Abedul ( Betula alba).
A9: 120-150 cm de altura E, 10 lts | D9: 39072
A10: 180-210 cm de altura E. 20 lts | D10: 109890
A11: Abelia grandiflora. | D11: 0
A12: E. 4 lts | D12: 12232
A13: E. 10 lts | D13: 27000
A14: E. 15 lts | D14: 36500 | E14: s/stock
A15: E. 20 lts | D15: 49000
A16: Abelia grandiflora compacta (enana).
A17: E. 4 lts | D17: 12232
A18: E. 10 lts | D18: 27000 | E18: s/stock
A19: Acacia bayleyana rubra. Inj. | D19: 0
A20: Injertada 80 cm de altura E. 4 lts | D20: 53724 | E20: s/stock
A21: Inj. 120-150 cm. E. 4 lts | D21: 58608 | E21: s/stock
A22: Acacia blanca (Robinia pseudoacicia). | D22: 0
A23: 150-180 cm. E. 4 lts | D23: 36630 | E23: s/stock
A24: 180-210cm E. 10 lts | D24: 61050
A25: 220-250cm E.. 15lts | D25: 79365
A26: Acacia bola (Robinia pseudoacacia umbracuculifera). Inj. | D26: 0
A27: Inj. A 200 cm de altura, Con copa, 6-8 cm circunsferencia de tronco. E. 10 lts. | D27: 58608 | E27: s/stock
A28: Inj, a 200 cm. Con copa, 8-10 cm E. 15 lts. | D28: 67155
A29: inj a 200cm con copa, 10-12cm circunsf. 20lts | D29: 85470
A30: Acacia casque rouge (Robinia pseudoacacia). Inj. | D30: 0
A31: Inj. 200cm de altura Con copa, 8-10 cm de circunsferencia de tronco. E. 15 lts. | D31: 67155
A32: Inj. Con copa, 10-12 cm E. 20 lts. | D32: 78144
A33: Acacia constantinopla (Albizzia julibrissin). | D33: 0
A34: con copa, 6-8 cm de circunsferencia de tronco. 180-210 cm de altura E. 15 lts | D34: 67155
A35: con copa, 8-10 cm. 210-250 cm E. 20 lts | D35: 78144
A36: Acacia dealbata (Aromo frances). | D36: 0
A37: con copa, 210-250 cm. E. 10 lts | D37: 42000
A38: con copa, 250 cm. E. 20 lts | D38: 78144
A39: Acacia Caven (Vachellia caven) Espinillo | D39: 0
A40: 120-150cm E. 4lts | D40: 28083 | E40: s/stock
A41: 150-180cm E. 10lts | D41: 40000
A42: Acacia floribunda.
A43: 150-180 cm. E. 4 lts | D43: 28083
A44: 180-210cm. .. E. 10lts | D44: 58608 | E44: s/stock
A45: Acacia frisia (Robinia pseudoacacia aurea). Inj. | D45: 0
A46: Injertado. Con copa, 6-8 cm circunsferencia de tronco. E. 10 lts. | D46: 58608 | E46: s/stock
A47: Inj. Con copa, 8-10 cm E. 15 lts. | D47: 67155
A48: inj. Con copa 10-12cm | D48: 85470
A49: Acacia Leucante | D49: 0
A50: 150-180cm E. 4lts | D50: 28083 | E50: s/stock
A51: 180-210cm E. 10lts | D51: 58608 | E51: s/stock
A52: Acacia Longifolia | D52: 0
A53: E. 4lts 150-180cm | D53: 28083 | E53: s/stock
A54: E. 4lts 180-210cm | D54: 35409
A55: E. 10lts 210-250cm | D55: 58608
A56: E. 20lts 250-300cm | D56: 79365
A57: Acacia melanoxylon (A. Australiana). | D57: 0
A58: 150-180 cm de altura. E. 4 lts | D58: 28083
A59: 180-210 cm. E. 4 lts | D59: 35409
A60: 210-250 cm E10 lts | D60: 58608
A61: 250-300cm E 20lts | D61: 78144
A62: Acacia visco. | D62: 0
A63: 150-180 cm de altura E. 4 lts | D63: 28083
A64: 180-210 cm. E 10 lts. | D64: 58608
A65: Acanthus Mollis (Cucaracha) | D65: 0
... A69: con copa 8-10 cm. 210-250 cm. E. 20 lts | D69: 99000
A70: Acer Nengundo
A71: con copa 4-6cm circunsf. 180-210cm E10lts | D71: 58608
A72: con copa 6-8cm circunsf. 210-250cm E 15lts | D72: 67155
A73: Acer palmatum. | D73: 0
A74: E. 4 lts 40cm | D74: 37018.5
A75: E. 10lts 80cm | D75: 50000
A76: Acer saccharinum. | D76: 0
A77: 120-150cm x 4lts | D77: 28083 | E77: s/stock
A78: Acorus lemon | D78: 0
A79: 4lts | D79: 8900
A80: Aclepsias
A81: E. 4lts 30cm | D81: 8900
A82: oferta comprando 10 unidades | D82: 8500
A83: Agapanthus africanus. | D83: 0
A84: flor azul, E. 4 lts | D84: 8900
A85: oferta comprando 10 unidades | D85: 8500
A86: flor azul x 10lts | D86: 25000
A87: Agapanthus africanus. | D87: 0
A88: flor blanca E. 4 lts | D88: 12878.775 | E88: s/stock
A89: flor blanca E. 10lts | D89: 20909.07 | E89: s/stock
A90: Aguaribay (Schinus molle) | D90: 0
A91: 150-180 cm. | D91: 22000
A92: 180-210 cm. | D92: 37500
A93: 250-300 cm. | D93: 99000
A94: Alamos hibrido (Populus). | D94: 0
A95: con copa, 6-8 cm. E. 10 lts. | D95: 30525 | E95: s/stock
A96: con copa, 10-12 cm. E. 20 lts. | D96: 39072
A97: Alamos piramidal (Populus nigra). | D97: 0
A98: 180-210 cm. E. 10 lts. | D98: 21978
A99: 210-250 cm. E. 15 lts. | D99: 29304
A100: 250-300 cm. E. 20 lts. | D100: 76923
A101: 300-350 cm. E. 30 lts. | D101: 120879
A102: Almez (Celtis Occidentalis)
A103: E. 10lts 180-210cm | D103: 36630
A104: E. 15lts 180-210cm con tronco mas grueso | D104: 67155
A105: Alocacia tallo negro
A106: 4 lts | D106: 33333
A107: Alpinia. | D107: 0
...

Sheet WHATSAPP
A1: VIVERO IRIS — TEXTOS PARA WHATSAPP | D1: 📱 COPIAR PARA WHATSAPP DESDE EL CELULAR
A2: Copiá la celda de la columna B y pegala directamente en WhatsApp.
D3: Texto listo para copiar:
A4: PRODUCTO | B4: TEXTO PARA COPIAR Y PEGAR | D4: =B2 -> 0
A5: =TRIM(MADRE!A8) -> Abedul ( Betula alba). | B5: ="🌱 "&UPPER(TRIM(MADRE!A8))&CHAR(10)&CHAR(10)&"📏 "&TRIM(MADRE!A9)&CHAR(10)&"💰 "&IF(MADRE!D9="","",IF(MADRE!D9<1000,TEXT(MADRE!D9,"0"),IF(MADRE!D9<1000000,LEFT(TEXT(MADRE!D9,"0"),LEN(TEXT(MADRE!D9,"0"))-3)&"."&RIGHT(TEXT(MADRE!D9,"0"),3),LEFT(TEXT(MADRE!D9,"0"),LEN(TEXT(MADRE!D9,"0"))-6)&"."&MID(TEXT(MADRE!D9,"0"),LEN(TEXT(MADRE!D9,"0"))-5,3)&"."&RIGHT(TEXT(MADRE!D9,"0"),3))))&CHAR(10)&CHAR(10)&"📏 "&TRIM(MADRE!A10)&CHAR(10)&"💰 "&IF(MADRE!D10="","",IF(MADRE!D10<1000,TEXT(MADRE!D10,"0"),IF(MADRE!D10<1000000,LEFT(TEXT(MADRE!D10,"0"),LEN(TEXT(MADRE!D10,"0"))-3)&"."&RIGHT(TEXT(MADRE!D10,"0"),3),LEFT(TEXT(MADRE!D10,"0"),LEN(TEXT(MADRE!D10,"0"))-6)&"."&MID(TEXT(MADRE!D10,"0"),LEN(TEXT(MADRE!D10,"0"))-5,3)&"."&RIGHT(TEXT(MADRE!D10,"0"),3)))) -> 🌱 ABEDUL ( BETULA ALBA). 📏 120-150 cm de altura E, 10 lts 💰 39.072 📏 180-210 cm de altura E. 20 lts 💰 109.890
A6: =TRIM(MADRE!A11) -> Abelia grandiflora. | B6: ="🌱 "&UPPER(TRIM(MADRE!A11))&CHAR(10)&CHAR(10)&"📏 "&TRIM(MADRE!A12)&CHAR(10)&"💰 "&IF(MADRE!D12="","",IF(MADRE!D12<1000,TEXT(MADRE!D12,"0"),IF(MADRE!D12<1000000,LEFT(TEXT(MADRE!D12,"0"),LEN(TEXT(MADRE!D12,"0"))-3)&"."&RIGHT(TEXT(MADRE!D12,"0"),3),LEFT(TEXT(MADRE!D12,"0"),LEN(TEXT(MADRE!D12,"0"))-6)&"."&MID(TEXT(MADRE!D12,"0"),LEN(TEXT(MADRE!D12,"0"))-5,3)&"."&RIGHT(TEXT(MADRE!D12,"0"),3))))&CHAR(10)&CHAR(10)&"📏 "&TRIM(MADRE!A13)&CHAR(10)&"💰 "&IF(MADRE!D13="","",IF(MADRE!D13<1000,TEXT(MADRE!D13,"0"),IF(MADRE!D13<1000000,LEFT(TEXT(MADRE!D13,"0"),LEN(TEXT(MADRE!D13,"0"))-3)&"."&RIGHT(TEXT(MADRE!D13,"0"),3),LEFT(TEXT(MADRE!D13,"0"),LEN(TEXT(MADRE!D13,"0"))-6)&"."&MID(TEXT(MADRE!D13,"0"),LEN(TEXT(MADRE!D13,"0"))-5,3)&"."&RIGHT(TEXT(MADRE!D13,"0"),3))))&CHAR(10)&CHAR(10)&"📏 "&TRIM(MADRE!A14)&CHAR(10)&"💰 "&IF(MADRE!D14="","",IF(MADRE!D14<1000,TEXT(MADRE!D14,"0"),IF(MADRE!D14<1000000,LEFT(TEXT(MADRE!D14,"0"),LEN(TEXT(MADRE!D14,"0"))-3)&"."&RIGHT(TEXT(MADRE!D14,"0"),3),LEFT(TEXT(MADRE!D14,"0"),LEN(TEXT(MADRE!D14,"0"))-6)&"."&MID(TEXT(MADRE!D14,"0"),LEN(TEXT(MADRE!D14,"0"))-5,3)&"."&RIGHT(TEXT(MADRE!D14,"0"),3))))&CHAR(10)&CHAR(10)&"📏 "&TRIM(MADRE!A15)&CHAR(10)&"💰 "&IF(MADRE!D15="","",IF(MADRE!D15<1000,TEXT(MADRE!D15,"0"),IF(MADRE!D15<1000000,LEFT(TEXT(MADRE!D15,"0"),LEN(TEXT(MADRE!D15,"0"))-3)&"."&RIGHT(TEXT(MADRE!D15,"0"),3),LEFT(TEXT(MADRE!D15,"0"),LEN(TEXT(MADRE!D15,"0"))-6)&"."&MID(TEXT(MADRE!D15,"0"),LEN(TEXT(MADRE!D15,"0"))-5,3)&"."&RIGHT(TEXT(MADRE!D15,"0"),3)))) -> 🌱 ABELIA GRANDIFLORA. 📏 E. 4 lts 💰 12.232 📏 E. 10 lts 💰 27.000 📏 E. 15 lts 💰 36.500 📏 E. 20 lts 💰 49.000 | D6: En el celular: mantené apretado dentro del texto → seleccioná el contenido → Copiar → abrí WhatsApp → Pegar.
A7: =TRIM(MADRE!A16) -> Abelia grandiflora compacta (enana). | B7: ="🌱 "&UPPER(TRIM(MADRE!A16))&CHAR(10)&CHAR(10)&"📏 "&TRIM(MADRE!A17)&CHAR(10)&"💰 "&IF(MADRE!D17="","",IF(MADRE!D17<1000,TEXT(MADRE!D17,"0"),IF(MADRE!D17<1000000,LEFT(TEXT(MADRE!D17,"0"),LEN(TEXT(MADRE!D17,"0"))-3)&"."&RIGHT(TEXT(MADRE!D17,"0"),3),LEFT(TEXT(MADRE!D17,"0"),LEN(TEXT(MADRE!D17,"0"))-6)&"."&MID(TEXT(MADRE!D17,"0"),LEN(TEXT(MADRE!D17,"0"))-5,3)&"."&RIGHT(TEXT(MADRE!D17,"0"),3))))&CHAR(10)&CHAR(10)&"📏 "&TRIM(MADRE!A18)&CHAR(10)&"💰 "&IF(MADRE!D18="","",IF(MADRE!D18<1000,TEXT(MADRE!D18,"0"),IF(MADRE!D18<1000000,LEFT(TEXT(MADRE!D18,"0"),LEN(TEXT(MADRE!D18,"0"))-3)&"."&RIGHT(TEXT(MADRE!D18,"0"),3),LEFT(TEXT(MADRE!D18,"0"),LEN(TEXT(MADRE!D18,"0"))-6)&"."&MID(TEXT(MADRE!D18,"0"),LEN(TEXT(MADRE!D18,"0"))-5,3)&"."&RIGHT(TEXT(MADRE!D18,"0"),3)))) -> 🌱 ABELIA GRANDIFLORA COMPACTA (ENANA). 📏 E. 4 lts 💰 12.232 📏 E. 10 lts 💰 27.000
A8: =TRIM(MADRE!A19) -> Acacia bayleyana rubra. Inj. | B8: ="🌱 "&UPPER(TRIM(MADRE!A19))&CHAR(10)&CHAR(10)&"📏 "&TRIM(MADRE!A20)&CHAR(10)&"💰 "&IF(MADRE!D20="","",IF(MADRE!D20<1000,TEXT(MADRE!D20,"0"),IF(MADRE!D20<1000000,LEFT(TEXT(MADRE!D20,"0"),LEN(TEXT(MADRE!D20,"0"))-3)&"."&RIGHT(TEXT(MADRE!D20,"0"),3),LEFT(TEXT(MADRE!D20,"0"),LEN(TEXT(MADRE!D20,"0"))-6)&"."&MID(TEXT(MADRE!D20,"0"),LEN(TEXT(MADRE!D20,"0"))-5,3)&"."&RIGHT(TEXT(MADRE!D20,"0"),3))))&CHAR(10)&CHAR(10)&"📏 "&TRIM(MADRE!A21)&CHAR(10)&"💰 "&IF(MADRE!D21="","",IF(MADRE!D21<1000,TEXT(MADRE!D21,"0"),IF(MADRE!D21<1000000,LEFT(TEXT(MADRE!D21,"0"),LEN(TEXT(MADRE!D21,"0"))-3)&"."&RIGHT(TEXT(MADRE!D21,"0"),3),LEFT(TEXT(MADRE!D21,"0"),LEN(TEXT(MADRE!D21,"0"))-6)&"."&MID(TEXT(MADRE!D21,"0"),LEN(TEXT(MADRE!D21,"0"))-5,3)&"."&RIGHT(TEXT(MADRE!D21,"0"),3)))) -> 🌱 ACACIA BAYLEYANA RUBRA. INJ. 📏 Injertada 80 cm de altura E. 4 lts 💰 53.724 📏 Inj. 120-150 cm. E. 4 lts 💰 58.608 | D8: IMPORTANTE
A9: =TRIM(MADRE!A22) -> Acacia blanca (Robinia pseudoacicia). | B9: ="🌱 "&UPPER(TRIM(MADRE!A22))&CHAR(10)&CHAR(10)&"📏 "&TRIM(MADRE!A23)&CHAR(10)&"💰 "&IF(MADRE!D23="","",IF(MADRE!D23<1000,TEXT(MADRE!D23,"0"),IF(MADRE!D23<1000000,LEFT(TEXT(MADRE!D23,"0"),LEN(TEXT(MADRE!D23,"0"))-3)&"."&RIGHT(TEXT(MADRE!D23,"0"),3),LEFT(TEXT(MADRE!D23,"0"),LEN(TEXT(MADRE!D23,"0"))-6)&"."&MID(TEXT(MADRE!D23,"0"),LEN(TEXT(MADRE!D23,"0"))-5,3)&"."&RIGHT(TEXT(MADRE!D23,"0"),3))))&CHAR(10)&CHAR(10)&"📏 "&TRIM(MADRE!A24)&CHAR(10)&"💰 "&IF(MADRE!D24="","",IF(MADRE!D24<1000,TEXT(MADRE!D24,"0"),IF(MADRE!D24<1000000,LEFT(TEXT(MADRE!D24,"0"),LEN(TEXT(MADRE!D24,"0"))-3)&"."&RIGHT(TEXT(MADRE!D24,"0"),3),LEFT(TEXT(MADRE!D24,"0"),LEN(TEXT(MADRE!D24,"0"))-6)&"."&MID(TEXT(MADRE!D24,"0"),LEN(TEXT(MADRE!D24,"0"))-5,3)&"."&RIGHT(TEXT(MADRE!D24,"0"),3))))&CHAR(10)&CHAR(10)&"📏 "&TRIM(MADRE!A25)&CHAR(10)&"💰 "&IF(MADRE!D25="","",IF(MADRE!D25<1000,TEXT(MADRE!D25,"0"),IF(MADRE!D25<1000000,LEFT(TEXT(MADRE!D25,"0"),LEN(TEXT(MADRE!D25,"0"))-3)&"."&RIGHT(TEXT(MADRE!D25,"0"),3),LEFT(TEXT(MADRE!D25,"0"),LEN(TEXT(MADRE!D25,"0"))-6)&"."&MID(TEXT(MADRE!D25,"0"),LEN(TEXT(MADRE!D25,"0"))-5,3)&"."&RIGHT(TEXT(MADRE!D25,"0"),3)))) -> 🌱 ACACIA BLANCA (ROBINIA PSEUDOACICIA). 📏 150-180 cm. E. 4 lts 💰 36.630 📏 180-210cm E. 10 lts 💰 61.050 📏 220-250cm E.. 15lts 💰 79.365 | D9: La solapa original WHATSAPP queda sin modificar. Esta zona es solamente para facilitar la copia desde el celular.
A10: =TRIM(MADRE!A26) -> Acacia bola (Robinia pseudoacacia umbracuculifera). Inj. | B10: ="🌱 "&UPPER(TRIM(MADRE!A26))&CHAR(10)&CHAR(10)&"📏 "&TRIM(MADRE!A27)&CHAR(10)&"💰 "&IF(MADRE!D27="","",IF(MADRE!D27<1000,TEXT(MADRE!D27,"0"),IF(MADRE!D27<1000000,LEFT(TEXT(MADRE!D27,"0"),LEN(TEXT(MADRE!D27,"0"))-3)&"."&RIGHT(TEXT(MADRE!D27,"0"),3),LEFT(TEXT(MADRE!D27,"0"),LEN(TEXT(MADRE!D27,"0"))-6)&"."&MID(TEXT(MADRE!D27,"0"),LEN(TEXT(MADRE!D27,"0"))-5,3)&"."&RIGHT(TEXT(MADRE!D27,"0"),3))))&CHAR(10)&CHAR(10)&"📏 "&TRIM(MADRE!A28)&CHAR(10)&"💰 "&IF(MADRE!D28="","",IF(MADRE!D28<1000,TEXT(MADRE!D28,"0"),IF(MADRE!D28<1000000,LEFT(TEXT(MADRE!D28,"0"),LEN(TEXT(MADRE!D28,"0"))-3)&"."&RIGHT(TEXT(MADRE!D28,"0"),3),LEFT(TEXT(MADRE!D28,"0"),LEN(TEXT(MADRE!D28,"0"))-6)&"."&MID(TEXT(MADRE!D28,"0"),LEN(TEXT(MADRE!D28,"0"))-5,3)&"."&RIGHT(TEXT(MADRE!D28,"0"),3))))&CHAR(10)&CHAR(10)&"📏 "&TRIM(MADRE!A29)&CHAR(10)&"💰 "&IF(MADRE!D29="","",IF(MADRE!D29<1000,TEXT(MADRE!D29,"0"),IF(MADRE!D29<1000000,LEFT(TEXT(MADRE!D29,"0"),LEN(TEXT(MADRE!D29,"0"))-3)&"."&RIGHT(TEXT(MADRE!D29,"0"),3),LEFT(TEXT(MADRE!D29,"0"),LEN(TEXT(MADRE!D29,"0"))-6)&"."&MID(TEXT(MADRE!D29,"0"),LEN(TEXT(MADRE!D29,"0"))-5,3)&"."&RIGHT(TEXT(MADRE!D29,"0"),3)))) -> 🌱 ACACIA BOLA (ROBINIA PSEUDOACACIA UMBRACUCULIFERA). INJ. 📏 Inj. A 200 cm de altura, Con copa, 6-8 cm circunsferencia de tronco. E. 10 lts. 💰 58.608 📏 Inj, a 200 cm. Con copa, 8-10 cm E. 15 lts. 💰 67.155 📏 inj a 200cm con copa, 10-12cm circunsf. 20lts 💰 85.470
A11: =TRIM(MADRE!A30) -> Acacia casque rouge (Robinia pseudoacacia). Inj. | B11: ="🌱 "&UPPER(TRIM(MADRE!A30))&CHAR(10)&CHAR(10)&"📏 "&TRIM(MADRE!A31)&CHAR(10)&"💰 "&IF(MADRE!D31="","",IF(MADRE!D31<1000,TEXT(MADRE!D31,"0"),IF(MADRE!D31<1000000,LEFT(TEXT(MADRE!D31,"0"),LEN(TEXT(MADRE!D31,"0"))-3)&"."&RIGHT(TEXT(MADRE!D31,"0"),3),LEFT(TEXT(MADRE!D31,"0"),LEN(TEXT(MADRE!D31,"0"))-6)&"."&MID(TEXT(MADRE!D31,"0"),LEN(TEXT(MADRE!D31,"0"))-5,3)&"."&RIGHT(TEXT(MADRE!D31,"0"),3))))&CHAR(10)&CHAR(10)&"📏 "&TRIM(MADRE!A32)&CHAR(10)&"💰 "&IF(MADRE!D32="","",IF(MADRE!D32<1000,TEXT(MADRE!D32,"0"),IF(MADRE!D32<1000000,LEFT(TEXT(MADRE!D32,"0"),LEN(TEXT(MADRE!D32,"0"))-3)&"."&RIGHT(TEXT(MADRE!D32,"0"),3),LEFT(TEXT(MADRE!D32,"0"),LEN(TEXT(MADRE!D32,"0"))-6)&"."&MID(TEXT(MADRE!D32,"0"),LEN(TEXT(MADRE!D32,"0"))-5,3)&"."&RIGHT(TEXT(MADRE!D32,"0"),3)))) -> 🌱 ACACIA CASQUE ROUGE (ROBINIA PSEUDOACACIA). INJ. 📏 Inj. 200cm de altura Con copa, 8-10 cm de circunsferencia de tronco. E. 15 lts. 💰 67.155 📏 Inj. Con copa, 10-12 cm E. 20 lts. 💰 78.144
A12: =TRIM(MADRE!A33) -> Acacia constantinopla (Albizzia julibrissin). | B12: ="🌱 "&UPPER(TRIM(MADRE!A33))&CHAR(10)&CHAR(10)&"📏 "&TRIM(MADRE!A34)&CHAR(10)&"💰 "&IF(MADRE!D34="","",IF(MADRE!D34<1000,TEXT(MADRE!D34,"0"),IF(MADRE!D34<1000000,LEFT(TEXT(MADRE!D34,"0"),LEN(TEXT(MADRE!D34,"0"))-3)&"."&RIGHT(TEXT(MADRE!D34,"0"),3),LEFT(TEXT(MADRE!D34,"0"),LEN(TEXT(MADRE!D34,"0"))-6)&"."&MID(TEXT(MADRE!D34,"0"),LEN(TEXT(MADRE!D34,"0"))-5,3)&"."&RIGHT(TEXT(MADRE!D34,"0"),3))))&CHAR(10)&CHAR(10)&"📏 "&TRIM(MADRE!A35)&CHAR(10)&"💰 "&IF(MADRE!D35="","",IF(MADRE!D35<1000,TEXT(MADRE!D35,"0"),IF(MADRE!D35<1000000,LEFT(TEXT(MADRE!D35,"0"),LEN(TEXT(MADRE!D35,"0"))-3)&"."&RIGHT(TEXT(MADRE!D35,"0"),3),LEFT(TEXT(MADRE!D35,"0"),LEN(TEXT(MADRE!D35,"0"))-6)&"."&MID(TEXT(MADRE!D35,"0"),LEN(TEXT(MADRE!D35,"0"))-5,3)&"."&RIGHT(TEXT(MADRE!D35,"0"),3)))) -> 🌱 ACACIA CONSTANTINOPLA (ALBIZZIA JULIBRISSIN). 📏 con copa, 6-8 cm de circunsferencia de tronco. 180-210 cm de altura E. 15 lts 💰 67.155 📏 con copa, 8-10 cm. 210-250 cm E. 20 lts 💰 78.144
A13: =TRIM(MADRE!A36) -> Acacia dealbata (Aromo frances). | B13: ="🌱 "&UPPER(TRIM(MADRE!A36))&CHAR(10)&CHAR(10)&"📏 "&TRIM(MADRE!A37)&CHAR(10)&"💰 "&IF(MADRE!D37="","",IF(MADRE!D37<1000,TEXT(MADRE!D37,"0"),IF(MADRE!D37<1000000,LEFT(TEXT(MADRE!D37,"0"),LEN(TEXT(MADRE!D37,"0"))-3)&"."&RIGHT(TEXT(MADRE!D37,"0"),3),LEFT(TEXT(MADRE!D37,"0"),LEN(TEXT(MADRE!D37,"0"))-6)&"."&MID(TEXT(MADRE!D37,"0"),LEN(TEXT(MADRE!D37,"0"))-5,3)&"."&RIGHT(TEXT(MADRE!D37,"0"),3))))&CHAR(10)&CHAR(10)&"📏 "&TRIM(MADRE!A38)&CHAR(10)&"💰 "&IF(MADRE!D38="","",IF(MADRE!D38<1000,TEXT(MADRE!D38,"0"),IF(MADRE!D38<1000000,LEFT(TEXT(MADRE!D38,"0"),LEN(TEXT(MADRE!D38,"0"))-3)&"."&RIGHT(TEXT(MADRE!D38,"0"),3),LEFT(TEXT(MADRE!D38,"0"),LEN(TEXT(MADRE!D38,"0"))-6)&"."&MID(TEXT(MADRE!D38,"0"),LEN(TEXT(MADRE!D38,"0"))-5,3)&"."&RIGHT(TEXT(MADRE!D38,"0"),3)))) -> 🌱 ACACIA DEALBATA (AROMO FRANCES). 📏 con copa, 210-250 cm. E. 10 lts 💰 42.000 📏 con copa, 250 cm. E. 20 lts 💰 78.144
A14: =TRIM(MADRE!A39) -> Acacia Caven (Vachellia caven) Espinillo | B14: ="🌱 "&UPPER(TRIM(MADRE!A39))&CHAR(10)&CHAR(10)&"📏 "&TRIM(MADRE!A40)&CHAR(10)&"💰 "&IF(MADRE!D40="","",IF(MADRE!D40<1000,TEXT(MADRE!D40,"0"),IF(MADRE!D40<1000000,LEFT(TEXT(MADRE!D40,"0"),LEN(TEXT(MADRE!D40,"0"))-3)&"."&RIGHT(TEXT(MADRE!D40,"0"),3),LEFT(TEXT(MADRE!D40,"0"),LEN(TEXT(MADRE!D40,"0"))-6)&"."&MID(TEXT(MADRE!D40,"0"),LEN(TEXT(MADRE!D40,"0"))-5,3)&"."&RIGHT(TEXT(MADRE!D40,"0"),3))))&CHAR(10)&CHAR(10)&"📏 "&TRIM(MADRE!A41)&CHAR(10)&"💰 "&IF(MADRE!D41="","",IF(MADRE!D41<1000,TEXT(MADRE!D41,"0"),IF(MADRE!D41<1000000,LEFT(TEXT(MADRE!D41,"0"),LEN(TEXT(MADRE!D41,"0"))-3)&"."&RIGHT(TEXT(MADRE!D41,"0"),3),LEFT(TEXT(MADRE!D41,"0"),LEN(TEXT(MADRE!D41,"0"))-6)&"."&MID(TEXT(MADRE!D41,"0"),LEN(TEXT(MADRE!D41,"0"))-5,3)&"."&RIGHT(TEXT(MADRE!D41,"0"),3)))) -> 🌱 ACACIA CAVEN (VACHELLIA CAVEN) ESPINILLO 📏 120-150cm E. 4lts 💰 28.083 📏 150-180cm E. 10lts 💰 40.000
A15: =TRIM(MADRE!A42) -> Acacia floribunda. | B15: ="🌱 "&UPPER(TRIM(MADRE!A42))&CHAR(10)&CHAR(10)&"📏 "&TRIM(MADRE!A43)&CHAR(10)&"💰 "&IF(MADRE!D43="","",IF(MADRE!D43<1000,TEXT(MADRE!D43,"0"),IF(MADRE!D43<1000000,LEFT(TEXT(MADRE!D43,"0"),LEN(TEXT(MADRE!D43,"0"))-3)&"."&RIGHT(TEXT(MADRE!D43,"0"),3),LEFT(TEXT(MADRE!D43,"0"),LEN(TEXT(MADRE!D43,"0"))-6)&"."&MID(TEXT(MADRE!D43,"0"),LEN(TEXT(MADRE!D43,"0"))-5,3)&"."&RIGHT(TEXT(MADRE!D43,"0"),3))))&CHAR(10)&CHAR(10)&"📏 "&TRIM(MADRE!A44)&CHAR(10)&"💰 "&IF(MADRE!D44="","",IF(MADRE!D44<1000,TEXT(MADRE!D44,"0"),IF(MADRE!D44<1000000,LEFT(TEXT(MADRE!D44,"0"),LEN(TEXT(MADRE!D44,"0"))-3)&"."&RIGHT(TEXT(MADRE!D44,"0"),3),LEFT(TEXT(MADRE!D44,"0"),LEN(TEXT(MADRE!D44,"0"))-6)&"."&MID(TEXT(MADRE!D44,"0"),LEN(TEXT(MADRE!D44,"0"))-5,3)&"."&RIGHT(TEXT(MADRE!D44,"0"),3)))) -> 🌱 ACACIA FLORIBUNDA. 📏 150-180 cm. E. 4 lts 💰 28.083 📏 180-210cm. .. E. 10lts 💰 58.608
A16: =TRIM(MADRE!A45) -> Acacia frisia (Robinia pseudoacacia aurea). Inj. | B16: ="🌱 "&UPPER(TRIM(MADRE!A45))&CHAR(10)&CHAR(10)&"📏 "&TRIM(MADRE!A46)&CHAR(10)&"💰 "&IF(MADRE!D46="","",IF(MADRE!D46<1000,TEXT(MADRE!D46,"0"),IF(MADRE!D46<1000000,LEFT(TEXT(MADRE!D46,"0"),LEN(TEXT(MADRE!D46,"0"))-3)&"."&RIGHT(TEXT(MADRE!D46,"0"),3),LEFT(TEXT(MADRE!D46,"0"),LEN(TEXT(MADRE!D46,"0"))-6)&"."&MID(TEXT(MADRE!D46,"0"),LEN(TEXT(MADRE!D46,"0"))-5,3)&"."&RIGHT(TEXT(MADRE!D46,"0"),3))))&CHAR(10)&CHAR(10)&"📏 "&TRIM(MADRE!A47)&CHAR(10)&"💰 "&IF(MADRE!D47="","",IF(MADRE!D47<1000,TEXT(MADRE!D47,"0"),IF(MADRE!D47<1000000,LEFT(TEXT(MADRE!D47,"0"),LEN(TEXT(MADRE!D47,"0"))-3)&"."&RIGHT(TEXT(MADRE!D47,"0"),3),LEFT(TEXT(MADRE!D47,"0"),LEN(TEXT(MADRE!D47,"0"))-6)&"."&MID(TEXT(MADRE!D47,"0"),LEN(TEXT(MADRE!D47,"0"))-5,3)&"."&RIGHT(TEXT(MADRE!D47,"0"),3))))&CHAR(10)&CHAR(10)&"📏 "&TRIM(MADRE!A48)&CHAR(10)&"💰 "&IF(MADRE!D48="","",IF(MADRE!D48<1000,TEXT(MADRE!D48,"0"),IF(MADRE!D48<1000000,LEFT(TEXT(MADRE!D48,"0"),LEN(TEXT(MADRE!D48,"0"))-3)&"."&RIGHT(TEXT(MADRE!D48,"0"),3),LEFT(TEXT(MADRE!D48,"0"),LEN(TEXT(MADRE!D48,"0"))-6)&"."&MID(TEXT(MADRE!D48,"0"),LEN(TEXT(MADRE!D48,"0"))-5,3)&"."&RIGHT(TEXT(MADRE!D48,"0"),3)))) -> 🌱 ACACIA FRISIA (ROBINIA PSEUDOACACIA AUREA). INJ. 📏 Injertado. Con copa, 6-8 cm circunsferencia de tronco. E. 10 lts. 💰 58.608 📏 Inj. Con copa, 8-10 cm E. 15 lts. 💰 67.155 📏 inj. Con copa 10-12cm 💰 85.470
A17: =TRIM(MADRE!A49) -> Acacia Leucante | B17: ="🌱 "&UPPER(TRIM(MADRE!A49))&CHAR(10)&CHAR(10)&"📏 "&TRIM(MADRE!A50)&CHAR(10)&"💰 "&IF(MADRE!D50="","",IF(MADRE!D50<1000,TEXT(MADRE!D50,"0"),IF(MADRE!D50<1000000,LEFT(TEXT(MADRE!D50,"0"),LEN(TEXT(MADRE!D50,"0"))-3)&"."&RIGHT(TEXT(MADRE!D50,"0"),3),LEFT(TEXT(MADRE!D50,"0"),LEN(TEXT(MADRE!D50,"0"))-6)&"."&MID(TEXT(MADRE!D50,"0"),LEN(TEXT(MADRE!D50,"0"))-5,3)&"."&RIGHT(TEXT(MADRE!D50,"0"),3))))&CHAR(10)&CHAR(10)&"📏 "&TRIM(MADRE!A51)&CHAR(10)&"💰 "&IF(MADRE!D51="","",IF(MADRE!D51<1000,TEXT(MADRE!D51,"0"),IF(MADRE!D51<1000000,LEFT(TEXT(MADRE!D51,"0"),LEN(TEXT(MADRE!D51,"0"))-3)&"."&RIGHT(TEXT(MADRE!D51,"0"),3),LEFT(TEXT(MADRE!D51,"0"),LEN(TEXT(MADRE!D51,"0"))-6)&"."&MID(TEXT(MADRE!D51,"0"),LEN(TEXT(MADRE!D51,"0"))-5,3)&"."&RIGHT(TEXT(MADRE!D51,"0"),3)))) -> 🌱 ACACIA LEUCANTE 📏 150-180cm E. 4lts 💰 28.083 📏 180-210cm E. 10lts 💰 58.608
A18: =TRIM(MADRE!A52) -> Acacia Longifolia | B18: ="🌱 "&UPPER(TRIM(MADRE!A52))&CHAR(10)&CHAR(10)&"📏 "&TRIM(MADRE!A53)&CHAR(10)&"💰 "&IF(MADRE!D53="","",IF(MADRE!D53<1000,TEXT(MADRE!D53,"0"),IF(MADRE!D53<1000000,LEFT(TEXT(MADRE!D53,"0"),LEN(TEXT(MADRE!D53,"0"))-3)&"."&RIGHT(TEXT(MADRE!D53,"0"),3),LEFT(TEXT(MADRE!D53,"0"),LEN(TEXT(MADRE!D53,"0"))-6)&"."&MID(TEXT(MADRE!D53,"0"),LEN(TEXT(MADRE!D53,"0"))-5,3)&"."&RIGHT(TEXT(MADRE!D53,"0"),3))))&CHAR(10)&CHAR(10)&"📏 "&TRIM(MADRE!A54)&CHAR(10)&"💰 "&IF(MADRE!D54="","",IF(MADRE!D54<1000,TEXT(MADRE!D54,"0"),IF(MADRE!D54<1000000,LEFT(TEXT(MADRE!D54,"0"),LEN(TEXT(MADRE!D54,"0"))-3)&"."&RIGHT(TEXT(MADRE!D54,"0"),3),LEFT(TEXT(MADRE!D54,"0"),LEN(TEXT(MADRE!D54,"0"))-6)&"."&MID(TEXT(MADRE!D54,"0"),LEN(TEXT(MADRE!D54,"0"))-5,3)&"."&RIGHT(TEXT(MADRE!D54,"0"),3))))&CHAR(10)&CHAR(10)&"📏 "&TRIM(MADRE!A55)&CHAR(10)&"💰 "&IF(MADRE!D55="","",IF(MADRE!D55<1000,TEXT(MADRE!D55,"0"),IF(MADRE!D55<1000000,LEFT(TEXT(MADRE!D55,"0"),LEN(TEXT(MADRE!D55,"0"))-3)&"."&RIGHT(TEXT(MADRE!D55,"0"),3),LEFT(TEXT(MADRE!D55,"0"),LEN(TEXT(MADRE!D55,"0"))-6)&"."&MID(TEXT(MADRE!D55,"0"),LEN(TEXT(MADRE!D55,"0"))-5,3)&"."&RIGHT(TEXT(MADRE!D55,"0"),3))))&CHAR(10)&CHAR(10)&"📏 "&TRIM(MADRE!A56)&CHAR(10)&"💰 "&IF(MADRE!D56="","",IF(MADRE!D56<1000,TEXT(MADRE!D56,"0"),IF(MADRE!D56<1000000,LEFT(TEXT(MADRE!D56,"0"),LEN(TEXT(MADRE!D56,"0"))-3)&"."&RIGHT(TEXT(MADRE!D56,"0"),3),LEFT(TEXT(MADRE!D56,"0"),LEN(TEXT(MADRE!D56,"0"))-6)&"."&MID(TEXT(MADRE!D56,"0"),LEN(TEXT(MADRE!D56,"0"))-5,3)&"."&RIGHT(TEXT(MADRE!D56,"0"),3)))) -> 🌱 ACACIA LONGIFOLIA 📏 E. 4lts 150-180cm 💰 28.083 📏 E. 4lts 180-210cm 💰 35.409 📏 E. 10lts 210-250cm 💰 58.608 📏 E. 20lts 250-300cm 💰 79.365
A19: =TRIM(MADRE!A57) -> Acacia melanoxylon (A. Australiana). | B19: ="🌱 "&UPPER(TRIM(MADRE!A57))&CHAR(10)&CHAR(10)&"📏 "&TRIM(MADRE!A58)&CHAR(10)&"💰 "&IF(MADRE!D58="","",IF(MADRE!D58<1000,TEXT(MADRE!D58,"0"),IF(MADRE!D58<1000000,LEFT(TEXT(MADRE!D58,"0"),LEN(TEXT(MADRE!D58,"0"))-3)&"."&RIGHT(TEXT(MADRE!D58,"0"),3),LEFT(TEXT(MADRE!D58,"0"),LEN(TEXT(MADRE!D58,"0"))-6)&"."&MID(TEXT(MADRE!D58,"0"),LEN(TEXT(MADRE!D58,"0"))-5,3)&"."&RIGHT(TEXT(MADRE!D58,"0"),3))))&CHAR(10)&CHAR(10)&"📏 "&TRIM(MADRE!A59)&CHAR(10)&"💰 "&IF(MADRE!D59="","",IF(MADRE!D59<1000,TEXT(MADRE!D59,"0"),IF(MADRE!D59<1000000,LEFT(TEXT(MADRE!D59,"0"),LEN(TEXT(MADRE!D59,"0"))-3)&"."&RIGHT(TEXT(MADRE!D59,"0"),3),LEFT(TEXT(MADRE!D59,"0"),LEN(TEXT(MADRE!D59,"0"))-6)&"."&MID(TEXT(MADRE!D59,"0"),LEN(TEXT(MADRE!D59,"0"))-5,3)&"."&RIGHT(TEXT(MADRE!D59,"0"),3))))&CHAR(10)&CHAR(10)&"📏 "&TRIM(MADRE!A60)&CHAR(10)&"💰 "&IF(MADRE!D60="","",IF(MADRE!D60<1000,TEXT(MADRE!D60,"0"),IF(MADRE!D60<1000000,LEFT(TEXT(MADRE!D60,"0"),LEN(TEXT(MADRE!D60,"0"))-3)&"."&RIGHT(TEXT(MADRE!D60,"0"),3),LEFT(TEXT(MADRE!D60,"0"),LEN(TEXT(MADRE!D60,"0"))-6)&"."&MID(TEXT(MADRE!D60,"0"),LEN(TEXT(MADRE!D60,"0"))-5,3)&"."&RIGHT(TEXT(MADRE!D60,"0"),3))))&CHAR(10)&CHAR(10)&"📏 "&TRIM(MADRE!A61)&CHAR(10)&"💰 "&IF(MADRE!D61="","",IF(MADRE!D61<1000,TEXT(MADRE!D61,"0"),IF(MADRE!D61<1000000,LEFT(TEXT(MADRE!D61,"0"),LEN(TEXT(MADRE!D61,"0"))-3)&"."&RIGHT(TEXT(MADRE!D61,"0"),3),LEFT(TEXT(MADRE!D61,"0"),LEN(TEXT(MADRE!D61,"0"))-6)&"."&MID(TEXT(MADRE!D61,"0"),LEN(TEXT(MADRE!D61,"0"))-5,3)&"."&RIGHT(TEXT(MADRE!D61,"0"),3)))) -> 🌱 ACACIA MELANOXYLON (A. AUSTRALIANA). 📏 150-180 cm de altura. E. 4 lts 💰 28.083 📏 180-210 cm. E. 4 lts 💰 35.409 📏 210-250 cm E10 lts 💰 58.608 📏 250-300cm E 20lts 💰 78.144
A20: =TRIM(MADRE!A8) -> Abedul ( Betula alba). | B20: ="🌱 "&UPPER(TRIM(MADRE!A8))&CHAR(10)&CHAR(10)&"📏 "&TRIM(MADRE!A9)&CHAR(10)&CHAR(10)&"💰 "&IF(MADRE!D9="","",IF(MADRE!D9<1000,TEXT(MADRE!D9,"0"),IF(MADRE!D9<1000000,LEFT(TEXT(MADRE!D9,"0"),LEN(TEXT(MADRE!D9,"0"))-3)&"."&RIGHT(TEXT(MADRE!D9,"0"),3),LEFT(TEXT(MADRE!D9,"0"),LEN(TEXT(MADRE!D9,"0"))-6)&"."&MID(TEXT(MADRE!D9,"0"),LEN(TEXT(MADRE!D9,"0"))-5,3)&"."&RIGHT(TEXT(MADRE!D9,"0"),3))))&CHAR(10)&CHAR(10)&"📏 "&TRIM(MADRE!A10)&CHAR(10)&CHAR(10)&"💰 "&IF(MADRE!D10="","",IF(MADRE!D10<1000,TEXT(MADRE!D10,"0"),IF(MADRE!D10<1000000,LEFT(TEXT(MADRE!D10,"0"),LEN(TEXT(MADRE!D10,"0"))-3)&"."&RIGHT(TEXT(MADRE!D10,"0"),3),LEFT(TEXT(MADRE!D10,"0"),LEN(TEXT(MADRE!D10,"0"))-6)&"."&MID(TEXT(MADRE!D10,"0"),LEN(TEXT(MADRE!D10,"0"))-5,3)&"."&RIGHT(TEXT(MADRE!D10,"0"),3)))) -> 🌱 ABEDUL ( BETULA ALBA). 📏 120-150 cm de altura E, 10 lts 💰 39.072 📏 180-210 cm de altura E. 20 lts 💰 109.890 | D20: =B20 -> 🌱 ABEDUL ( BETULA ALBA). 📏 120-150 cm de altura E, 10 lts 💰 39.072 📏 180-210 cm de altura E. 20 lts 💰 109.890
A21: =TRIM(MADRE!A11) -> Abelia grandiflora. | B21: ="🌱 "&UPPER(TRIM(MADRE!A11))&CHAR(10)&CHAR(10)&"📏 "&TRIM(MADRE!A12)&CHAR(10)&CHAR(10)&"💰 "&IF(MADRE!D12="","",IF(MADRE!D12<1000,TEXT(MADRE!D12,"0"),IF(MADRE!D12<1000000,LEFT(TEXT(MADRE!D12,"0"),LEN(TEXT(MADRE!D12,"0"))-3)&"."&RIGHT(TEXT(MADRE!D12,"0"),3),LEFT(TEXT(MADRE!D12,"0"),LEN(TEXT(MADRE!D12,"0"))-6)&"."&MID(TEXT(MADRE!D12,"0"),LEN(TEXT(MADRE!D12,"0"))-5,3)&"."&RIGHT(TEXT(MADRE!D12,"0"),3))))&CHAR(10)&CHAR(10)&"📏 "&TRIM(MADRE!A13)&CHAR(10)&CHAR(10)&"💰 "&IF(MADRE!D13="","",IF(MADRE!D13<1000,TEXT(MADRE!D13,"0"),IF(MADRE!D13<1000000,LEFT(TEXT(MADRE!D13,"0"),LEN(TEXT(MADRE!D13,"0"))-3)&"."&RIGHT(TEXT(MADRE!D13,"0"),3),LEFT(TEXT(MADRE!D13,"0"),LEN(TEXT(MADRE!D13,"0"))-6)&"."&MID(TEXT(MADRE!D13,"0"),LEN(TEXT(MADRE!D13,"0"))-5,3)&"."&RIGHT(TEXT(MADRE!D13,"0"),3))))&CHAR(10)&CHAR(10)&"📏 "&TRIM(MADRE!A14)&CHAR(10)&CHAR(10)&"💰 "&IF(MADRE!D14="","",IF(MADRE!D14<1000,TEXT(MADRE!D14,"0"),IF(MADRE!D14<1000000,LEFT(TEXT(MADRE!D14,"0"),LEN(TEXT(MADRE!D14,"0"))-3)&"."&RIGHT(TEXT(MADRE!D14,"0"),3),LEFT(TEXT(MADRE!D14,"0"),LEN(TEXT(MADRE!D14,"0"))-6)&"."&MID(TEXT(MADRE!D14,"0"),LEN(TEXT(MADRE!D14,"0"))-5,3)&"."&RIGHT(TEXT(MADRE!D14,"0"),3))))&CHAR(10)&CHAR(10)&"📏 "&TRIM(MADRE!A15)&CHAR(10)&CHAR(10)&"💰 "&IF(MADRE!D15="","",IF(MADRE!D15<1000,TEXT(MADRE!D15,"0"),IF(MADRE!D15<1000000,LEFT(TEXT(MADRE!D15,"0"),LEN(TEXT(MADRE!D15,"0"))-3)&"."&RIGHT(TEXT(MADRE!D15,"0"),3),LEFT(TEXT(MADRE!D15,"0"),LEN(TEXT(MADRE!D15,"0"))-6)&"."&MID(TEXT(MADRE!D15,"0"),LEN(TEXT(MADRE!D15,"0"))-5,3)&"."&RIGHT(TEXT(MADRE!D15,"0"),3)))) -> 🌱 ABELIA GRANDIFLORA. 📏 E. 4 lts 💰 12.232 📏 E. 10 lts 💰 27.000 📏 E. 15 lts 💰 36.500 📏 E. 20 lts 💰 49.000 | D21: =B21 -> 🌱 ABELIA GRANDIFLORA. 📏 E. 4 lts 💰 12.232 📏 E. 10 lts 💰 27.000 📏 E. 15 lts 💰 36.500 📏 E. 20 lts 💰 49.000
A22: =TRIM(MADRE!A16) -> Abelia grandiflora compacta (enana). | B22: ="🌱 "&UPPER(TRIM(MADRE!A16))&CHAR(10)&CHAR(10)&"📏 "&TRIM(MADRE!A17)&CHAR(10)&CHAR(10)&"💰 "&IF(MADRE!D17="","",IF(MADRE!D17<1000,TEXT(MADRE!D17,"0"),IF(MADRE!D17<1000000,LEFT(TEXT(MADRE!D17,"0"),LEN(TEXT(MADRE!D17,"0"))-3)&"."&RIGHT(TEXT(MADRE!D17,"0"),3),LEFT(TEXT(MADRE!D17,"0"),LEN(TEXT(MADRE!D17,"0"))-6)&"."&MID(TEXT(MADRE!D17,"0"),LEN(TEXT(MADRE!D17,"0"))-5,3)&"."&RIGHT(TEXT(MADRE!D17,"0"),3))))&CHAR(10)&CHAR(10)&"📏 "&TRIM(MADRE!A18)&CHAR(10)&CHAR(10)&"💰 "&IF(MADRE!D18="","",IF(MADRE!D18<1000,TEXT(MADRE!D18,"0"),IF(MADRE!D18<1000000,LEFT(TEXT(MADRE!D18,"0"),LEN(TEXT(MADRE!D18,"0"))-3)&"."&RIGHT(TEXT(MADRE!D18,"0"),3),LEFT(TEXT(MADRE!D18,"0"),LEN(TEXT(MADRE!D18,"0"))-6)&"."&MID(TEXT(MADRE!D18,"0"),LEN(TEXT(MADRE!D18,"0"))-5,3)&"."&RIGHT(TEXT(MADRE!D18,"0"),3)))) -> 🌱 ABELIA GRANDIFLORA COMPACTA (ENANA). 📏 E. 4 lts 💰 12.232 📏 E. 10 lts 💰 27.000 | D22: =B22 -> 🌱 ABELIA GRANDIFLORA COMPACTA (ENANA). 📏 E. 4 lts 💰 12.232 📏 E. 10 lts 💰 27.000
A23: =TRIM(MADRE!A19) -> Acacia bayleyana rubra. Inj. | B23: ="🌱 "&UPPER(TRIM(MADRE!A19))&CHAR(10)&CHAR(10)&"📏 "&TRIM(MADRE!A20)&CHAR(10)&CHAR(10)&"💰 "&IF(MADRE!D20="","",IF(MADRE!D20<1000,TEXT(MADRE!D20,"0"),IF(MADRE!D20<1000000,LEFT(TEXT(MADRE!D20,"0"),LEN(TEXT(MADRE!D20,"0"))-3)&"."&RIGHT(TEXT(MADRE!D20,"0"),3),LEFT(TEXT(MADRE!D20,"0"),LEN(TEXT(MADRE!D20,"0"))-6)&"."&MID(TEXT(MADRE!D20,"0"),LEN(TEXT(MADRE!D20,"0"))-5,3)&"."&RIGHT(TEXT(MADRE!D20,"0"),3))))&CHAR(10)&CHAR(10)&"📏 "&TRIM(MADRE!A21)&CHAR(10)&CHAR(10)&"💰 "&IF(MADRE!D21="","",IF(MADRE!D21<1000,TEXT(MADRE!D21,"0"),IF(MADRE!D21<1000000,LEFT(TEXT(MADRE!D21,"0"),LEN(TEXT(MADRE!D21,"0"))-3)&"."&RIGHT(TEXT(MADRE!D21,"0"),3),LEFT(TEXT(MADRE!D21,"0"),LEN(TEXT(MADRE!D21,"0"))-6)&"."&MID(TEXT(MADRE!D21,"0"),LEN(TEXT(MADRE!D21,"0"))-5,3)&"."&RIGHT(TEXT(MADRE!D21,"0"),3)))) -> 🌱 ACACIA BAYLEYANA RUBRA. INJ. 📏 Injertada 80 cm de altura E. 4 lts 💰 53.724 📏 Inj. 120-150 cm. E. 4 lts 💰 58.608 | D23: =B23 -> 🌱 ACACIA BAYLEYANA RUBRA. INJ. 📏 Injertada 80 cm de altura E. 4 lts 💰 53.724 📏 Inj. 120-150 cm. E. 4 lts 💰 58.608
A24: =TRIM(MADRE!A22) -> Acacia blanca (Robinia pseudoacicia). | B24: ="🌱 "&UPPER(TRIM(MADRE!A22))&CHAR(10)&CHAR(10)&"📏 "&TRIM(MADRE!A23)&CHAR(10)&CHAR(10)&"💰 "&IF(MADRE!D23="","",IF(MADRE!D23<1000,TEXT(MADRE!D23,"0"),IF(MADRE!D23<1000000,LEFT(TEXT(MADRE!D23,"0"),LEN(TEXT(MADRE!D23,"0"))-3)&"."&RIGHT(TEXT(MADRE!D23,"0"),3),LEFT(TEXT(MADRE!D23,"0"),LEN(TEXT(MADRE!D23,"0"))-6)&"."&MID(TEXT(MADRE!D23,"0"),LEN(TEXT(MADRE!D23,"0"))-5,3)&"."&RIGHT(TEXT(MADRE!D23,"0"),3))))&CHAR(10)&CHAR(10)&"📏 "&TRIM(MADRE!A24)&CHAR(10)&CHAR(10)&"💰 "&IF(MADRE!D24="","",IF(MADRE!D24<1000,TEXT(MADRE!D24,"0"),IF(MADRE!D24<1000000,LEFT(TEXT(MADRE!D24,"0"),LEN(TEXT(MADRE!D24,"0"))-3)&"."&RIGHT(TEXT(MADRE!D24,"0"),3),LEFT(TEXT(MADRE!D24,"0"),LEN(TEXT(MADRE!D24,"0"))-6)&"."&MID(TEXT(MADRE!D24,"0"),LEN(TEXT(MADRE!D24,"0"))-5,3)&"."&RIGHT(TEXT(MADRE!D24,"0"),3))))&CHAR(10)&CHAR(10)&"📏 "&TRIM(MADRE!A25)&CHAR(10)&CHAR(10)&"💰 "&IF(MADRE!D25="","",IF(MADRE!D25<1000,TEXT(MADRE!D25,"0"),IF(MADRE!D25<1000000,LEFT(TEXT(MADRE!D25,"0"),LEN(TEXT(MADRE!D25,"0"))-3)&"."&RIGHT(TEXT(MADRE!D25,"0"),3),LEFT(TEXT(MADRE!D25,"0"),LEN(TEXT(MADRE!D25,"0"))-6)&"."&MID(TEXT(MADRE!D25,"0"),LEN(TEXT(MADRE!D25,"0"))-5,3)&"."&RIGHT(TEXT(MADRE!D25,"0"),3)))) -> 🌱 ACACIA BLANCA (ROBINIA PSEUDOACICIA). 📏 150-180 cm. E. 4 lts 💰 36.630 📏 180-210cm E. 10 lts 💰 61.050 📏 220-250cm E.. 15lts 💰 79.365 | D24: =B24 -> 🌱 ACACIA BLANCA (ROBINIA PSEUDOACICIA). 📏 150-180 cm. E. 4 lts 💰 36.630 📏 180-210cm E. 10 lts 💰 61.050 📏 220-250cm E.. 15lts 💰 79.365
A25: =TRIM(MADRE!A26) -> Acacia bola (Robinia pseudoacacia umbracuculifera). Inj. | B25: ="🌱 "&UPPER(TRIM(MADRE!A26))&CHAR(10)&CHAR(10)&"📏 "&TRIM(MADRE!A27)&CHAR(10)&CHAR(10)&"💰 "&IF(MADRE!D27="","",IF(MADRE!D27<1000,TEXT(MADRE!D27,"0"),IF(MADRE!D27<1000000,LEFT(TEXT(MADRE!D27,"0"),LEN(TEXT(MADRE!D27,"0"))-3)&"."&RIGHT(TEXT(MADRE!D27,"0"),3),LEFT(TEXT(MADRE!D27,"0"),LEN(TEXT(MADRE!D27,"0"))-6)&"."&MID(TEXT(MADRE!D27,"0"),LEN(TEXT(MADRE!D27,"0"))-5,3)&"."&RIGHT(TEXT(MADRE!D27,"0"),3))))&CHAR(10)&CHAR(10)&"📏 "&TRIM(MADRE!A28)&CHAR(10)&CHAR(10)&"💰 "&IF(MADRE!D28="","",IF(MADRE!D28<1000,TEXT(MADRE!D28,"0"),IF(MADRE!D28<1000000,LEFT(TEXT(MADRE!D28,"0"),LEN(TEXT(MADRE!D28,"0"))-3)&"."&RIGHT(TEXT(MADRE!D28,"0"),3),LEFT(TEXT(MADRE!D28,"0"),LEN(TEXT(MADRE!D28,"0"))-6)&"."&MID(TEXT(MADRE!D28,"0"),LEN(TEXT(MADRE!D28,"0"))-5,3)&"."&RIGHT(TEXT(MADRE!D28,"0"),3))))&CHAR(10)&CHAR(10)&"📏 "&TRIM(MADRE!A29)&CHAR(10)&CHAR(10)&"💰 "&IF(MADRE!D29="","",IF(MADRE!D29<1000,TEXT(MADRE!D29,"0"),IF(MADRE!D29<1000000,LEFT(TEXT(MADRE!D29,"0"),LEN(TEXT(MADRE!D29,"0"))-3)&"."&RIGHT(TEXT(MADRE!D29,"0"),3),LEFT(TEXT(MADRE!D29,"0"),LEN(TEXT(MADRE!D29,"0"))-6)&"."&MID(TEXT(MADRE!D29,"0"),LEN(TEXT(MADRE!D29,"0"))-5,3)&"."&RIGHT(TEXT(MADRE!D29,"0"),3)))) -> 🌱 ACACIA BOLA (ROBINIA PSEUDOACACIA UMBRACUCULIFERA). INJ. 📏 Inj. A 200 cm de altura, Con copa, 6-8 cm circunsferencia de tronco. E. 10 lts. 💰 58.608 📏 Inj, a 200 cm. Con copa, 8-10 cm E. 15 lts. 💰 67.155 📏 inj a 200cm con copa, 10-12cm circunsf. 20lts 💰 85.470 | D25: =B25 -> 🌱 ACACIA BOLA (ROBINIA PSEUDOACACIA UMBRACUCULIFERA). INJ. 📏 Inj. A 200 cm de altura, Con copa, 6-8 cm circunsferencia de tronco. E. 10 lts. 💰 58.608 📏 Inj, a 200 cm. Con copa, 8-10 cm E. 15 lts. 💰 67.155 📏 inj a 200cm con copa, 10-12cm circunsf. 20lts 💰 85.470
A26: =TRIM(MADRE!A30) -> Acacia casque rouge (Robinia pseudoacacia). Inj. | B26: ="🌱 "&UPPER(TRIM(MADRE!A30))&CHAR(10)&CHAR(10)&"📏 "&TRIM(MADRE!A31)&CHAR(10)&CHAR(10)&"💰 "&IF(MADRE!D31="","",IF(MADRE!D31<1000,TEXT(MADRE!D31,"0"),IF(MADRE!D31<1000000,LEFT(TEXT(MADRE!D31,"0"),LEN(TEXT(MADRE!D31,"0"))-3)&"."&RIGHT(TEXT(MADRE!D31,"0"),3),LEFT(TEXT(MADRE!D31,"0"),LEN(TEXT(MADRE!D31,"0"))-6)&"."&MID(TEXT(MADRE!D31,"0"),LEN(TEXT(MADRE!D31,"0"))-5,3)&"."&RIGHT(TEXT(MADRE!D31,"0"),3))))&CHAR(10)&CHAR(10)&"📏 "&TRIM(MADRE!A32)&CHAR(10)&CHAR(10)&"💰 "&IF(MADRE!D32="","",IF(MADRE!D32<1000,TEXT(MADRE!D32,"0"),IF(MADRE!D32<1000000,LEFT(TEXT(MADRE!D32,"0"),LEN(TEXT(MADRE!D32,"0"))-3)&"."&RIGHT(TEXT(MADRE!D32,"0"),3),LEFT(TEXT(MADRE!D32,"0"),LEN(TEXT(MADRE!D32,"0"))-6)&"."&MID(TEXT(MADRE!D32,"0"),LEN(TEXT(MADRE!D32,"0"))-5,3)&"."&RIGHT(TEXT(MADRE!D32,"0"),3)))) -> 🌱 ACACIA CASQUE ROUGE (ROBINIA PSEUDOACACIA). INJ. 📏 Inj. 200cm de altura Con copa, 8-10 cm de circunsferencia de tronco. E. 15 lts. 💰 67.155 📏 Inj. Con copa, 10-12 cm E. 20 lts. 💰 78.144 | D26: =B26 -> 🌱 ACACIA CASQUE ROUGE (ROBINIA PSEUDOACACIA). INJ. 📏 Inj. 200cm de altura Con copa, 8-10 cm de circunsferencia de tronco. E. 15 lts. 💰 67.155 📏 Inj. Con copa, 10-12 cm E. 20 lts. 💰 78.144
A27: =TRIM(MADRE!A33) -> Acacia constantinopla (Albizzia julibrissin). | B27: ="🌱 "&UPPER(TRIM(MADRE!A33))&CHAR(10)&CHAR(10)&"📏 "&TRIM(MADRE!A34)&CHAR(10)&CHAR(10)&"💰 "&IF(MADRE!D34="","",IF(MADRE!D34<1000,TEXT(MADRE!D34,"0"),IF(MADRE!D34<1000000,LEFT(TEXT(MADRE!D34,"0"),LEN(TEXT(MADRE!D34,"0"))-3)&"."&RIGHT(TEXT(MADRE!D34,"0"),3),LEFT(TEXT(MADRE!D34,"0"),LEN(TEXT(MADRE!D34,"0"))-6)&"."&MID(TEXT(MADRE!D34,"0"),LEN(TEXT(MADRE!D34,"0"))-5,3)&"."&RIGHT(TEXT(MADRE!D34,"0"),3))))&CHAR(10)&CHAR(10)&"📏 "&TRIM(MADRE!A35)&CHAR(10)&CHAR(10)&"💰 "&IF(MADRE!D35="","",IF(MADRE!D35<1000,TEXT(MADRE!D35,"0"),IF(MADRE!D35<1000000,LEFT(TEXT(MADRE!D35,"0"),LEN(TEXT(MADRE!D35,"0"))-3)&"."&RIGHT(TEXT(MADRE!D35,"0"),3),LEFT(TEXT(MADRE!D35,"0"),LEN(TEXT(MADRE!D35,"0"))-6)&"."&MID(TEXT(MADRE!D35,"0"),LEN(TEXT(MADRE!D35,"0"))-5,3)&"."&RIGHT(TEXT(MADRE!D35,"0"),3)))) -> 🌱 ACACIA CONSTANTINOPLA (ALBIZZIA JULIBRISSIN). 📏 con copa, 6-8 cm de circunsferencia de tronco. 180-210 cm de altura E. 15 lts 💰 67.155 📏 con copa, 8-10 cm. 210-250 cm E. 20 lts 💰 78.144 | D27: =B27 -> 🌱 ACACIA CONSTANTINOPLA (ALBIZZIA JULIBRISSIN). 📏 con copa, 6-8 cm de circunsferencia de tronco. 180-210 cm de altura E. 15 lts 💰 67.155 📏 con copa, 8-10 cm. 210-250 cm E. 20 lts 💰 78.144
A28: =TRIM(MADRE!A36) -> Acacia dealbata (Aromo frances). | B28: ="🌱 "&UPPER(TRIM(MADRE!A36))&CHAR(10)&CHAR(10)&"📏 "&TRIM(MADRE!A37)&CHAR(10)&CHAR(10)&"💰 "&IF(MADRE!D37="","",IF(MADRE!D37<1000,TEXT(MADRE!D37,"0"),IF(MADRE!D37<1000000,LEFT(TEXT(MADRE!D37,"0"),LEN(TEXT(MADRE!D37,"0"))-3)&"."&RIGHT(TEXT(MADRE!D37,"0"),3),LEFT(TEXT(MADRE!D37,"0"),LEN(TEXT(MADRE!D37,"0"))-6)&"."&MID(TEXT(MADRE!D37,"0"),LEN(TEXT(MADRE!D37,"0"))-5,3)&"."&RIGHT(TEXT(MADRE!D37,"0"),3))))&CHAR(10)&CHAR(10)&"📏 "&TRIM(MADRE!A38)&CHAR(10)&CHAR(10)&"💰 "&IF(MADRE!D38="","",IF(MADRE!D38<1000,TEXT(MADRE!D38,"0"),IF(MADRE!D38<1000000,LEFT(TEXT(MADRE!D38,"0"),LEN(TEXT(MADRE!D38,"0"))-3)&"."&RIGHT(TEXT(MADRE!D38,"0"),3),LEFT(TEXT(MADRE!D38,"0"),LEN(TEXT(MADRE!D38,"0"))-6)&"."&MID(TEXT(MADRE!D38,"0"),LEN(TEXT(MADRE!D38,"0"))-5,3)&"."&RIGHT(TEXT(MADRE!D38,"0"),3)))) -> 🌱 ACACIA DEALBATA (AROMO FRANCES). 📏 con copa, 210-250 cm. E. 10 lts 💰 42.000 📏 con copa, 250 cm. E. 20 lts 💰 78.144 | D28: =B28 -> 🌱 ACACIA DEALBATA (AROMO FRANCES). 📏 con copa, 210-250 cm. E. 10 lts 💰 42.000 📏 con copa, 250 cm. E. 20 lts 💰 78.144
A29: =TRIM(MADRE!A39) -> Acacia Caven (Vachellia caven) Espinillo | B29: ="🌱 "&UPPER(TRIM(MADRE!A39))&CHAR(10)&CHAR(10)&"📏 "&TRIM(MADRE!A40)&CHAR(10)&CHAR(10)&"💰 "&IF(MADRE!D40="","",IF(MADRE!D40<1000,TEXT(MADRE!D40,"0"),IF(MADRE!D40<1000000,LEFT(TEXT(MADRE!D40,"0"),LEN(TEXT(MADRE!D40,"0"))-3)&"."&RIGHT(TEXT(MADRE!D40,"0"),3),LEFT(TEXT(MADRE!D40,"0"),LEN(TEXT(MADRE!D40,"0"))-6)&"."&MID(TEXT(MADRE!D40,"0"),LEN(TEXT(MADRE!D40,"0"))-5,3)&"."&RIGHT(TEXT(MADRE!D40,"0"),3))))&CHAR(10)&CHAR(10)&"📏 "&TRIM(MADRE!A41)&CHAR(10)&CHAR(10)&"💰 "&IF(MADRE!D41="","",IF(MADRE!D41<1000,TEXT(MADRE!D41,"0"),IF(MADRE!D41<1000000,LEFT(TEXT(MADRE!D41,"0"),LEN(TEXT(MADRE!D41,"0"))-3)&"."&RIGHT(TEXT(MADRE!D41,"0"),3),LEFT(TEXT(MADRE!D41,"0"),LEN(TEXT(MADRE!D41,"0"))-6)&"."&MID(TEXT(MADRE!D41,"0"),LEN(TEXT(MADRE!D41,"0"))-5,3)&"."&RIGHT(TEXT(MADRE!D41,"0"),3)))) -> 🌱 ACACIA CAVEN (VACHELLIA CAVEN) ESPINILLO 📏 120-150cm E. 4lts 💰 28.083 📏 150-180cm E. 10lts 💰 40.000 | D29: =B29 -> 🌱 ACACIA CAVEN (VACHELLIA CAVEN) ESPINILLO 📏 120-150cm E. 4lts 💰 28.083 📏 150-180cm E. 10lts 💰 40.000
A30: =TRIM(MADRE!A42) -> Acacia floribunda. | B30: ="🌱 "&UPPER(TRIM(MADRE!A42))&CHAR(10)&CHAR(10)&"📏 "&TRIM(MADRE!A43)&CHAR(10)&CHAR(10)&"💰 "&IF(MADRE!D43="","",IF(MADRE!D43<1000,TEXT(MADRE!D43,"0"),IF(MADRE!D43<1000000,LEFT(TEXT(MADRE!D43,"0"),LEN(TEXT(MADRE!D43,"0"))-3)&"."&RIGHT(TEXT(MADRE!D43,"0"),3),LEFT(TEXT(MADRE!D43,"0"),LEN(TEXT(MADRE!D43,"0"))-6)&"."&MID(TEXT(MADRE!D43,"0"),LEN(TEXT(MADRE!D43,"0"))-5,3)&"."&RIGHT(TEXT(MADRE!D43,"0"),3))))&CHAR(10)&CHAR(10)&"📏 "&TRIM(MADRE!A44)&CHAR(10)&CHAR(10)&"💰 "&IF(MADRE!D44="","",IF(MADRE!D44<1000,TEXT(MADRE!D44,"0"),IF(MADRE!D44<1000000,LEFT(TEXT(MADRE!D44,"0"),LEN(TEXT(MADRE!D44,"0"))-3)&"."&RIGHT(TEXT(MADRE!D44,"0"),3),LEFT(TEXT(MADRE!D44,"0"),LEN(TEXT(MADRE!D44,"0"))-6)&"."&MID(TEXT(MADRE!D44,"0"),LEN(TEXT(MADRE!D44,"0"))-5,3)&"."&RIGHT(TEXT(MADRE!D44,"0"),3)))) -> 🌱 ACACIA FLORIBUNDA. 📏 150-180 cm. E. 4 lts 💰 28.083 📏 180-210cm. .. E. 10lts 💰 58.608 | D30: =B30 -> 🌱 ACACIA FLORIBUNDA. 📏 150-180 cm. E. 4 lts 💰 28.083 📏 180-210cm. .. E. 10lts 💰 58.608
A31: =TRIM(MADRE!A45) -> Acacia frisia (Robinia pseudoacacia aurea). Inj. | B31: ="🌱 "&UPPER(TRIM(MADRE!A45))&CHAR(10)&CHAR(10)&"📏 "&TRIM(MADRE!A46)&CHAR(10)&CHAR(10)&"💰 "&IF(MADRE!D46="","",IF(MADRE!D46<1000,TEXT(MADRE!D46,"0"),IF(MADRE!D46<1000000,LEFT(TEXT(MADRE!D46,"0"),LEN(TEXT(MADRE!D46,"0"))-3)&"."&RIGHT(TEXT(MADRE!D46,"0"),3),LEFT(TEXT(MADRE!D46,"0"),LEN(TEXT(MADRE!D46,"0"))-6)&"."&MID(TEXT(MADRE!D46,"0"),LEN(TEXT(MADRE!D46,"0"))-5,3)&"."&RIGHT(TEXT(MADRE!D46,"0"),3))))&CHAR(10)&CHAR(10)&"📏 "&TRIM(MADRE!A47)&CHAR(10)&CHAR(10)&"💰 "&IF(MADRE!D47="","",IF(MADRE!D47<1000,TEXT(MADRE!D47,"0"),IF(MADRE!D47<1000000,LEFT(TEXT(MADRE!D47,"0"),LEN(TEXT(MADRE!D47,"0"))-3)&"."&RIGHT(TEXT(MADRE!D47,"0"),3),LEFT(TEXT(MADRE!D47,"0"),LEN(TEXT(MADRE!D47,"0"))-6)&"."&MID(TEXT(MADRE!D47,"0"),LEN(TEXT(MADRE!D47,"0"))-5,3)&"."&RIGHT(TEXT(MADRE!D47,"0"),3))))&CHAR(10)&CHAR(10)&"📏 "&TRIM(MADRE!A48)&CHAR(10)&CHAR(10)&"💰 "&IF(MADRE!D48="","",IF(MADRE!D48<1000,TEXT(MADRE!D48,"0"),IF(MADRE!D48<1000000,LEFT(TEXT(MADRE!D48,"0"),LEN(TEXT(MADRE!D48,"0"))-3)&"."&RIGHT(TEXT(MADRE!D48,"0"),3),LEFT(TEXT(MADRE!D48,"0"),LEN(TEXT(MADRE!D48,"0"))-6)&"."&MID(TEXT(MADRE!D48,"0"),LEN(TEXT(MADRE!D48,"0"))-5,3)&"."&RIGHT(TEXT(MADRE!D48,"0"),3)))) -> 🌱 ACACIA FRISIA (ROBINIA PSEUDOACACIA AUREA). INJ. 📏 Injertado. Con copa, 6-8 cm circunsferencia de tronco. E. 10 lts. 💰 58.608 📏 Inj. Con copa, 8-10 cm E. 15 lts. 💰 67.155 📏 inj. Con copa 10-12cm 💰 85.470 | D31: =B31 -> 🌱 ACACIA FRISIA (ROBINIA PSEUDOACACIA AUREA). INJ. 📏 Injertado. Con copa, 6-8 cm circunsferencia de tronco. E. 10 lts. 💰 58.608 📏 Inj. Con copa, 8-10 cm E. 15 lts. 💰 67.155 📏 inj. Con copa 10-12cm 💰 85.470
A32: =TRIM(MADRE!A49) -> Acacia Leucante | B32: ="🌱 "&UPPER(TRIM(MADRE!A49))&CHAR(10)&CHAR(10)&"📏 "&TRIM(MADRE!A50)&CHAR(10)&CHAR(10)&"💰 "&IF(MADRE!D50="","",IF(MADRE!D50<1000,TEXT(MADRE!D50,"0"),IF(MADRE!D50<1000000,LEFT(TEXT(MADRE!D50,"0"),LEN(TEXT(MADRE!D50,"0"))-3)&"."&RIGHT(TEXT(MADRE!D50,"0"),3),LEFT(TEXT(MADRE!D50,"0"),LEN(TEXT(MADRE!D50,"0"))-6)&"."&MID(TEXT(MADRE!D50,"0"),LEN(TEXT(MADRE!D50,"0"))-5,3)&"."&RIGHT(TEXT(MADRE!D50,"0"),3))))&CHAR(10)&CHAR(10)&"📏 "&TRIM(MADRE!A51)&CHAR(10)&CHAR(10)&"💰 "&IF(MADRE!D51="","",IF(MADRE!D51<1000,TEXT(MADRE!D51,"0"),IF(MADRE!D51<1000000,LEFT(TEXT(MADRE!D51,"0"),LEN(TEXT(MADRE!D51,"0"))-3)&"."&RIGHT(TEXT(MADRE!D51,"0"),3),LEFT(TEXT(MADRE!D51,"0"),LEN(TEXT(MADRE!D51,"0"))-6)&"."&MID(TEXT(MADRE!D51,"0"),LEN(TEXT(MADRE!D51,"0"))-5,3)&"."&RIGHT(TEXT(MADRE!D51,"0"),3)))) -> 🌱 ACACIA LEUCANTE 📏 150-180cm E. 4lts 💰 28.083 📏 180-210cm E. 10lts 💰 58.608 | D32: =B32 -> 🌱 ACACIA LEUCANTE 📏 150-180cm E. 4lts 💰 28.083 📏 180-210cm E. 10lts 💰 58.608
A33: =TRIM(MADRE!A52) -> Acacia Longifolia | B33: ="🌱 "&UPPER(TRIM(MADRE!A52))&CHAR(10)&CHAR(10)&"📏 "&TRIM(MADRE!A53)&CHAR(10)&CHAR(10)&"💰 "&IF(MADRE!D53="","",IF(MADRE!D53<1000,TEXT(MADRE!D53,"0"),IF(MADRE!D53<1000000,LEFT(TEXT(MADRE!D53,"0"),LEN(TEXT(MADRE!D53,"0"))-3)&"."&RIGHT(TEXT(MADRE!D53,"0"),3),LEFT(TEXT(MADRE!D53,"0"),LEN(TEXT(MADRE!D53,"0"))-6)&"."&MID(TEXT(MADRE!D53,"0"),LEN(TEXT(MADRE!D53,"0"))-5,3)&"."&RIGHT(TEXT(MADRE!D53,"0"),3))))&CHAR(10)&CHAR(10)&"📏 "&TRIM(MADRE!A54)&CHAR(10)&CHAR(10)&"💰 "&IF(MADRE!D54="","",IF(MADRE!D54<1000,TEXT(MADRE!D54,"0"),IF(MADRE!D54<1000000,LEFT(TEXT(MADRE!D54,"0"),LEN(TEXT(MADRE!D54,"0"))-3)&"."&RIGHT(TEXT(MADRE!D54,"0"),3),LEFT(TEXT(MADRE!D54,"0"),LEN(TEXT(MADRE!D54,"0"))-6)&"."&MID(TEXT(MADRE!D54,"0"),LEN(TEXT(MADRE!D54,"0"))-5,3)&"."&RIGHT(TEXT(MADRE!D54,"0"),3))))&CHAR(10)&CHAR(10)&"📏 "&TRIM(MADRE!A55)&CHAR(10)&CHAR(10)&"💰 "&IF(MADRE!D55="","",IF(MADRE!D55<1000,TEXT(MADRE!D55,"0"),IF(MADRE!D55<1000000,LEFT(TEXT(MADRE!D55,"0"),LEN(TEXT(MADRE!D55,"0"))-3)&"."&RIGHT(TEXT(MADRE!D55,"0"),3),LEFT(TEXT(MADRE!D55,"0"),LEN(TEXT(MADRE!D55,"0"))-6)&"."&MID(TEXT(MADRE!D55,"0"),LEN(TEXT(MADRE!D55,"0"))-5,3)&"."&RIGHT(TEXT(MADRE!D55,"0"),3))))&CHAR(10)&CHAR(10)&"📏 "&TRIM(MADRE!A56)&CHAR(10)&CHAR(10)&"💰 "&IF(MADRE!D56="","",IF(MADRE!D56<1000,TEXT(MADRE!D56,"0"),IF(MADRE!D56<1000000,LEFT(TEXT(MADRE!D56,"0"),LEN(TEXT(MADRE!D56,"0"))-3)&"."&RIGHT(TEXT(MADRE!D56,"0"),3),LEFT(TEXT(MADRE!D56,"0"),LEN(TEXT(MADRE!D56,"0"))-6)&"."&MID(TEXT(MADRE!D56,"0"),LEN(TEXT(MADRE!D56,"0"))-5,3)&"."&RIGHT(TEXT(MADRE!D56,"0"),3)))) -> 🌱 ACACIA LONGIFOLIA 📏 E. 4lts 150-180cm 💰 28.083 📏 E. 4lts 180-210cm 💰 35.409 📏 E. 10lts 210-250cm 💰 58.608 📏 E. 20lts 250-300cm 💰 79.365 | D33: =B33 -> 🌱 ACACIA LONGIFOLIA 📏 E. 4lts 150-180cm 💰 28.083 📏 E. 4lts 180-210cm 💰 35.409 📏 E. 10lts 210-250cm 💰 58.608 📏 E. 20lts 250-300cm 💰 79.365
A34: =TRIM(MADRE!A57) -> Acacia melanoxylon (A. Australiana). | B34: ="🌱 "&UPPER(TRIM(MADRE!A57))&CHAR(10)&CHAR(10)&"📏 "&TRIM(MADRE!A58)&CHAR(10)&CHAR(10)&"💰 "&IF(MADRE!D58="","",IF(MADRE!D58<1000,TEXT(MADRE!D58,"0"),IF(MADRE!D58<1000000,LEFT(TEXT(MADRE!D58,"0"),LEN(TEXT(MADRE!D58,"0"))-3)&"."&RIGHT(TEXT(MADRE!D58,"0"),3),LEFT(TEXT(MADRE!D58,"0"),LEN(TEXT(MADRE!D58,"0"))-6)&"."&MID(TEXT(MADRE!D58,"0"),LEN(TEXT(MADRE!D58,"0"))-5,3)&"."&RIGHT(TEXT(MADRE!D58,"0"),3))))&CHAR(10)&CHAR(10)&"📏 "&TRIM(MADRE!A59)&CHAR(10)&CHAR(10)&"💰 "&IF(MADRE!D59="","",IF(MADRE!D59<1000,TEXT(MADRE!D59,"0"),IF(MADRE!D59<1000000,LEFT(TEXT(MADRE!D59,"0"),LEN(TEXT(MADRE!D59,"0"))-3)&"."&RIGHT(TEXT(MADRE!D59,"0"),3),LEFT(TEXT(MADRE!D59,"0"),LEN(TEXT(MADRE!D59,"0"))-6)&"."&MID(TEXT(MADRE!D59,"0"),LEN(TEXT(MADRE!D59,"0"))-5,3)&"."&RIGHT(TEXT(MADRE!D59,"0"),3))))&CHAR(10)&CHAR(10)&"📏 "&TRIM(MADRE!A60)&CHAR(10)&CHAR(10)&"💰 "&IF(MADRE!D60="","",IF(MADRE!D60<1000,TEXT(MADRE!D60,"0"),IF(MADRE!D60<1000000,LEFT(TEXT(MADRE!D60,"0"),LEN(TEXT(MADRE!D60,"0"))-3)&"."&RIGHT(TEXT(MADRE!D60,"0"),3),LEFT(TEXT(MADRE!D60,"0"),LEN(TEXT(MADRE!D60,"0"))-6)&"."&MID(TEXT(MADRE!D60,"0"),LEN(TEXT(MADRE!D60,"0"))-5,3)&"."&RIGHT(TEXT(MADRE!D60,"0"),3))))&CHAR(10)&CHAR(10)&"📏 "&TRIM(MADRE!A61)&CHAR(10)&CHAR(10)&"💰 "&IF(MADRE!D61="","",IF(MADRE!D61<1000,TEXT(MADRE!D61,"0"),IF(MADRE!D61<1000000,LEFT(TEXT(MADRE!D61,"0"),LEN(TEXT(MADRE!D61,"0"))-3)&"."&RIGHT(TEXT(MADRE!D61,"0"),3),LEFT(TEXT(MADRE!D61,"0"),LEN(TEXT(MADRE!D61,"0"))-6)&"."&MID(TEXT(MADRE!D61,"0"),LEN(TEXT(MADRE!D61,"0"))-5,3)&"."&RIGHT(TEXT(MADRE!D61,"0"),3)))) -> 🌱 ACACIA MELANOXYLON (A. AUSTRALIANA). 📏 150-180 cm de altura. E. 4 lts 💰 28.083 📏 180-210 cm. E. 4 lts 💰 35.409 📏 210-250 cm E10 lts 💰 58.608 📏 250-300cm E 20lts 💰 78.144 | D34: =B34 -> 🌱 ACACIA MELANOXYLON (A. AUSTRALIANA). 📏 150-180 cm de altura. E. 4 lts 💰 28.083 📏 180-210 cm. E. 4 lts 💰 35.409 📏 210-250 cm E10 lts 💰 58.608 📏 250-300cm E 20lts 💰 78.144
A35: =TRIM(MADRE!A62) -> Acacia visco. | B35: ="🌱 "&UPPER(TRIM(MADRE!A62))&CHAR(10)&CHAR(10)&"📏 "&TRIM(MADRE!A63)&CHAR(10)&CHAR(10)&"💰 "&IF(MADRE!D63="","",IF(MADRE!D63<1000,TEXT(MADRE!D63,"0"),IF(MADRE!D63<1000000,LEFT(TEXT(MADRE!D63,"0"),LEN(TEXT(MADRE!D63,"0"))-3)&"."&RIGHT(TEXT(MADRE!D63,"0"),3),LEFT(TEXT(MADRE!D63,"0"),LEN(TEXT(MADRE!D63,"0"))-6)&"."&MID(TEXT(MADRE!D63,"0"),LEN(TEXT(MADRE!D63,"0"))-5,3)&"."&RIGHT(TEXT(MADRE!D63,"0"),3))))&CHAR(10)&CHAR(10)&"📏 "&TRIM(MADRE!A64)&CHAR(10)&CHAR(10)&"💰 "&IF(MADRE!D64="","",IF(MADRE!D64<1000,TEXT(MADRE!D64,"0"),IF(MADRE!D64<1000000,LEFT(TEXT(MADRE!D64,"0"),LEN(TEXT(MADRE!D64,"0"))-3)&"."&RIGHT(TEXT(MADRE!D64,"0"),3),LEFT(TEXT(MADRE!D64,"0"),LEN(TEXT(MADRE!D64,"0"))-6)&"."&MID(TEXT(MADRE!D64,"0"),LEN(TEXT(MADRE!D64,"0"))-5,3)&"."&RIGHT(TEXT(MADRE!D64,"0"),3)))) -> 🌱 ACACIA VISCO. 📏 150-180 cm de altura E. 4 lts 💰 28.083 📏 180-210 cm. E 10 lts. 💰 58.608 | D35: =B35 -> 🌱 ACACIA VISCO. 📏 150-180 cm de altura E. 4 lts 💰 28.083 📏 180-210 cm. E 10 lts. 💰 58.608
A36: =TRIM(MADRE!A65) -> Acanthus Mollis (Cucaracha) | B36: ="🌱 "&UPPER(TRIM(MADRE!A65))&CHAR(10)&CHAR(10)&"📏 "&TRIM(MADRE!A66)&CHAR(10)&CHAR(10)&"💰 "&IF(MADRE!D66="","",IF(MADRE!D66<1000,TEXT(MADRE!D66,"0"),IF(MADRE!D66<1000000,LEFT(TEXT(MADRE!D66,"0"),LEN(TEXT(MADRE!D66,"0"))-3)&"."&RIGHT(TEXT(MADRE!D66,"0"),3),LEFT(TEXT(MADRE!D66,"0"),LEN(TEXT(MADRE!D66,"0"))-6)&"."&MID(TEXT(MADRE!D66,"0"),LEN(TEXT(MADRE!D66,"0"))-5,3)&"."&RIGHT(TEXT(MADRE!D66,"0"),3)))) -> 🌱 ACANTHUS MOLLIS (CUCARACHA) 📏 E. 4lts 💰 17.094 | D36: =B36 -> 🌱 ACANTHUS MOLLIS (CUCARACHA) 📏 E. 4lts 💰 17.094
A37: =TRIM(MADRE!A67) -> Acer buergerianus. | B37: ="🌱 "&UPPER(TRIM(MADRE!A67))&CHAR(10)&CHAR(10)&"📏 "&TRIM(MADRE!A68)&CHAR(10)&CHAR(10)&"💰 "&IF(MADRE!D68="","",IF(MADRE!D68<1000,TEXT(MADRE!D68,"0"),IF(MADRE!D68<1000000,LEFT(TEXT(MADRE!D68,"0"),LEN(TEXT(MADRE!D68,"0"))-3)&"."&RIGHT(TEXT(MADRE!D68,"0"),3),LEFT(TEXT(MADRE!D68,"0"),LEN(TEXT(MADRE!D68,"0"))-6)&"."&MID(TEXT(MADRE!D68,"0"),LEN(TEXT(MADRE!D68,"0"))-5,3)&"."&RIGHT(TEXT(MADRE!D68,"0"),3))))&CHAR(10)&CHAR(10)&"📏 "&TRIM(MADRE!A69)&CHAR(10)&CHAR(10)&"💰 "&IF(MADRE!D69="","",IF(MADRE!D69<1000,TEXT(MADRE!D69,"0"),IF(MADRE!D69<1000000,LEFT(TEXT(MADRE!D69,"0"),LEN(TEXT(MADRE!D69,"0"))-3)&"."&RIGHT(TEXT(MADRE!D69,"0"),3),LEFT(TEXT(MADRE!D69,"0"),LEN(TEXT(MADRE!D69,"0"))-6)&"."&MID(TEXT(MADRE!D69,"0"),LEN(TEXT(MADRE!D69,"0"))-5,3)&"."&RIGHT(TEXT(MADRE!D69,"0"),3)))) -> 🌱 ACER BUERGERIANUS. 📏 con copa 4-6 cm. 210-250 cm. E. 10 lts. 💰 67.155 📏 con copa 8-10 cm. 210-250 cm. E. 20 lts 💰 99.000 | D37: =B37 -> 🌱 ACER BUERGERIANUS. 📏 con copa 4-6 cm. 210-250 cm. E. 10 lts. 💰 67.155 📏 con copa 8-10 cm. 210-250 cm. E. 20 lts 💰 99.000
A38: =TRIM(MADRE!A70) -> Acer Nengundo | B38: ="🌱 "&UPPER(TRIM(MADRE!A70))&CHAR(10)&CHAR(10)&"📏 "&TRIM(MADRE!A71)&CHAR(10)&CHAR(10)&"💰 "&IF(MADRE!D71="","",IF(MADRE!D71<1000,TEXT(MADRE!D71,"0"),IF(MADRE!D71<1000000,LEFT(TEXT(MADRE!D71,"0"),LEN(TEXT(MADRE!D71,"0"))-3)&"."&RIGHT(TEXT(MADRE!D71,"0"),3),LEFT(TEXT(MADRE!D71,"0"),LEN(TEXT(MADRE!D71,"0"))-6)&"."&MID(TEXT(MADRE!D71,"0"),LEN(TEXT(MADRE!D71,"0"))-5,3)&"."&RIGHT(TEXT(MADRE!D71,"0"),3))))&CHAR(10)&CHAR(10)&"📏 "&TRIM(MADRE!A72)&CHAR(10)&CHAR(10)&"💰 "&IF(MADRE!D72="","",IF(MADRE!D72<1000,TEXT(MADRE!D72,"0"),IF(MADRE!D72<1000000,LEFT(TEXT(MADRE!D72,"0"),LEN(TEXT(MADRE!D72,"0"))-3)&"."&RIGHT(TEXT(MADRE!D72,"0"),3),LEFT(TEXT(MADRE!D72,"0"),LEN(TEXT(MADRE!D72,"0"))-6)&"."&MID(TEXT(MADRE!D72,"0"),LEN(TEXT(MADRE!D72,"0"))-5,3)&"."&RIGHT(TEXT(MADRE!D72,"0"),3)))) -> 🌱 ACER NENGUNDO 📏 con copa 4-6cm circunsf. 180-210cm E10lts 💰 58.608 📏 con copa 6-8cm circunsf. 210-250cm E 15lts 💰 67.155 | D38: =B38 -> 🌱 ACER NENGUNDO 📏 con copa 4-6cm circunsf. 180-210cm E10lts 💰 58.608 📏 con copa 6-8cm circunsf. 210-250cm E 15lts 💰 67.155
A39: =TRIM(MADRE!A73) -> Acer palmatum. | B39: ="🌱 "&UPPER(TRIM(MADRE!A73))&CHAR(10)&CHAR(10)&"📏 "&TRIM(MADRE!A74)&CHAR(10)&CHAR(10)&"💰 "&IF(MADRE!D74="","",IF(MADRE!D74<1000,TEXT(MADRE!D74,"0"),IF(MADRE!D74<1000000,LEFT(TEXT(MADRE!D74,"0"),LEN(TEXT(MADRE!D74,"0"))-3)&"."&RIGHT(TEXT(MADRE!D74,"0"),3),LEFT(TEXT(MADRE!D74,"0"),LEN(TEXT(MADRE!D74,"0"))-6)&"."&MID(TEXT(MADRE!D74,"0"),LEN(TEXT(MADRE!D74,"0"))-5,3)&"."&RIGHT(TEXT(MADRE!D74,"0"),3))))&CHAR(10)&CHAR(10)&"📏 "&TRIM(MADRE!A75)&CHAR(10)&CHAR(10)&"💰 "&IF(MADRE!D75="","",IF(MADRE!D75<1000,TEXT(MADRE!D75,"0"),IF(MADRE!D75<1000000,LEFT(TEXT(MADRE!D75,"0"),LEN(TEXT(MADRE!D75,"0"))-3)&"."&RIGHT(TEXT(MADRE!D75,"0"),3),LEFT(TEXT(MADRE!D75,"0"),LEN(TEXT(MADRE!D75,"0"))-6)&"."&MID(TEXT(MADRE!D75,"0"),LEN(TEXT(MADRE!D75,"0"))-5,3)&"."&RIGHT(TEXT(MADRE!D75,"0"),3)))) -> 🌱 ACER PALMATUM. 📏 E. 4 lts 40cm 💰 37.019 📏 E. 10lts 80cm 💰 50.000 | D39: =B39 -> 🌱 ACER PALMATUM. 📏 E. 4 lts 40cm 💰 37.019 📏 E. 10lts 80cm 💰 50.000
A40: =TRIM(MADRE!A76) -> Acer saccharinum. | B40: ="🌱 "&UPPER(TRIM(MADRE!A76))&CHAR(10)&CHAR(10)&"📏 "&TRIM(MADRE!A77)&CHAR(10)&CHAR(10)&"💰 "&IF(MADRE!D77="","",IF(MADRE!D77<1000,TEXT(MADRE!D77,"0"),IF(MADRE!D77<1000000,LEFT(TEXT(MADRE!D77,"0"),LEN(TEXT(MADRE!D77,"0"))-3)&"."&RIGHT(TEXT(MADRE!D77,"0"),3),LEFT(TEXT(MADRE!D77,"0"),LEN(TEXT(MADRE!D77,"0"))-6)&"."&MID(TEXT(MADRE!D77,"0"),LEN(TEXT(MADRE!D77,"0"))-5,3)&"."&RIGHT(TEXT(MADRE!D77,"0"),3)))) -> 🌱 ACER SACCHARINUM. 📏 120-150cm x 4lts 💰 28.083 | D40: =B40 -> 🌱 ACER SACCHARINUM. 📏 120-150cm x 4lts 💰 28.083
A41: =TRIM(MADRE!A78) -> Acorus lemon | B41: ="🌱 "&UPPER(TRIM(MADRE!A78))&CHAR(10)&CHAR(10)&"📏 "&TRIM(MADRE!A79)&CHAR(10)&CHAR(10)&"💰 "&IF(MADRE!D79="","",IF(MADRE!D79<1000,TEXT(MADRE!D79,"0"),IF(MADRE!D79<1000000,LEFT(TEXT(MADRE!D79,"0"),LEN(TEXT(MADRE!D79,"0"))-3)&"."&RIGHT(TEXT(MADRE!D79,"0"),3),LEFT(TEXT(MADRE!D79,"0"),LEN(TEXT(MADRE!D79,"0"))-6)&"."&MID(TEXT(MADRE!D79,"0"),LEN(TEXT(MADRE!D79,"0"))-5,3)&"."&RIGHT(TEXT(MADRE!D79,"0"),3)))) -> 🌱 ACORUS LEMON 📏 4lts 💰 8.900 | D41: =B41 -> 🌱 ACORUS LEMON 📏 4lts 💰 8.900
A42: =TRIM(MADRE!A80) -> Aclepsias | B42: ="🌱 "&UPPER(TRIM(MADRE!A80))&CHAR(10)&CHAR(10)&"📏 "&TRIM(MADRE!A81)&CHAR(10)&CHAR(10)&"💰 "&IF(MADRE!D81="","",IF(MADRE!D81<1000,TEXT(MADRE!D81,"0"),IF(MADRE!D81<1000000,LEFT(TEXT(MADRE!D81,"0"),LEN(TEXT(MADRE!D81,"0"))-3)&"."&RIGHT(TEXT(MADRE!D81,"0"),3),LEFT(TEXT(MADRE!D81,"0"),LEN(TEXT(MADRE!D81,"0"))-6)&"."&MID(TEXT(MADRE!D81,"0"),LEN(TEXT(MADRE!D81,"0"))-5,3)&"."&RIGHT(TEXT(MADRE!D81,"0"),3))))&CHAR(10)&CHAR(10)&"📏 "&TRIM(MADRE!A82)&CHAR(10)&CHAR(10)&"💰 "&IF(MADRE!D82="","",IF(MADRE!D82<1000,TEXT(MADRE!D82,"0"),IF(MADRE!D82<1000000,LEFT(TEXT(MADRE!D82,"0"),LEN(TEXT(MADRE!D82,"0"))-3)&"."&RIGHT(TEXT(MADRE!D82,"0"),3),LEFT(TEXT(MADRE!D82,"0"),LEN(TEXT(MADRE!D82,"0"))-6)&"."&MID(TEXT(MADRE!D82,"0"),LEN(TEXT(MADRE!D82,"0"))-5,3)&"."&RIGHT(TEXT(MADRE!D82,"0"),3)))) -> 🌱 ACLEPSIAS 📏 E. 4lts 30cm 💰 8.900 📏 oferta comprando 10 unidades 💰 8.500 | D42: =B42 -> 🌱 ACLEPSIAS 📏 E. 4lts 30cm 💰 8.900 📏 oferta comprando 10 unidades 💰 8.500
A43: =TRIM(MADRE!A83) -> Agapanthus africanus. | B43: ="🌱 "&UPPER(TRIM(MADRE!A83))&CHAR(10)&CHAR(10)&"📏 "&TRIM(MADRE!A84)&CHAR(10)&CHAR(10)&"💰 "&IF(MADRE!D84="","",IF(MADRE!D84<1000,TEXT(MADRE!D84,"0"),IF(MADRE!D84<1000000,LEFT(TEXT(MADRE!D84,"0"),LEN(TEXT(MADRE!D84,"0"))-3)&"."&RIGHT(TEXT(MADRE!D84,"0"),3),LEFT(TEXT(MADRE!D84,"0"),LEN(TEXT(MADRE!D84,"0"))-6)&"."&MID(TEXT(MADRE!D84,"0"),LEN(TEXT(MADRE!D84,"0"))-5,3)&"."&RIGHT(TEXT(MADRE!D84,"0"),3))))&CHAR(10)&CHAR(10)&"📏 "&TRIM(MADRE!A85)&CHAR(10)&CHAR(10)&"💰 "&IF(MADRE!D85="","",IF(MADRE!D85<1000,TEXT(MADRE!D85,"0"),IF(MADRE!D85<1000000,LEFT(TEXT(MADRE!D85,"0"),LEN(TEXT(MADRE!D85,"0"))-3)&"."&RIGHT(TEXT(MADRE!D85,"0"),3),LEFT(TEXT(MADRE!D85,"0"),LEN(TEXT(MADRE!D85,"0"))-6)&"."&MID(TEXT(MADRE!D85,"0"),LEN(TEXT(MADRE!D85,"0"))-5,3)&"."&RIGHT(TEXT(MADRE!D85,"0"),3))))&CHAR(10)&CHAR(10)&"📏 "&TRIM(MADRE!A86)&CHAR(10)&CHAR(10)&"💰 "&IF(MADRE!D86="","",IF(MADRE!D86<1000,TEXT(MADRE!D86,"0"),IF(MADRE!D86<1000000,LEFT(TEXT(MADRE!D86,"0"),LEN(TEXT(MADRE!D86,"0"))-3)&"."&RIGHT(TEXT(MADRE!D86,"0"),3),LEFT(TEXT(MADRE!D86,"0"),LEN(TEXT(MADRE!D86,"0"))-6)&"."&MID(TEXT(MADRE!D86,"0"),LEN(TEXT(MADRE!D86,"0"))-5,3)&"."&RIGHT(TEXT(MADRE!D86,"0"),3)))) -> 🌱 AGAPANTHUS AFRICANUS. 📏 flor azul, E. 4 lts 💰 8.900 📏 oferta comprando 10 unidades 💰 8.500 📏 flor azul x 10lts 💰 25.000 | D43: =B43 -> 🌱 AGAPANTHUS AFRICANUS. 📏 flor azul, E. 4 lts 💰 8.900 📏 oferta comprando 10 unidades 💰 8.500 📏 flor azul x 10lts 💰 25.000
A44: =TRIM(MADRE!A87) -> Agapanthus africanus. | B44: ="🌱 "&UPPER(TRIM(MADRE!A87))&CHAR(10)&CHAR(10)&"📏 "&TRIM(MADRE!A88)&CHAR(10)&CHAR(10)&"💰 "&IF(MADRE!D88="","",IF(MADRE!D88<1000,TEXT(MADRE!D88,"0"),IF(MADRE!D88<1000000,LEFT(TEXT(MADRE!D88,"0"),LEN(TEXT(MADRE!D88,"0"))-3)&"."&RIGHT(TEXT(MADRE!D88,"0"),3),LEFT(TEXT(MADRE!D88,"0"),LEN(TEXT(MADRE!D88,"0"))-6)&"."&MID(TEXT(MADRE!D88,"0"),LEN(TEXT(MADRE!D88,"0"))-5,3)&"."&RIGHT(TEXT(MADRE!D88,"0"),3))))&CHAR(10)&CHAR(10)&"📏 "&TRIM(MADRE!A89)&CHAR(10)&CHAR(10)&"💰 "&IF(MADRE!D89="","",IF(MADRE!D89<1000,TEXT(MADRE!D89,"0"),IF(MADRE!D89<1000000,LEFT(TEXT(MADRE!D89,"0"),LEN(TEXT(MADRE!D89,"0"))-3)&"."&RIGHT(TEXT(MADRE!D89,"0"),3),LEFT(TEXT(MADRE!D89,"0"),LEN(TEXT(MADRE!D89,"0"))-6)&"."&MID(TEXT(MADRE!D89,"0"),LEN(TEXT(MADRE!D89,"0"))-5,3)&"."&RIGHT(TEXT(MADRE!D89,"0"),3)))) -> 🌱 AGAPANTHUS AFRICANUS. 📏 flor blanca E. 4 lts 💰 12.879 📏 flor blanca E. 10lts 💰 20.909 | D44: =B44 -> 🌱 AGAPANTHUS AFRICANUS. 📏 flor blanca E. 4 lts 💰 12.879 📏 flor blanca E. 10lts 💰 20.909
A45: =TRIM(MADRE!A90) -> Aguaribay (Schinus molle) | B45: ="🌱 "&UPPER(TRIM(MADRE!A90))&CHAR(10)&CHAR(10)&"📏 "&TRIM(MADRE!A91)&CHAR(10)&CHAR(10)&"💰 "&IF(MADRE!D91="","",IF(MADRE!D91<1000,TEXT(MADRE!D91,"0"),IF(MADRE!D91<1000000,LEFT(TEXT(MADRE!D91,"0"),LEN(TEXT(MADRE!D91,"0"))-3)&"."&RIGHT(TEXT(MADRE!D91,"0"),3),LEFT(TEXT(MADRE!D91,"0"),LEN(TEXT(MADRE!D91,"0"))-6)&"."&MID(TEXT(MADRE!D91,"0"),LEN(TEXT(MADRE!D91,"0"))-5,3)&"."&RIGHT(TEXT(MADRE!D91,"0"),3))))&CHAR(10)&CHAR(10)&"📏 "&TRIM(MADRE!A92)&CHAR(10)&CHAR(10)&"💰 "&IF(MADRE!D92="","",IF(MADRE!D92<1000,TEXT(MADRE!D92,"0"),IF(MADRE!D92<1000000,LEFT(TEXT(MADRE!D92,"0"),LEN(TEXT(MADRE!D92,"0"))-3)&"."&RIGHT(TEXT(MADRE!D92,"0"),3),LEFT(TEXT(MADRE!D92,"0"),LEN(TEXT(MADRE!D92,"0"))-6)&"."&MID(TEXT(MADRE!D92,"0"),LEN(TEXT(MADRE!D92,"0"))-5,3)&"."&RIGHT(TEXT(MADRE!D92,"0"),3))))&CHAR(10)&CHAR(10)&"📏 "&TRIM(MADRE!A93)&CHAR(10)&CHAR(10)&"💰 "&IF(MADRE!D93="","",IF(MADRE!D93<1000,TEXT(MADRE!D93,"0"),IF(MADRE!D93<1000000,LEFT(TEXT(MADRE!D93,"0"),LEN(TEXT(MADRE!D93,"0"))-3)&"."&RIGHT(TEXT(MADRE!D93,"0"),3),LEFT(TEXT(MADRE!D93,"0"),LEN(TEXT(MADRE!D93,"0"))-6)&"."&MID(TEXT(MADRE!D93,"0"),LEN(TEXT(MADRE!D93,"0"))-5,3)&"."&RIGHT(TEXT(MADRE!D93,"0"),3)))) -> 🌱 AGUARIBAY (SCHINUS MOLLE) 📏 150-180 cm. 💰 22.000 📏 180-210 cm. 💰 37.500 📏 250-300 cm. 💰 99.000 | D45: =B45 -> 🌱 AGUARIBAY (SCHINUS MOLLE) 📏 150-180 cm. 💰 22.000 📏 180-210 cm. 💰 37.500 📏 250-300 cm. 💰 99.000
A46: =TRIM(MADRE!A94) -> Alamos hibrido (Populus). | B46: ="🌱 "&UPPER(TRIM(MADRE!A94))&CHAR(10)&CHAR(10)&"📏 "&TRIM(MADRE!A95)&CHAR(10)&CHAR(10)&"💰 "&IF(MADRE!D95="","",IF(MADRE!D95<1000,TEXT(MADRE!D95,"0"),IF(MADRE!D95<1000000,LEFT(TEXT(MADRE!D95,"0"),LEN(TEXT(MADRE!D95,"0"))-3)&"."&RIGHT(TEXT(MADRE!D95,"0"),3),LEFT(TEXT(MADRE!D95,"0"),LEN(TEXT(MADRE!D95,"0"))-6)&"."&MID(TEXT(MADRE!D95,"0"),LEN(TEXT(MADRE!D95,"0"))-5,3)&"."&RIGHT(TEXT(MADRE!D95,"0"),3))))&CHAR(10)&CHAR(10)&"📏 "&TRIM(MADRE!A96)&CHAR(10)&CHAR(10)&"💰 "&IF(MADRE!D96="","",IF(MADRE!D96<1000,TEXT(MADRE!D96,"0"),IF(MADRE!D96<1000000,LEFT(TEXT(MADRE!D96,"0"),LEN(TEXT(MADRE!D96,"0"))-3)&"."&RIGHT(TEXT(MADRE!D96,"0"),3),LEFT(TEXT(MADRE!D96,"0"),LEN(TEXT(MADRE!D96,"0"))-6)&"."&MID(TEXT(MADRE!D96,"0"),LEN(TEXT(MADRE!D96,"0"))-5,3)&"."&RIGHT(TEXT(MADRE!D96,"0"),3)))) -> 🌱 ALAMOS HIBRIDO (POPULUS). 📏 con copa, 6-8 cm. E. 10 lts. 💰 30.525 📏 con copa, 10-12 cm. E. 20 lts. 💰 39.072 | D46: =B46 -> 🌱 ALAMOS HIBRIDO (POPULUS). 📏 con copa, 6-8 cm. E. 10 lts. 💰 30.525 📏 con copa, 10-12 cm. E. 20 lts. 💰 39.072
A47: =TRIM(MADRE!A97) -> Alamos piramidal (Populus nigra). | B47: ="🌱 "&UPPER(TRIM(MADRE!A97))&CHAR(10)&CHAR(10)&"📏 "&TRIM(MADRE!A98)&CHAR(10)&CHAR(10)&"💰 "&IF(MADRE!D98="","",IF(MADRE!D98<1000,TEXT(MADRE!D98,"0"),IF(MADRE!D98<1000000,LEFT(TEXT(MADRE!D98,"0"),LEN(TEXT(MADRE!D98,"0"))-3)&"."&RIGHT(TEXT(MADRE!D98,"0"),3),LEFT(TEXT(MADRE!D98,"0"),LEN(TEXT(MADRE!D98,"0"))-6)&"."&MID(TEXT(MADRE!D98,"0"),LEN(TEXT(MADRE!D98,"0"))-5,3)&"."&RIGHT(TEXT(MADRE!D98,"0"),3))))&CHAR(10)&CHAR(10)&"📏 "&TRIM(MADRE!A99)&CHAR(10)&CHAR(10)&"💰 "&IF(MADRE!D99="","",IF(MADRE!D99<1000,TEXT(MADRE!D99,"0"),IF(MADRE!D99<1000000,LEFT(TEXT(MADRE!D99,"0"),LEN(TEXT(MADRE!D99,"0"))-3)&"."&RIGHT(TEXT(MADRE!D99,"0"),3),LEFT(TEXT(MADRE!D99,"0"),LEN(TEXT(MADRE!D99,"0"))-6)&"."&MID(TEXT(MADRE!D99,"0"),LEN(TEXT(MADRE!D99,"0"))-5,3)&"."&RIGHT(TEXT(MADRE!D99,"0"),3))))&CHAR(10)&CHAR(10)&"📏 "&TRIM(MADRE!A100)&CHAR(10)&CHAR(10)&"💰 "&IF(MADRE!D100="","",IF(MADRE!D100<1000,TEXT(MADRE!D100,"0"),IF(MADRE!D100<1000000,LEFT(TEXT(MADRE!D100,"0"),LEN(TEXT(MADRE!D100,"0"))-3)&"."&RIGHT(TEXT(MADRE!D100,"0"),3),LEFT(TEXT(MADRE!D100,"0"),LEN(TEXT(MADRE!D100,"0"))-6)&"."&MID(TEXT(MADRE!D100,"0"),LEN(TEXT(MADRE!D100,"0"))-5,3)&"."&RIGHT(TEXT(MADRE!D100,"0"),3))))&CHAR(10)&CHAR(10)&"📏 "&TRIM(MADRE!A101)&CHAR(10)&CHAR(10)&"💰 "&IF(MADRE!D101="","",IF(MADRE!D101<1000,TEXT(MADRE!D101,"0"),IF(MADRE!D101<1000000,LEFT(TEXT(MADRE!D101,"0"),LEN(TEXT(MADRE!D101,"0"))-3)&"."&RIGHT(TEXT(MADRE!D101,"0"),3),LEFT(TEXT(MADRE!D101,"0"),LEN(TEXT(MADRE!D101,"0"))-6)&"."&MID(TEXT(MADRE!D101,"0"),LEN(TEXT(MADRE!D101,"0"))-5,3)&"."&RIGHT(TEXT(MADRE!D101,"0"),3)))) -> 🌱 ALAMOS PIRAMIDAL (POPULUS NIGRA). 📏 180-210 cm. E. 10 lts. 💰 21.978 📏 210-250 cm. E. 15 lts. 💰 29.304 📏 250-300 cm. E. 20 lts. 💰 76.923 📏 300-350 cm. E. 30 lts. 💰 120.879 | D47: =B47 -> 🌱 ALAMOS PIRAMIDAL (POPULUS NIGRA). 📏 180-210 cm. E. 10 lts. 💰 21.978 📏 210-250 cm. E. 15 lts. 💰 29.304 📏 250-300 cm. E. 20 lts. 💰 76.923 📏 300-350 cm. E. 30 lts. 💰 120.879
A48: =TRIM(MADRE!A102) -> Almez (Celtis Occidentalis) | B48: ="🌱 "&UPPER(TRIM(MADRE!A102))&CHAR(10)&CHAR(10)&"📏 "&TRIM(MADRE!A103)&CHAR(10)&CHAR(10)&"💰 "&IF(MADRE!D103="","",IF(MADRE!D103<1000,TEXT(MADRE!D103,"0"),IF(MADRE!D103<1000000,LEFT(TEXT(MADRE!D103,"0"),LEN(TEXT(MADRE!D103,"0"))-3)&"."&RIGHT(TEXT(MADRE!D103,"0"),3),LEFT(TEXT(MADRE!D103,"0"),LEN(TEXT(MADRE!D103,"0"))-6)&"."&MID(TEXT(MADRE!D103,"0"),LEN(TEXT(MADRE!D103,"0"))-5,3)&"."&RIGHT(TEXT(MADRE!D103,"0"),3))))&CHAR(10)&CHAR(10)&"📏 "&TRIM(MADRE!A104)&CHAR(10)&CHAR(10)&"💰 "&IF(MADRE!D104="","",IF(MADRE!D104<1000,TEXT(MADRE!D104,"0"),IF(MADRE!D104<1000000,LEFT(TEXT(MADRE!D104,"0"),LEN(TEXT(MADRE!D104,"0"))-3)&"."&RIGHT(TEXT(MADRE!D104,"0"),3),LEFT(TEXT(MADRE!D104,"0"),LEN(TEXT(MADRE!D104,"0"))-6)&"."&MID(TEXT(MADRE!D104,"0"),LEN(TEXT(MADRE!D104,"0"))-5,3)&"."&RIGHT(TEXT(MADRE!D104,"0"),3)))) -> 🌱 ALMEZ (CELTIS OCCIDENTALIS) 📏 E. 10lts 180-210cm 💰 36.630 📏 E. 15lts 180-210cm con tronco mas grueso 💰 67.155 | D48: =B48 -> 🌱 ALMEZ (CELTIS OCCIDENTALIS) 📏 E. 10lts 180-210cm 💰 36.630 📏 E. 15lts 180-210cm con tronco mas grueso 💰 67.155
A49: =TRIM(MADRE!A105) -> Alocacia tallo negro | B49: ="🌱 "&UPPER(TRIM(MADRE!A105))&CHAR(10)&CHAR(10)&"📏 "&TRIM(MADRE!A106)&CHAR(10)&CHAR(10)&"💰 "&IF(MADRE!D106="","",IF(MADRE!D106<1000,TEXT(MADRE!D106,"0"),IF(MADRE!D106<1000000,LEFT(TEXT(MADRE!D106,"0"),LEN(TEXT(MADRE!D106,"0"))-3)&"."&RIGHT(TEXT(MADRE!D106,"0"),3),LEFT(TEXT(MADRE!D106,"0"),LEN(TEXT(MADRE!D106,"0"))-6)&"."&MID(TEXT(MADRE!D106,"0"),LEN(TEXT(MADRE!D106,"0"))-5,3)&"."&RIGHT(TEXT(MADRE!D106,"0"),3)))) -> 🌱 ALOCACIA TALLO NEGRO 📏 4 lts 💰 33.333 | D49: =B49 -> 🌱 ALOCACIA TALLO NEGRO 📏 4 lts 💰 33.333
A50: =TRIM(MADRE!A107) -> Alpinia. | B50: ="🌱 "&UPPER(TRIM(MADRE!A107))&CHAR(10)&CHAR(10)&"📏 "&TRIM(MADRE!A108)&CHAR(10)&CHAR(10)&"💰 "&IF(MADRE!D108="","",IF(MADRE!D108<1000,TEXT(MADRE!D108,"0"),IF(MADRE!D108<1000000,LEFT(TEXT(MADRE!D108,"0"),LEN(TEXT(MADRE!D108,"0"))-3)&"."&RIGHT(TEXT(MADRE!D108,"0"),3),LEFT(TEXT(MADRE!D108,"0"),LEN(TEXT(MADRE!D108,"0"))-6)&"."&MID(TEXT(MADRE!D108,"0"),LEN(TEXT(MADRE!D108,"0"))-5,3)&"."&RIGHT(TEXT(MADRE!D108,"0"),3))))&CHAR(10)&CHAR(10)&"📏 "&TRIM(MADRE!A109)&CHAR(10)&CHAR(10)&"💰 "&IF(MADRE!D109="","",IF(MADRE!D109<1000,TEXT(MADRE!D109,"0"),IF(MADRE!D109<1000000,LEFT(TEXT(MADRE!D109,"0"),LEN(TEXT(MADRE!D109,"0"))-3)&"."&RIGHT(TEXT(MADRE!D109,"0"),3),LEFT(TEXT(MADRE!D109,"0"),LEN(TEXT(MADRE!D109,"0"))-6)&"."&MID(TEXT(MADRE!D109,"0"),LEN(TEXT(MADRE!D109,"0"))-5,3)&"."&RIGHT(TEXT(MADRE!D109,"0"),3)))) -> 🌱 ALPINIA. 📏 E 4 lts 💰 23.199 📏 E. 10 lts 💰 43.956 | D50: =B50 -> 🌱 ALPINIA. 📏 E 4 lts 💰 23.199 📏 E. 10 lts 💰 43.956
A51: =TRIM(MADRE!A110) -> Ampelopsis veitchi. | B51: ="🌱 "&UPPER(TRIM(MADRE!A110))&CHAR(10)&CHAR(10)&"📏 "&TRIM(MADRE!A111)&CHAR(10)&CHAR(10)&"💰 "&IF(MADRE!D111="","",IF(MADRE!D111<1000,TEXT(MADRE!D111,"0"),IF(MADRE!D111<1000000,LEFT(TEXT(MADRE!D111,"0"),LEN(TEXT(MADRE!D111,"0"))-3)&"."&RIGHT(TEXT(MADRE!D111,"0"),3),LEFT(TEXT(MADRE!D111,"0"),LEN(TEXT(MADRE!D111,"0"))-6)&"."&MID(TEXT(MADRE!D111,"0"),LEN(TEXT(MADRE!D111,"0"))-5,3)&"."&RIGHT(TEXT(MADRE!D111,"0"),3)))) -> 🌱 AMPELOPSIS VEITCHI. 📏 100-120 cm. E. 4 lts 💰 10.989 | D51: =B51 -> 🌱 AMPELOPSIS VEITCHI. 📏 100-120 cm. E. 4 lts 💰 10.989
A52: =TRIM(MADRE!A112) -> Anacahuita | B52: ="🌱 "&UPPER(TRIM(MADRE!A112))&CHAR(10)&CHAR(10)&"📏 "&TRIM(MADRE!A113)&CHAR(10)&CHAR(10)&"💰 "&IF(MADRE!D113="","",IF(MADRE!D113<1000,TEXT(MADRE!D113,"0"),IF(MADRE!D113<1000000,LEFT(TEXT(MADRE!D113,"0"),LEN(TEXT(MADRE!D113,"0"))-3)&"."&RIGHT(TEXT(MADRE!D113,"0"),3),LEFT(TEXT(MADRE!D113,"0"),LEN(TEXT(MADRE!D113,"0"))-6)&"."&MID(TEXT(MADRE!D113,"0"),LEN(TEXT(MADRE!D113,"0"))-5,3)&"."&RIGHT(TEXT(MADRE!D113,"0"),3))))&CHAR(10)&CHAR(10)&"📏 "&TRIM(MADRE!A114)&CHAR(10)&CHAR(10)&"💰 "&IF(MADRE!D114="","",IF(MADRE!D114<1000,TEXT(MADRE!D114,"0"),IF(MADRE!D114<1000000,LEFT(TEXT(MADRE!D114,"0"),LEN(TEXT(MADRE!D114,"0"))-3)&"."&RIGHT(TEXT(MADRE!D114,"0"),3),LEFT(TEXT(MADRE!D114,"0"),LEN(TEXT(MADRE!D114,"0"))-6)&"."&MID(TEXT(MADRE!D114,"0"),LEN(TEXT(MADRE!D114,"0"))-5,3)&"."&RIGHT(TEXT(MADRE!D114,"0"),3)))) -> 🌱 ANACAHUITA 📏 120-150cm x 10lts 💰 58.608 📏 150-180cm x 15lts 💰 67.155 | D52: =B52 -> 🌱 ANACAHUITA 📏 120-150cm x 10lts 💰 58.608 📏 150-180cm x 15lts 💰 67.155
A53: =TRIM(MADRE!A115) -> Azarero enano (Pittosporum nana) | B53: ="🌱 "&UPPER(TRIM(MADRE!A115))&CHAR(10)&CHAR(10)&"📏 "&TRIM(MADRE!A116)&CHAR(10)&CHAR(10)&"💰 "&IF(MADRE!D116="","",IF(MADRE!D116<1000,TEXT(MADRE!D116,"0"),IF(MADRE!D116<1000000,LEFT(TEXT(MADRE!D116,"0"),LEN(TEXT(MADRE!D116,"0"))-3)&"."&RIGHT(TEXT(MADRE!D116,"0"),3),LEFT(TEXT(MADRE!D116,"0"),LEN(TEXT(MADRE!D116,"0"))-6)&"."&MID(TEXT(MADRE!D116,"0"),LEN(TEXT(MADRE!D116,"0"))-5,3)&"."&RIGHT(TEXT(MADRE!D116,"0"),3))))&CHAR(10)&CHAR(10)&"📏 "&TRIM(MADRE!A117)&CHAR(10)&CHAR(10)&"💰 "&IF(MADRE!D117="","",IF(MADRE!D117<1000,TEXT(MADRE!D117,"0"),IF(MADRE!D117<1000000,LEFT(TEXT(MADRE!D117,"0"),LEN(TEXT(MADRE!D117,"0"))-3)&"."&RIGHT(TEXT(MADRE!D117,"0"),3),LEFT(TEXT(MADRE!D117,"0"),LEN(TEXT(MADRE!D117,"0"))-6)&"."&MID(TEXT(MADRE!D117,"0"),LEN(TEXT(MADRE!D117,"0"))-5,3)&"."&RIGHT(TEXT(MADRE!D117,"0"),3))))&CHAR(10)&CHAR(10)&"📏 "&TRIM(MADRE!A118)&CHAR(10)&CHAR(10)&"💰 "&IF(MADRE!D118="","",IF(MADRE!D118<1000,TEXT(MADRE!D118,"0"),IF(MADRE!D118<1000000,LEFT(TEXT(MADRE!D118,"0"),LEN(TEXT(MADRE!D118,"0"))-3)&"."&RIGHT(TEXT(MADRE!D118,"0"),3),LEFT(TEXT(MADRE!D118,"0"),LEN(TEXT(MADRE!D118,"0"))-6)&"."&MID(TEXT(MADRE!D118,"0"),LEN(TEXT(MADRE!D118,"0"))-5,3)&"."&RIGHT(TEXT(MADRE!D118,"0"),3))))&CHAR(10)&CHAR(10)&"📏 "&TRIM(MADRE!A119)&CHAR(10)&CHAR(10)&"💰 "&IF(MADRE!D119="","",IF(MADRE!D119<1000,TEXT(MADRE!D119,"0"),IF(MADRE!D119<1000000,LEFT(TEXT(MADRE!D119,"0"),LEN(TEXT(MADRE!D119,"0"))-3)&"."&RIGHT(TEXT(MADRE!D119,"0"),3),LEFT(TEXT(MADRE!D119,"0"),LEN(TEXT(MADRE!D119,"0"))-6)&"."&MID(TEXT(MADRE!D119,"0"),LEN(TEXT(MADRE!D119,"0"))-5,3)&"."&RIGHT(TEXT(MADRE!D119,"0"),3)))) -> 🌱 AZARERO ENANO (PITTOSPORUM NANA) 📏 E, 4 lts 💰 10.461 📏 E, 4 lts OFERTA 10 UNIDADES O MAS 💰 9.956 📏 E. 10 lts 💰 27.000 📏 E. 10lts OFERTA 10 UNIDADES O MAS 💰 25.000 | D53: =B53 -> 🌱 AZARERO ENANO (PITTOSPORUM NANA) 📏 E, 4 lts 💰 10.461 📏 E, 4 lts OFERTA 10 UNIDADES O MAS 💰 9.956 📏 E. 10 lts 💰 27.000 📏 E. 10lts OFERTA 10 UNIDADES O MAS 💰 25.000
A54: =TRIM(MADRE!A120) -> Azaleas. | B54: ="🌱 "&UPPER(TRIM(MADRE!A120))&CHAR(10)&CHAR(10)&"📏 "&TRIM(MADRE!A121)&CHAR(10)&CHAR(10)&"💰 "&IF(MADRE!D121="","",IF(MADRE!D121<1000,TEXT(MADRE!D121,"0"),IF(MADRE!D121<1000000,LEFT(TEXT(MADRE!D121,"0"),LEN(TEXT(MADRE!D121,"0"))-3)&"."&RIGHT(TEXT(MADRE!D121,"0"),3),LEFT(TEXT(MADRE!D121,"0"),LEN(TEXT(MADRE!D121,"0"))-6)&"."&MID(TEXT(MADRE!D121,"0"),LEN(TEXT(MADRE!D121,"0"))-5,3)&"."&RIGHT(TEXT(MADRE!D121,"0"),3))))&CHAR(10)&CHAR(10)&"📏 "&TRIM(MADRE!A122)&CHAR(10)&CHAR(10)&"💰 "&IF(MADRE!D122="","",IF(MADRE!D122<1000,TEXT(MADRE!D122,"0"),IF(MADRE!D122<1000000,LEFT(TEXT(MADRE!D122,"0"),LEN(TEXT(MADRE!D122,"0"))-3)&"."&RIGHT(TEXT(MADRE!D122,"0"),3),LEFT(TEXT(MADRE!D122,"0"),LEN(TEXT(MADRE!D122,"0"))-6)&"."&MID(TEXT(MADRE!D122,"0"),LEN(TEXT(MADRE!D122,"0"))-5,3)&"."&RIGHT(TEXT(MADRE!D122,"0"),3))))&CHAR(10)&CHAR(10)&"📏 "&TRIM(MADRE!A123)&CHAR(10)&CHAR(10)&"💰 "&IF(MADRE!D123="","",IF(MADRE!D123<1000,TEXT(MADRE!D123,"0"),IF(MADRE!D123<1000000,LEFT(TEXT(MADRE!D123,"0"),LEN(TEXT(MADRE!D123,"0"))-3)&"."&RIGHT(TEXT(MADRE!D123,"0"),3),LEFT(TEXT(MADRE!D123,"0"),LEN(TEXT(MADRE!D123,"0"))-6)&"."&MID(TEXT(MADRE!D123,"0"),LEN(TEXT(MADRE!D123,"0"))-5,3)&"."&RIGHT(TEXT(MADRE!D123,"0"),3))))&CHAR(10)&CHAR(10)&"📏 "&TRIM(MADRE!A124)&CHAR(10)&CHAR(10)&"💰 "&IF(MADRE!D124="","",IF(MADRE!D124<1000,TEXT(MADRE!D124,"0"),IF(MADRE!D124<1000000,LEFT(TEXT(MADRE!D124,"0"),LEN(TEXT(MADRE!D124,"0"))-3)&"."&RIGHT(TEXT(MADRE!D124,"0"),3),LEFT(TEXT(MADRE!D124,"0"),LEN(TEXT(MADRE!D124,"0"))-6)&"."&MID(TEXT(MADRE!D124,"0"),LEN(TEXT(MADRE!D124,"0"))-5,3)&"."&RIGHT(TEXT(MADRE!D124,"0"),3))))&CHAR(10)&CHAR(10)&"📏 "&TRIM(MADRE!A125)&CHAR(10)&CHAR(10)&"💰 "&IF(MADRE!D125="","",IF(MADRE!D125<1000,TEXT(MADRE!D125,"0"),IF(MADRE!D125<1000000,LEFT(TEXT(MADRE!D125,"0"),LEN(TEXT(MADRE!D125,"0"))-3)&"."&RIGHT(TEXT(MADRE!D125,"0"),3),LEFT(TEXT(MADRE!D125,"0"),LEN(TEXT(MADRE!D125,"0"))-6)&"."&MID(TEXT(MADRE!D125,"0"),LEN(TEXT(MADRE!D125,"0"))-5,3)&"."&RIGHT(TEXT(MADRE!D125,"0"),3))))&CHAR(10)&CHAR(10)&"📏 "&TRIM(MADRE!A126)&CHAR(10)&CHAR(10)&"💰 "&IF(MADRE!D126="","",IF(MADRE!D126<1000,TEXT(MADRE!D126,"0"),IF(MADRE!D126<1000000,LEFT(TEXT(MADRE!D126,"0"),LEN(TEXT(MADRE!D126,"0"))-3)&"."&RIGHT(TEXT(MADRE!D126,"0"),3),LEFT(TEXT(MADRE!D126,"0"),LEN(TEXT(MADRE!D126,"0"))-6)&"."&MID(TEXT(MADRE!D126,"0"),LEN(TEXT(MADRE!D126,"0"))-5,3)&"."&RIGHT(TEXT(MADRE!D126,"0"),3)))) -> 🌱 AZALEAS. 📏 E. 4 lts colores surtidos 💰 18.026 📏 E. 10 lts colores surtidos 💰 28.971 📏 E. 20 lts colores surtidos 💰 57.942 📏 E. 30 lts colores surtidos 💰 78.866 📏 E. 40 lts colores surtidos 💰 94.961 📏 E. 50 lts colores surtidos 💰 120.713 | D54: =B54 -> 🌱 AZALEAS. 📏 E. 4 lts colores surtidos 💰 18.026 📏 E. 10 lts colores surtidos 💰 28.971 📏 E. 20 lts colores surtidos 💰 57.942 📏 E. 30 lts colores surtidos 💰 78.866 📏 E. 40 lts colores surtidos 💰 94.961 📏 E. 50 lts colores surtidos 💰 120.713
A55: =TRIM(MADRE!A127) -> Barba de chivo. (Caesalpinia gilliesii). | B55: ="🌱 "&UPPER(TRIM(MADRE!A127))&CHAR(10)&CHAR(10)&"📏 "&TRIM(MADRE!A128)&CHAR(10)&CHAR(10)&"💰 "&IF(MADRE!D128="","",IF(MADRE!D128<1000,TEXT(MADRE!D128,"0"),IF(MADRE!D128<1000000,LEFT(TEXT(MADRE!D128,"0"),LEN(TEXT(MADRE!D128,"0"))-3)&"."&RIGHT(TEXT(MADRE!D128,"0"),3),LEFT(TEXT(MADRE!D128,"0"),LEN(TEXT(MADRE!D128,"0"))-6)&"."&MID(TEXT(MADRE!D128,"0"),LEN(TEXT(MADRE!D128,"0"))-5,3)&"."&RIGHT(TEXT(MADRE!D128,"0"),3))))&CHAR(10)&CHAR(10)&"📏 "&TRIM(MADRE!A129)&CHAR(10)&CHAR(10)&"💰 "&IF(MADRE!D129="","",IF(MADRE!D129<1000,TEXT(MADRE!D129,"0"),IF(MADRE!D129<1000000,LEFT(TEXT(MADRE!D129,"0"),LEN(TEXT(MADRE!D129,"0"))-3)&"."&RIGHT(TEXT(MADRE!D129,"0"),3),LEFT(TEXT(MADRE!D129,"0"),LEN(TEXT(MADRE!D129,"0"))-6)&"."&MID(TEXT(MADRE!D129,"0"),LEN(TEXT(MADRE!D129,"0"))-5,3)&"."&RIGHT(TEXT(MADRE!D129,"0"),3)))) -> 🌱 BARBA DE CHIVO. (CAESALPINIA GILLIESII). 📏 E. 4 lts 💰 22.588 📏 E. 10 lts 💰 43.956 | D55: =B55 -> 🌱 BARBA DE CHIVO. (CAESALPINIA GILLIESII). 📏 E. 4 lts 💰 22.588 📏 E. 10 lts 💰 43.956
A56: =TRIM(MADRE!A130) -> Berberis thunbergii atropurpúrea. | B56: ="🌱 "&UPPER(TRIM(MADRE!A130))&CHAR(10)&CHAR(10)&"📏 "&TRIM(MADRE!A131)&CHAR(10)&CHAR(10)&"💰 "&IF(MADRE!D131="","",IF(MADRE!D131<1000,TEXT(MADRE!D131,"0"),IF(MADRE!D131<1000000,LEFT(TEXT(MADRE!D131,"0"),LEN(TEXT(MADRE!D131,"0"))-3)&"."&RIGHT(TEXT(MADRE!D131,"0"),3),LEFT(TEXT(MADRE!D131,"0"),LEN(TEXT(MADRE!D131,"0"))-6)&"."&MID(TEXT(MADRE!D131,"0"),LEN(TEXT(MADRE!D131,"0"))-5,3)&"."&RIGHT(TEXT(MADRE!D131,"0"),3))))&CHAR(10)&CHAR(10)&"📏 "&TRIM(MADRE!A132)&CHAR(10)&CHAR(10)&"💰 "&IF(MADRE!D132="","",IF(MADRE!D132<1000,TEXT(MADRE!D132,"0"),IF(MADRE!D132<1000000,LEFT(TEXT(MADRE!D132,"0"),LEN(TEXT(MADRE!D132,"0"))-3)&"."&RIGHT(TEXT(MADRE!D132,"0"),3),LEFT(TEXT(MADRE!D132,"0"),LEN(TEXT(MADRE!D132,"0"))-6)&"."&MID(TEXT(MADRE!D132,"0"),LEN(TEXT(MADRE!D132,"0"))-5,3)&"."&RIGHT(TEXT(MADRE!D132,"0"),3)))) -> 🌱 BERBERIS THUNBERGII ATROPURPÚREA. 📏 E. 4 lts 💰 12.232 📏 E. 10 lts 💰 27.000 | D56: =B56 -> 🌱 BERBERIS THUNBERGII ATROPURPÚREA. 📏 E. 4 lts 💰 12.232 📏 E. 10 lts 💰 27.000
A57: =TRIM(MADRE!A133) -> Berberis thunbergii red pillar. | B57: ="🌱 "&UPPER(TRIM(MADRE!A133))&CHAR(10)&CHAR(10)&"📏 "&TRIM(MADRE!A134)&CHAR(10)&CHAR(10)&"💰 "&IF(MADRE!D134="","",IF(MADRE!D134<1000,TEXT(MADRE!D134,"0"),IF(MADRE!D134<1000000,LEFT(TEXT(MADRE!D134,"0"),LEN(TEXT(MADRE!D134,"0"))-3)&"."&RIGHT(TEXT(MADRE!D134,"0"),3),LEFT(TEXT(MADRE!D134,"0"),LEN(TEXT(MADRE!D134,"0"))-6)&"."&MID(TEXT(MADRE!D134,"0"),LEN(TEXT(MADRE!D134,"0"))-5,3)&"."&RIGHT(TEXT(MADRE!D134,"0"),3))))&CHAR(10)&CHAR(10)&"📏 "&TRIM(MADRE!A135)&CHAR(10)&CHAR(10)&"💰 "&IF(MADRE!D135="","",IF(MADRE!D135<1000,TEXT(MADRE!D135,"0"),IF(MADRE!D135<1000000,LEFT(TEXT(MADRE!D135,"0"),LEN(TEXT(MADRE!D135,"0"))-3)&"."&RIGHT(TEXT(MADRE!D135,"0"),3),LEFT(TEXT(MADRE!D135,"0"),LEN(TEXT(MADRE!D135,"0"))-6)&"."&MID(TEXT(MADRE!D135,"0"),LEN(TEXT(MADRE!D135,"0"))-5,3)&"."&RIGHT(TEXT(MADRE!D135,"0"),3)))) -> 🌱 BERBERIS THUNBERGII RED PILLAR. 📏 E. 4 lts 💰 12.232 📏 E. 10 lts 💰 27.000 | D57: =B57 -> 🌱 BERBERIS THUNBERGII RED PILLAR. 📏 E. 4 lts 💰 12.232 📏 E. 10 lts 💰 27.000
A58: =TRIM(MADRE!A136) -> Brachychiton populneum. | B58: ="🌱 "&UPPER(TRIM(MADRE!A136))&CHAR(10)&CHAR(10)&"📏 "&TRIM(MADRE!A137)&CHAR(10)&CHAR(10)&"💰 "&IF(MADRE!D137="","",IF(MADRE!D137<1000,TEXT(MADRE!D137,"0"),IF(MADRE!D137<1000000,LEFT(TEXT(MADRE!D137,"0"),LEN(TEXT(MADRE!D137,"0"))-3)&"."&RIGHT(TEXT(MADRE!D137,"0"),3),LEFT(TEXT(MADRE!D137,"0"),LEN(TEXT(MADRE!D137,"0"))-6)&"."&MID(TEXT(MADRE!D137,"0"),LEN(TEXT(MADRE!D137,"0"))-5,3)&"."&RIGHT(TEXT(MADRE!D137,"0"),3))))&CHAR(10)&CHAR(10)&"📏 "&TRIM(MADRE!A138)&CHAR(10)&CHAR(10)&"💰 "&IF(MADRE!D138="","",IF(MADRE!D138<1000,TEXT(MADRE!D138,"0"),IF(MADRE!D138<1000000,LEFT(TEXT(MADRE!D138,"0"),LEN(TEXT(MADRE!D138,"0"))-3)&"."&RIGHT(TEXT(MADRE!D138,"0"),3),LEFT(TEXT(MADRE!D138,"0"),LEN(TEXT(MADRE!D138,"0"))-6)&"."&MID(TEXT(MADRE!D138,"0"),LEN(TEXT(MADRE!D138,"0"))-5,3)&"."&RIGHT(TEXT(MADRE!D138,"0"),3))))&CHAR(10)&CHAR(10)&"📏 "&TRIM(MADRE!A139)&CHAR(10)&CHAR(10)&"💰 "&IF(MADRE!D139="","",IF(MADRE!D139<1000,TEXT(MADRE!D139,"0"),IF(MADRE!D139<1000000,LEFT(TEXT(MADRE!D139,"0"),LEN(TEXT(MADRE!D139,"0"))-3)&"."&RIGHT(TEXT(MADRE!D139,"0"),3),LEFT(TEXT(MADRE!D139,"0"),LEN(TEXT(MADRE!D139,"0"))-6)&"."&MID(TEXT(MADRE!D139,"0"),LEN(TEXT(MADRE!D139,"0"))-5,3)&"."&RIGHT(TEXT(MADRE!D139,"0"),3))))&CHAR(10)&CHAR(10)&"📏 "&TRIM(MADRE!A140)&CHAR(10)&CHAR(10)&"💰 "&IF(MADRE!D140="","",IF(MADRE!D140<1000,TEXT(MADRE!D140,"0"),IF(MADRE!D140<1000000,LEFT(TEXT(MADRE!D140,"0"),LEN(TEXT(MADRE!D140,"0"))-3)&"."&RIGHT(TEXT(MADRE!D140,"0"),3),LEFT(TEXT(MADRE!D140,"0"),LEN(TEXT(MADRE!D140,"0"))-6)&"."&MID(TEXT(MADRE!D140,"0"),LEN(TEXT(MADRE!D140,"0"))-5,3)&"."&RIGHT(TEXT(MADRE!D140,"0"),3)))) -> 🌱 BRACHYCHITON POPULNEUM. 📏 100-120 cm. E. 4 lts 💰 28.083 📏 120-150 cm. E. 10 lts 💰 42.000 📏 150-180 cm. E. 15 lts 💰 67.155 📏 180-210 cm E 20 lts 💰 78.144 | D58: =B58 -> 🌱 BRACHYCHITON POPULNEUM. 📏 100-120 cm. E. 4 lts 💰 28.083 📏 120-150 cm. E. 10 lts 💰 42.000 📏 150-180 cm. E. 15 lts 💰 67.155 📏 180-210 cm E 20 lts 💰 78.144
A59: =TRIM(MADRE!A141) -> Buxus sempervirens (Boj buxus). | B59: ="🌱 "&UPPER(TRIM(MADRE!A141))&CHAR(10)&CHAR(10)&"📏 "&TRIM(MADRE!A142)&CHAR(10)&CHAR(10)&"💰 "&IF(MADRE!D142="","",IF(MADRE!D142<1000,TEXT(MADRE!D142,"0"),IF(MADRE!D142<1000000,LEFT(TEXT(MADRE!D142,"0"),LEN(TEXT(MADRE!D142,"0"))-3)&"."&RIGHT(TEXT(MADRE!D142,"0"),3),LEFT(TEXT(MADRE!D142,"0"),LEN(TEXT(MADRE!D142,"0"))-6)&"."&MID(TEXT(MADRE!D142,"0"),LEN(TEXT(MADRE!D142,"0"))-5,3)&"."&RIGHT(TEXT(MADRE!D142,"0"),3))))&CHAR(10)&CHAR(10)&"📏 "&TRIM(MADRE!A143)&CHAR(10)&CHAR(10)&"💰 "&IF(MADRE!D143="","",IF(MADRE!D143<1000,TEXT(MADRE!D143,"0"),IF(MADRE!D143<1000000,LEFT(TEXT(MADRE!D143,"0"),LEN(TEXT(MADRE!D143,"0"))-3)&"."&RIGHT(TEXT(MADRE!D143,"0"),3),LEFT(TEXT(MADRE!D143,"0"),LEN(TEXT(MADRE!D143,"0"))-6)&"."&MID(TEXT(MADRE!D143,"0"),LEN(TEXT(MADRE!D143,"0"))-5,3)&"."&RIGHT(TEXT(MADRE!D143,"0"),3))))&CHAR(10)&CHAR(10)&"📏 "&TRIM(MADRE!A144)&CHAR(10)&CHAR(10)&"💰 "&IF(MADRE!D144="","",IF(MADRE!D144<1000,TEXT(MADRE!D144,"0"),IF(MADRE!D144<1000000,LEFT(TEXT(MADRE!D144,"0"),LEN(TEXT(MADRE!D144,"0"))-3)&"."&RIGHT(TEXT(MADRE!D144,"0"),3),LEFT(TEXT(MADRE!D144,"0"),LEN(TEXT(MADRE!D144,"0"))-6)&"."&MID(TEXT(MADRE!D144,"0"),LEN(TEXT(MADRE!D144,"0"))-5,3)&"."&RIGHT(TEXT(MADRE!D144,"0"),3))))&CHAR(10)&CHAR(10)&"📏 "&TRIM(MADRE!A145)&CHAR(10)&CHAR(10)&"💰 "&IF(MADRE!D145="","",IF(MADRE!D145<1000,TEXT(MADRE!D145,"0"),IF(MADRE!D145<1000000,LEFT(TEXT(MADRE!D145,"0"),LEN(TEXT(MADRE!D145,"0"))-3)&"."&RIGHT(TEXT(MADRE!D145,"0"),3),LEFT(TEXT(MADRE!D145,"0"),LEN(TEXT(MADRE!D145,"0"))-6)&"."&MID(TEXT(MADRE!D145,"0"),LEN(TEXT(MADRE!D145,"0"))-5,3)&"."&RIGHT(TEXT(MADRE!D145,"0"),3)))) -> 🌱 BUXUS SEMPERVIRENS (BOJ BUXUS). 📏 E. 4 lts 30cm 💰 12.987 📏 E. 10 lts 60cm 💰 27.000 📏 E. 15 lts 70-80cm 💰 36.500 📏 Bocha x 20lts 💰 60.000 | D59: =B59 -> 🌱 BUXUS SEMPERVIRENS (BOJ BUXUS). 📏 E. 4 lts 30cm 💰 12.987 📏 E. 10 lts 60cm 💰 27.000 📏 E. 15 lts 70-80cm 💰 36.500 📏 Bocha x 20lts 💰 60.000
A60: =TRIM(MADRE!A146) -> Buxus microphilia | B60: ="🌱 "&UPPER(TRIM(MADRE!A146))&CHAR(10)&CHAR(10)&"📏 "&TRIM(MADRE!A147)&CHAR(10)&CHAR(10)&"💰 "&IF(MADRE!D147="","",IF(MADRE!D147<1000,TEXT(MADRE!D147,"0"),IF(MADRE!D147<1000000,LEFT(TEXT(MADRE!D147,"0"),LEN(TEXT(MADRE!D147,"0"))-3)&"."&RIGHT(TEXT(MADRE!D147,"0"),3),LEFT(TEXT(MADRE!D147,"0"),LEN(TEXT(MADRE!D147,"0"))-6)&"."&MID(TEXT(MADRE!D147,"0"),LEN(TEXT(MADRE!D147,"0"))-5,3)&"."&RIGHT(TEXT(MADRE!D147,"0"),3))))&CHAR(10)&CHAR(10)&"📏 "&TRIM(MADRE!A148)&CHAR(10)&CHAR(10)&"💰 "&IF(MADRE!D148="","",IF(MADRE!D148<1000,TEXT(MADRE!D148,"0"),IF(MADRE!D148<1000000,LEFT(TEXT(MADRE!D148,"0"),LEN(TEXT(MADRE!D148,"0"))-3)&"."&RIGHT(TEXT(MADRE!D148,"0"),3),LEFT(TEXT(MADRE!D148,"0"),LEN(TEXT(MADRE!D148,"0"))-6)&"."&MID(TEXT(MADRE!D148,"0"),LEN(TEXT(MADRE!D148,"0"))-5,3)&"."&RIGHT(TEXT(MADRE!D148,"0"),3)))) -> 🌱 BUXUS MICROPHILIA 📏 E. 4lts 💰 12.987 📏 E. 10lts. 💰 27.000 | D60: =B60 -> 🌱 BUXUS MICROPHILIA 📏 E. 4lts 💰 12.987 📏 E. 10lts. 💰 27.000
A61: =TRIM(MADRE!A149) -> Cala (Zantedeschia aethiopica). | B61: ="🌱 "&UPPER(TRIM(MADRE!A149))&CHAR(10)&CHAR(10)&"📏 "&TRIM(MADRE!A150)&CHAR(10)&CHAR(10)&"💰 "&IF(MADRE!D150="","",IF(MADRE!D150<1000,TEXT(MADRE!D150,"0"),IF(MADRE!D150<1000000,LEFT(TEXT(MADRE!D150,"0"),LEN(TEXT(MADRE!D150,"0"))-3)&"."&RIGHT(TEXT(MADRE!D150,"0"),3),LEFT(TEXT(MADRE!D150,"0"),LEN(TEXT(MADRE!D150,"0"))-6)&"."&MID(TEXT(MADRE!D150,"0"),LEN(TEXT(MADRE!D150,"0"))-5,3)&"."&RIGHT(TEXT(MADRE!D150,"0"),3)))) -> 🌱 CALA (ZANTEDESCHIA AETHIOPICA). 📏 E. 10 lts 💰 25.000 | D61: =B61 -> 🌱 CALA (ZANTEDESCHIA AETHIOPICA). 📏 E. 10 lts 💰 25.000
A62: =TRIM(MADRE!A151) -> Callistemon lanceolatus imperiallis. | B62: ="🌱 "&UPPER(TRIM(MADRE!A151))&CHAR(10)&CHAR(10)&"📏 "&TRIM(MADRE!A152)&CHAR(10)&CHAR(10)&"💰 "&IF(MADRE!D152="","",IF(MADRE!D152<1000,TEXT(MADRE!D152,"0"),IF(MADRE!D152<1000000,LEFT(TEXT(MADRE!D152,"0"),LEN(TEXT(MADRE!D152,"0"))-3)&"."&RIGHT(TEXT(MADRE!D152,"0"),3),LEFT(TEXT(MADRE!D152,"0"),LEN(TEXT(MADRE!D152,"0"))-6)&"."&MID(TEXT(MADRE!D152,"0"),LEN(TEXT(MADRE!D152,"0"))-5,3)&"."&RIGHT(TEXT(MADRE!D152,"0"),3))))&CHAR(10)&CHAR(10)&"📏 "&TRIM(MADRE!A153)&CHAR(10)&CHAR(10)&"💰 "&IF(MADRE!D153="","",IF(MADRE!D153<1000,TEXT(MADRE!D153,"0"),IF(MADRE!D153<1000000,LEFT(TEXT(MADRE!D153,"0"),LEN(TEXT(MADRE!D153,"0"))-3)&"."&RIGHT(TEXT(MADRE!D153,"0"),3),LEFT(TEXT(MADRE!D153,"0"),LEN(TEXT(MADRE!D153,"0"))-6)&"."&MID(TEXT(MADRE!D153,"0"),LEN(TEXT(MADRE!D153,"0"))-5,3)&"."&RIGHT(TEXT(MADRE!D153,"0"),3)))) -> 🌱 CALLISTEMON LANCEOLATUS IMPERIALLIS. 📏 E. 4 lts 💰 12.232 📏 E. 10 lts 100cm 💰 27.000 | D62: =B62 -> 🌱 CALLISTEMON LANCEOLATUS IMPERIALLIS. 📏 E. 4 lts 💰 12.232 📏 E. 10 lts 100cm 💰 27.000
A63: =TRIM(MADRE!A154) -> Callistemon salignum (melaleuca). | B63: ="🌱 "&UPPER(TRIM(MADRE!A154))&CHAR(10)&CHAR(10)&"📏 "&TRIM(MADRE!A155)&CHAR(10)&CHAR(10)&"💰 "&IF(MADRE!D155="","",IF(MADRE!D155<1000,TEXT(MADRE!D155,"0"),IF(MADRE!D155<1000000,LEFT(TEXT(MADRE!D155,"0"),LEN(TEXT(MADRE!D155,"0"))-3)&"."&RIGHT(TEXT(MADRE!D155,"0"),3),LEFT(TEXT(MADRE!D155,"0"),LEN(TEXT(MADRE!D155,"0"))-6)&"."&MID(TEXT(MADRE!D155,"0"),LEN(TEXT(MADRE!D155,"0"))-5,3)&"."&RIGHT(TEXT(MADRE!D155,"0"),3))))&CHAR(10)&CHAR(10)&"📏 "&TRIM(MADRE!A156)&CHAR(10)&CHAR(10)&"💰 "&IF(MADRE!D156="","",IF(MADRE!D156<1000,TEXT(MADRE!D156,"0"),IF(MADRE!D156<1000000,LEFT(TEXT(MADRE!D156,"0"),LEN(TEXT(MADRE!D156,"0"))-3)&"."&RIGHT(TEXT(MADRE!D156,"0"),3),LEFT(TEXT(MADRE!D156,"0"),LEN(TEXT(MADRE!D156,"0"))-6)&"."&MID(TEXT(MADRE!D156,"0"),LEN(TEXT(MADRE!D156,"0"))-5,3)&"."&RIGHT(TEXT(MADRE!D156,"0"),3)))) -> 🌱 CALLISTEMON SALIGNUM (MELALEUCA). 📏 flor blanca E. 10lts 150cm 💰 27.000 📏 flor blanca E. 20lts 150-180cm 💰 49.900 | D63: =B63 -> 🌱 CALLISTEMON SALIGNUM (MELALEUCA). 📏 flor blanca E. 10lts 150cm 💰 27.000 📏 flor blanca E. 20lts 150-180cm 💰 49.900
A64: =TRIM(MADRE!A157) -> Camelia japonica. | B64: ="🌱 "&UPPER(TRIM(MADRE!A157))&CHAR(10)&CHAR(10)&"📏 "&TRIM(MADRE!A158)&CHAR(10)&CHAR(10)&"💰 "&IF(MADRE!D158="","",IF(MADRE!D158<1000,TEXT(MADRE!D158,"0"),IF(MADRE!D158<1000000,LEFT(TEXT(MADRE!D158,"0"),LEN(TEXT(MADRE!D158,"0"))-3)&"."&RIGHT(TEXT(MADRE!D158,"0"),3),LEFT(TEXT(MADRE!D158,"0"),LEN(TEXT(MADRE!D158,"0"))-6)&"."&MID(TEXT(MADRE!D158,"0"),LEN(TEXT(MADRE!D158,"0"))-5,3)&"."&RIGHT(TEXT(MADRE!D158,"0"),3)))) -> 🌱 CAMELIA JAPONICA. 📏 E. 10 lts 💰 38.500 | D64: =B64 -> 🌱 CAMELIA JAPONICA. 📏 E. 10 lts 💰 38.500
A65: =TRIM(MADRE!A159) -> Caña de la india (Phyllostachis babbusoides). | B65: ="🌱 "&UPPER(TRIM(MADRE!A159))&CHAR(10)&CHAR(10)&"📏 "&TRIM(MADRE!A160)&CHAR(10)&CHAR(10)&"💰 "&IF(MADRE!D160="","",IF(MADRE!D160<1000,TEXT(MADRE!D160,"0"),IF(MADRE!D160<1000000,LEFT(TEXT(MADRE!D160,"0"),LEN(TEXT(MADRE!D160,"0"))-3)&"."&RIGHT(TEXT(MADRE!D160,"0"),3),LEFT(TEXT(MADRE!D160,"0"),LEN(TEXT(MADRE!D160,"0"))-6)&"."&MID(TEXT(MADRE!D160,"0"),LEN(TEXT(MADRE!D160,"0"))-5,3)&"."&RIGHT(TEXT(MADRE!D160,"0"),3)))) -> 🌱 CAÑA DE LA INDIA (PHYLLOSTACHIS BABBUSOIDES). 📏 160 cm. E. 10 lts 💰 27.000 | D65: =B65 -> 🌱 CAÑA DE LA INDIA (PHYLLOSTACHIS BABBUSOIDES). 📏 160 cm. E. 10 lts 💰 27.000
A66: =TRIM(MADRE!A161) -> Caña enana (Pogonatherum juncaceum). | B66: ="🌱 "&UPPER(TRIM(MADRE!A161))&CHAR(10)&CHAR(10)&"📏 "&TRIM(MADRE!A162)&CHAR(10)&CHAR(10)&"💰 "&IF(MADRE!D162="","",IF(MADRE!D162<1000,TEXT(MADRE!D162,"0"),IF(MADRE!D162<1000000,LEFT(TEXT(MADRE!D162,"0"),LEN(TEXT(MADRE!D162,"0"))-3)&"."&RIGHT(TEXT(MADRE!D162,"0"),3),LEFT(TEXT(MADRE!D162,"0"),LEN(TEXT(MADRE!D162,"0"))-6)&"."&MID(TEXT(MADRE!D162,"0"),LEN(TEXT(MADRE!D162,"0"))-5,3)&"."&RIGHT(TEXT(MADRE!D162,"0"),3))))&CHAR(10)&CHAR(10)&"📏 "&TRIM(MADRE!A163)&CHAR(10)&CHAR(10)&"💰 "&IF(MADRE!D163="","",IF(MADRE!D163<1000,TEXT(MADRE!D163,"0"),IF(MADRE!D163<1000000,LEFT(TEXT(MADRE!D163,"0"),LEN(TEXT(MADRE!D163,"0"))-3)&"."&RIGHT(TEXT(MADRE!D163,"0"),3),LEFT(TEXT(MADRE!D163,"0"),LEN(TEXT(MADRE!D163,"0"))-6)&"."&MID(TEXT(MADRE!D163,"0"),LEN(TEXT(MADRE!D163,"0"))-5,3)&"."&RIGHT(TEXT(MADRE!D163,"0"),3))))&CHAR(10)&CHAR(10)&"📏 "&TRIM(MADRE!A164)&CHAR(10)&CHAR(10)&"💰 "&IF(MADRE!D164="","",IF(MADRE!D164<1000,TEXT(MADRE!D164,"0"),IF(MADRE!D164<1000000,LEFT(TEXT(MADRE!D164,"0"),LEN(TEXT(MADRE!D164,"0"))-3)&"."&RIGHT(TEXT(MADRE!D164,"0"),3),LEFT(TEXT(MADRE!D164,"0"),LEN(TEXT(MADRE!D164,"0"))-6)&"."&MID(TEXT(MADRE!D164,"0"),LEN(TEXT(MADRE!D164,"0"))-5,3)&"."&RIGHT(TEXT(MADRE!D164,"0"),3))))&CHAR(10)&CHAR(10)&"📏 "&TRIM(MADRE!A165)&CHAR(10)&CHAR(10)&"💰 "&IF(MADRE!D165="","",IF(MADRE!D165<1000,TEXT(MADRE!D165,"0"),IF(MADRE!D165<1000000,LEFT(TEXT(MADRE!D165,"0"),LEN(TEXT(MADRE!D165,"0"))-3)&"."&RIGHT(TEXT(MADRE!D165,"0"),3),LEFT(TEXT(MADRE!D165,"0"),LEN(TEXT(MADRE!D165,"0"))-6)&"."&MID(TEXT(MADRE!D165,"0"),LEN(TEXT(MADRE!D165,"0"))-5,3)&"."&RIGHT(TEXT(MADRE!D165,"0"),3)))) -> 🌱 CAÑA ENANA (POGONATHERUM JUNCACEUM). 📏 E. 4 lts 💰 12.232 📏 E. 10 lts 💰 32.190 📏 Caña Multiplex 💰 📏 E. 10 lts 💰 27.000 | D66: =B66 -> 🌱 CAÑA ENANA (POGONATHERUM JUNCACEUM). 📏 E. 4 lts 💰 12.232 📏 E. 10 lts 💰 32.190 📏 Caña Multiplex 💰 📏 E. 10 lts 💰 27.000
A67: =TRIM(MADRE!A166) -> Carex bronzina. | B67: ="🌱 "&UPPER(TRIM(MADRE!A166))&CHAR(10)&CHAR(10)&"📏 "&TRIM(MADRE!A167)&CHAR(10)&CHAR(10)&"💰 "&IF(MADRE!D167="","",IF(MADRE!D167<1000,TEXT(MADRE!D167,"0"),IF(MADRE!D167<1000000,LEFT(TEXT(MADRE!D167,"0"),LEN(TEXT(MADRE!D167,"0"))-3)&"."&RIGHT(TEXT(MADRE!D167,"0"),3),LEFT(TEXT(MADRE!D167,"0"),LEN(TEXT(MADRE!D167,"0"))-6)&"."&MID(TEXT(MADRE!D167,"0"),LEN(TEXT(MADRE!D167,"0"))-5,3)&"."&RIGHT(TEXT(MADRE!D167,"0"),3)))) -> 🌱 CAREX BRONZINA. 📏 E. 4 lts 💰 8.900 | D67: =B67 -> 🌱 CAREX BRONZINA. 📏 E. 4 lts 💰 8.900
A68: =TRIM(MADRE!A168) -> Casuarina cunninghamiana. | B68: ="🌱 "&UPPER(TRIM(MADRE!A168))&CHAR(10)&CHAR(10)&"📏 "&TRIM(MADRE!A169)&CHAR(10)&CHAR(10)&"💰 "&IF(MADRE!D169="","",IF(MADRE!D169<1000,TEXT(MADRE!D169,"0"),IF(MADRE!D169<1000000,LEFT(TEXT(MADRE!D169,"0"),LEN(TEXT(MADRE!D169,"0"))-3)&"."&RIGHT(TEXT(MADRE!D169,"0"),3),LEFT(TEXT(MADRE!D169,"0"),LEN(TEXT(MADRE!D169,"0"))-6)&"."&MID(TEXT(MADRE!D169,"0"),LEN(TEXT(MADRE!D169,"0"))-5,3)&"."&RIGHT(TEXT(MADRE!D169,"0"),3))))&CHAR(10)&CHAR(10)&"📏 "&TRIM(MADRE!A170)&CHAR(10)&CHAR(10)&"💰 "&IF(MADRE!D170="","",IF(MADRE!D170<1000,TEXT(MADRE!D170,"0"),IF(MADRE!D170<1000000,LEFT(TEXT(MADRE!D170,"0"),LEN(TEXT(MADRE!D170,"0"))-3)&"."&RIGHT(TEXT(MADRE!D170,"0"),3),LEFT(TEXT(MADRE!D170,"0"),LEN(TEXT(MADRE!D170,"0"))-6)&"."&MID(TEXT(MADRE!D170,"0"),LEN(TEXT(MADRE!D170,"0"))-5,3)&"."&RIGHT(TEXT(MADRE!D170,"0"),3))))&CHAR(10)&CHAR(10)&"📏 "&TRIM(MADRE!A171)&CHAR(10)&CHAR(10)&"💰 "&IF(MADRE!D171="","",IF(MADRE!D171<1000,TEXT(MADRE!D171,"0"),IF(MADRE!D171<1000000,LEFT(TEXT(MADRE!D171,"0"),LEN(TEXT(MADRE!D171,"0"))-3)&"."&RIGHT(TEXT(MADRE!D171,"0"),3),LEFT(TEXT(MADRE!D171,"0"),LEN(TEXT(MADRE!D171,"0"))-6)&"."&MID(TEXT(MADRE!D171,"0"),LEN(TEXT(MADRE!D171,"0"))-5,3)&"."&RIGHT(TEXT(MADRE!D171,"0"),3))))&CHAR(10)&CHAR(10)&"📏 "&TRIM(MADRE!A172)&CHAR(10)&CHAR(10)&"💰 "&IF(MADRE!D172="","",IF(MADRE!D172<1000,TEXT(MADRE!D172,"0"),IF(MADRE!D172<1000000,LEFT(TEXT(MADRE!D172,"0"),LEN(TEXT(MADRE!D172,"0"))-3)&"."&RIGHT(TEXT(MADRE!D172,"0"),3),LEFT(TEXT(MADRE!D172,"0"),LEN(TEXT(MADRE!D172,"0"))-6)&"."&MID(TEXT(MADRE!D172,"0"),LEN(TEXT(MADRE!D172,"0"))-5,3)&"."&RIGHT(TEXT(MADRE!D172,"0"),3))))&CHAR(10)&CHAR(10)&"📏 "&TRIM(MADRE!A173)&CHAR(10)&CHAR(10)&"💰 "&IF(MADRE!D173="","",IF(MADRE!D173<1000,TEXT(MADRE!D173,"0"),IF(MADRE!D173<1000000,LEFT(TEXT(MADRE!D173,"0"),LEN(TEXT(MADRE!D173,"0"))-3)&"."&RIGHT(TEXT(MADRE!D173,"0"),3),LEFT(TEXT(MADRE!D173,"0"),LEN(TEXT(MADRE!D173,"0"))-6)&"."&MID(TEXT(MADRE!D173,"0"),LEN(TEXT(MADRE!D173,"0"))-5,3)&"."&RIGHT(TEXT(MADRE!D173,"0"),3))))&CHAR(10)&CHAR(10)&"📏 "&TRIM(MADRE!A174)&CHAR(10)&CHAR(10)&"💰 "&IF(MADRE!D174="","",IF(MADRE!D174<1000,TEXT(MADRE!D174,"0"),IF(MADRE!D174<1000000,LEFT(TEXT(MADRE!D174,"0"),LEN(TEXT(MADRE!D174,"0"))-3)&"."&RIGHT(TEXT(MADRE!D174,"0"),3),LEFT(TEXT(MADRE!D174,"0"),LEN(TEXT(MADRE!D174,"0"))-6)&"."&MID(TEXT(MADRE!D174,"0"),LEN(TEXT(MADRE!D174,"0"))-5,3)&"."&RIGHT(TEXT(MADRE!D174,"0"),3))))&CHAR(10)&CHAR(10)&"📏 "&TRIM(MADRE!A175)&CHAR(10)&CHAR(10)&"💰 "&IF(MADRE!D175="","",IF(MADRE!D175<1000,TEXT(MADRE!D175,"0"),IF(MADRE!D175<1000000,LEFT(TEXT(MADRE!D175,"0"),LEN(TEXT(MADRE!D175,"0"))-3)&"."&RIGHT(TEXT(MADRE!D175,"0"),3),LEFT(TEXT(MADRE!D175,"0"),LEN(TEXT(MADRE!D175,"0"))-6)&"."&MID(TEXT(MADRE!D175,"0"),LEN(TEXT(MADRE!D175,"0"))-5,3)&"."&RIGHT(TEXT(MADRE!D175,"0"),3)))) -> 🌱 CASUARINA CUNNINGHAMIANA. 📏 120-150 cm. E. 4 lts 💰 12.232 📏 150-180 cm. 💰 16.650 📏 180-210 cm. 💰 21.090 📏 210-250 cm. 💰 27.750 📏 250-300 cm 💰 32.000 📏 300-350 cm 💰 45.000 📏 350-400 cm 💰 64.000 | D68: =B68 -> 🌱 CASUARINA CUNNINGHAMIANA. 📏 120-150 cm. E. 4 lts 💰 12.232 📏 150-180 cm. 💰 16.650 📏 180-210 cm. 💰 21.090 📏 210-250 cm. 💰 27.750 📏 250-300 cm 💰 32.000 📏 300-350 cm 💰 45.000 📏 350-400 cm 💰 64.000
A69: =TRIM(MADRE!A176) -> Catalpa bignonioides. | B69: ="🌱 "&UPPER(TRIM(MADRE!A176))&CHAR(10)&CHAR(10)&"📏 "&TRIM(MADRE!A177)&CHAR(10)&CHAR(10)&"💰 "&IF(MADRE!D177="","",IF(MADRE!D177<1000,TEXT(MADRE!D177,"0"),IF(MADRE!D177<1000000,LEFT(TEXT(MADRE!D177,"0"),LEN(TEXT(MADRE!D177,"0"))-3)&"."&RIGHT(TEXT(MADRE!D177,"0"),3),LEFT(TEXT(MADRE!D177,"0"),LEN(TEXT(MADRE!D177,"0"))-6)&"."&MID(TEXT(MADRE!D177,"0"),LEN(TEXT(MADRE!D177,"0"))-5,3)&"."&RIGHT(TEXT(MADRE!D177,"0"),3))))&CHAR(10)&CHAR(10)&"📏 "&TRIM(MADRE!A178)&CHAR(10)&CHAR(10)&"💰 "&IF(MADRE!D178="","",IF(MADRE!D178<1000,TEXT(MADRE!D178,"0"),IF(MADRE!D178<1000000,LEFT(TEXT(MADRE!D178,"0"),LEN(TEXT(MADRE!D178,"0"))-3)&"."&RIGHT(TEXT(MADRE!D178,"0"),3),LEFT(TEXT(MADRE!D178,"0"),LEN(TEXT(MADRE!D178,"0"))-6)&"."&MID(TEXT(MADRE!D178,"0"),LEN(TEXT(MADRE!D178,"0"))-5,3)&"."&RIGHT(TEXT(MADRE!D178,"0"),3)))) -> 🌱 CATALPA BIGNONIOIDES. 📏 con copa, mide mas de 200cm de altura con 8-10 cm circunsf tronco. E. 15 lts. 💰 61.050 📏 con copa, 10-12 cm. E. 20 lts. 💰 71.040 | D69: =B69 -> 🌱 CATALPA BIGNONIOIDES. 📏 con copa, mide mas de 200cm de altura con 8-10 cm circunsf tronco. E. 15 lts. 💰 61.050 📏 con copa, 10-12 cm. E. 20 lts. 💰 71.040
A70: =TRIM(MADRE!A179) -> Ceibo. (Erythrina crista-galli). | B70: ="🌱 "&UPPER(TRIM(MADRE!A179))&CHAR(10)&CHAR(10)&"📏 "&TRIM(MADRE!A180)&CHAR(10)&CHAR(10)&"💰 "&IF(MADRE!D180="","",IF(MADRE!D180<1000,TEXT(MADRE!D180,"0"),IF(MADRE!D180<1000000,LEFT(TEXT(MADRE!D180,"0"),LEN(TEXT(MADRE!D180,"0"))-3)&"."&RIGHT(TEXT(MADRE!D180,"0"),3),LEFT(TEXT(MADRE!D180,"0"),LEN(TEXT(MADRE!D180,"0"))-6)&"."&MID(TEXT(MADRE!D180,"0"),LEN(TEXT(MADRE!D180,"0"))-5,3)&"."&RIGHT(TEXT(MADRE!D180,"0"),3))))&CHAR(10)&CHAR(10)&"📏 "&TRIM(MADRE!A181)&CHAR(10)&CHAR(10)&"💰 "&IF(MADRE!D181="","",IF(MADRE!D181<1000,TEXT(MADRE!D181,"0"),IF(MADRE!D181<1000000,LEFT(TEXT(MADRE!D181,"0"),LEN(TEXT(MADRE!D181,"0"))-3)&"."&RIGHT(TEXT(MADRE!D181,"0"),3),LEFT(TEXT(MADRE!D181,"0"),LEN(TEXT(MADRE!D181,"0"))-6)&"."&MID(TEXT(MADRE!D181,"0"),LEN(TEXT(MADRE!D181,"0"))-5,3)&"."&RIGHT(TEXT(MADRE!D181,"0"),3))))&CHAR(10)&CHAR(10)&"📏 "&TRIM(MADRE!A182)&CHAR(10)&CHAR(10)&"💰 "&IF(MADRE!D182="","",IF(MADRE!D182<1000,TEXT(MADRE!D182,"0"),IF(MADRE!D182<1000000,LEFT(TEXT(MADRE!D182,"0"),LEN(TEXT(MADRE!D182,"0"))-3)&"."&RIGHT(TEXT(MADRE!D182,"0"),3),LEFT(TEXT(MADRE!D182,"0"),LEN(TEXT(MADRE!D182,"0"))-6)&"."&MID(TEXT(MADRE!D182,"0"),LEN(TEXT(MADRE!D182,"0"))-5,3)&"."&RIGHT(TEXT(MADRE!D182,"0"),3))))&CHAR(10)&CHAR(10)&"📏 "&TRIM(MADRE!A183)&CHAR(10)&CHAR(10)&"💰 "&IF(MADRE!D183="","",IF(MADRE!D183<1000,TEXT(MADRE!D183,"0"),IF(MADRE!D183<1000000,LEFT(TEXT(MADRE!D183,"0"),LEN(TEXT(MADRE!D183,"0"))-3)&"."&RIGHT(TEXT(MADRE!D183,"0"),3),LEFT(TEXT(MADRE!D183,"0"),LEN(TEXT(MADRE!D183,"0"))-6)&"."&MID(TEXT(MADRE!D183,"0"),LEN(TEXT(MADRE!D183,"0"))-5,3)&"."&RIGHT(TEXT(MADRE!D183,"0"),3)))) -> 🌱 CEIBO. (ERYTHRINA CRISTA-GALLI). 📏 E. 4 lts 💰 12.210 📏 E. 10 lts 120-130cm 💰 31.746 📏 E. 15 lts 130-150cm 💰 45.177 📏 E. 20 lts 150-160cm 💰 74.000 | D70: =B70 -> 🌱 CEIBO. (ERYTHRINA CRISTA-GALLI). 📏 E. 4 lts 💰 12.210 📏 E. 10 lts 120-130cm 💰 31.746 📏 E. 15 lts 130-150cm 💰 45.177 📏 E. 20 lts 150-160cm 💰 74.000
A71: =TRIM(MADRE!A184) -> Clivia. | B71: ="🌱 "&UPPER(TRIM(MADRE!A184))&CHAR(10)&CHAR(10)&"📏 "&TRIM(MADRE!A185)&CHAR(10)&CHAR(10)&"💰 "&IF(MADRE!D185="","",IF(MADRE!D185<1000,TEXT(MADRE!D185,"0"),IF(MADRE!D185<1000000,LEFT(TEXT(MADRE!D185,"0"),LEN(TEXT(MADRE!D185,"0"))-3)&"."&RIGHT(TEXT(MADRE!D185,"0"),3),LEFT(TEXT(MADRE!D185,"0"),LEN(TEXT(MADRE!D185,"0"))-6)&"."&MID(TEXT(MADRE!D185,"0"),LEN(TEXT(MADRE!D185,"0"))-5,3)&"."&RIGHT(TEXT(MADRE!D185,"0"),3))))&CHAR(10)&CHAR(10)&"📏 "&TRIM(MADRE!A186)&CHAR(10)&CHAR(10)&"💰 "&IF(MADRE!D186="","",IF(MADRE!D186<1000,TEXT(MADRE!D186,"0"),IF(MADRE!D186<1000000,LEFT(TEXT(MADRE!D186,"0"),LEN(TEXT(MADRE!D186,"0"))-3)&"."&RIGHT(TEXT(MADRE!D186,"0"),3),LEFT(TEXT(MADRE!D186,"0"),LEN(TEXT(MADRE!D186,"0"))-6)&"."&MID(TEXT(MADRE!D186,"0"),LEN(TEXT(MADRE!D186,"0"))-5,3)&"."&RIGHT(TEXT(MADRE!D186,"0"),3)))) -> 🌱 CLIVIA. 📏 E 4 lts 💰 21.645 📏 E. 10 lts 💰 34.632 | D71: =B71 -> 🌱 CLIVIA. 📏 E 4 lts 💰 21.645 📏 E. 10 lts 💰 34.632
A72: =TRIM(MADRE!A187) -> Cina - cina. (Parkinsonia aculeata). | B72: ="🌱 "&UPPER(TRIM(MADRE!A187))&CHAR(10)&CHAR(10)&"📏 "&TRIM(MADRE!A188)&CHAR(10)&CHAR(10)&"💰 "&IF(MADRE!D188="","",IF(MADRE!D188<1000,TEXT(MADRE!D188,"0"),IF(MADRE!D188<1000000,LEFT(TEXT(MADRE!D188,"0"),LEN(TEXT(MADRE!D188,"0"))-3)&"."&RIGHT(TEXT(MADRE!D188,"0"),3),LEFT(TEXT(MADRE!D188,"0"),LEN(TEXT(MADRE!D188,"0"))-6)&"."&MID(TEXT(MADRE!D188,"0"),LEN(TEXT(MADRE!D188,"0"))-5,3)&"."&RIGHT(TEXT(MADRE!D188,"0"),3))))&CHAR(10)&CHAR(10)&"📏 "&TRIM(MADRE!A189)&CHAR(10)&CHAR(10)&"💰 "&IF(MADRE!D189="","",IF(MADRE!D189<1000,TEXT(MADRE!D189,"0"),IF(MADRE!D189<1000000,LEFT(TEXT(MADRE!D189,"0"),LEN(TEXT(MADRE!D189,"0"))-3)&"."&RIGHT(TEXT(MADRE!D189,"0"),3),LEFT(TEXT(MADRE!D189,"0"),LEN(TEXT(MADRE!D189,"0"))-6)&"."&MID(TEXT(MADRE!D189,"0"),LEN(TEXT(MADRE!D189,"0"))-5,3)&"."&RIGHT(TEXT(MADRE!D189,"0"),3)))) -> 🌱 CINA - CINA. (PARKINSONIA ACULEATA). 📏 E. 4 lts 💰 18.315 📏 E. 10 lts 💰 32.967 | D72: =B72 -> 🌱 CINA - CINA. (PARKINSONIA ACULEATA). 📏 E. 4 lts 💰 18.315 📏 E. 10 lts 💰 32.967
A73: =TRIM(MADRE!A190) -> Colocacia ilustreis hoja negra | B73: ="🌱 "&UPPER(TRIM(MADRE!A190))&CHAR(10)&CHAR(10)&"📏 "&TRIM(MADRE!A191)&CHAR(10)&CHAR(10)&"💰 "&IF(MADRE!D191="","",IF(MADRE!D191<1000,TEXT(MADRE!D191,"0"),IF(MADRE!D191<1000000,LEFT(TEXT(MADRE!D191,"0"),LEN(TEXT(MADRE!D191,"0"))-3)&"."&RIGHT(TEXT(MADRE!D191,"0"),3),LEFT(TEXT(MADRE!D191,"0"),LEN(TEXT(MADRE!D191,"0"))-6)&"."&MID(TEXT(MADRE!D191,"0"),LEN(TEXT(MADRE!D191,"0"))-5,3)&"."&RIGHT(TEXT(MADRE!D191,"0"),3)))) -> 🌱 COLOCACIA ILUSTREIS HOJA NEGRA 📏 E. 4lts 💰 33.333 | D73: =B73 -> 🌱 COLOCACIA ILUSTREIS HOJA NEGRA 📏 E. 4lts 💰 33.333
A74: =TRIM(MADRE!A192) -> Corona de novia (Spiraea cantoniensis). | B74: ="🌱 "&UPPER(TRIM(MADRE!A192))&CHAR(10)&CHAR(10)&"📏 "&TRIM(MADRE!A193)&CHAR(10)&CHAR(10)&"💰 "&IF(MADRE!D193="","",IF(MADRE!D193<1000,TEXT(MADRE!D193,"0"),IF(MADRE!D193<1000000,LEFT(TEXT(MADRE!D193,"0"),LEN(TEXT(MADRE!D193,"0"))-3)&"."&RIGHT(TEXT(MADRE!D193,"0"),3),LEFT(TEXT(MADRE!D193,"0"),LEN(TEXT(MADRE!D193,"0"))-6)&"."&MID(TEXT(MADRE!D193,"0"),LEN(TEXT(MADRE!D193,"0"))-5,3)&"."&RIGHT(TEXT(MADRE!D193,"0"),3))))&CHAR(10)&CHAR(10)&"📏 "&TRIM(MADRE!A194)&CHAR(10)&CHAR(10)&"💰 "&IF(MADRE!D194="","",IF(MADRE!D194<1000,TEXT(MADRE!D194,"0"),IF(MADRE!D194<1000000,LEFT(TEXT(MADRE!D194,"0"),LEN(TEXT(MADRE!D194,"0"))-3)&"."&RIGHT(TEXT(MADRE!D194,"0"),3),LEFT(TEXT(MADRE!D194,"0"),LEN(TEXT(MADRE!D194,"0"))-6)&"."&MID(TEXT(MADRE!D194,"0"),LEN(TEXT(MADRE!D194,"0"))-5,3)&"."&RIGHT(TEXT(MADRE!D194,"0"),3)))) -> 🌱 CORONA DE NOVIA (SPIRAEA CANTONIENSIS). 📏 flor blanca doble E. 4 lts 💰 12.232 📏 flor blanca doble E. 10 lts 💰 27.000 | D74: =B74 -> 🌱 CORONA DE NOVIA (SPIRAEA CANTONIENSIS). 📏 flor blanca doble E. 4 lts 💰 12.232 📏 flor blanca doble E. 10 lts 💰 27.000
A75: =TRIM(MADRE!A195) -> Cortadeira sellona (Pampa grass). | B75: ="🌱 "&UPPER(TRIM(MADRE!A195))&CHAR(10)&CHAR(10)&"📏 "&TRIM(MADRE!A196)&CHAR(10)&CHAR(10)&"💰 "&IF(MADRE!D196="","",IF(MADRE!D196<1000,TEXT(MADRE!D196,"0"),IF(MADRE!D196<1000000,LEFT(TEXT(MADRE!D196,"0"),LEN(TEXT(MADRE!D196,"0"))-3)&"."&RIGHT(TEXT(MADRE!D196,"0"),3),LEFT(TEXT(MADRE!D196,"0"),LEN(TEXT(MADRE!D196,"0"))-6)&"."&MID(TEXT(MADRE!D196,"0"),LEN(TEXT(MADRE!D196,"0"))-5,3)&"."&RIGHT(TEXT(MADRE!D196,"0"),3))))&CHAR(10)&CHAR(10)&"📏 "&TRIM(MADRE!A197)&CHAR(10)&CHAR(10)&"💰 "&IF(MADRE!D197="","",IF(MADRE!D197<1000,TEXT(MADRE!D197,"0"),IF(MADRE!D197<1000000,LEFT(TEXT(MADRE!D197,"0"),LEN(TEXT(MADRE!D197,"0"))-3)&"."&RIGHT(TEXT(MADRE!D197,"0"),3),LEFT(TEXT(MADRE!D197,"0"),LEN(TEXT(MADRE!D197,"0"))-6)&"."&MID(TEXT(MADRE!D197,"0"),LEN(TEXT(MADRE!D197,"0"))-5,3)&"."&RIGHT(TEXT(MADRE!D197,"0"),3)))) -> 🌱 CORTADEIRA SELLONA (PAMPA GRASS). 📏 flor blanca, E. 4 lts 💰 12.232 📏 flor blanca E10 lts 💰 27.000 | D75: =B75 -> 🌱 CORTADEIRA SELLONA (PAMPA GRASS). 📏 flor blanca, E. 4 lts 💰 12.232 📏 flor blanca E10 lts 💰 27.000
A76: =TRIM(MADRE!A198) -> Cotoneaster dielsiana. | B76: ="🌱 "&UPPER(TRIM(MADRE!A198))&CHAR(10)&CHAR(10)&"📏 "&TRIM(MADRE!A199)&CHAR(10)&CHAR(10)&"💰 "&IF(MADRE!D199="","",IF(MADRE!D199<1000,TEXT(MADRE!D199,"0"),IF(MADRE!D199<1000000,LEFT(TEXT(MADRE!D199,"0"),LEN(TEXT(MADRE!D199,"0"))-3)&"."&RIGHT(TEXT(MADRE!D199,"0"),3),LEFT(TEXT(MADRE!D199,"0"),LEN(TEXT(MADRE!D199,"0"))-6)&"."&MID(TEXT(MADRE!D199,"0"),LEN(TEXT(MADRE!D199,"0"))-5,3)&"."&RIGHT(TEXT(MADRE!D199,"0"),3))))&CHAR(10)&CHAR(10)&"📏 "&TRIM(MADRE!A200)&CHAR(10)&CHAR(10)&"💰 "&IF(MADRE!D200="","",IF(MADRE!D200<1000,TEXT(MADRE!D200,"0"),IF(MADRE!D200<1000000,LEFT(TEXT(MADRE!D200,"0"),LEN(TEXT(MADRE!D200,"0"))-3)&"."&RIGHT(TEXT(MADRE!D200,"0"),3),LEFT(TEXT(MADRE!D200,"0"),LEN(TEXT(MADRE!D200,"0"))-6)&"."&MID(TEXT(MADRE!D200,"0"),LEN(TEXT(MADRE!D200,"0"))-5,3)&"."&RIGHT(TEXT(MADRE!D200,"0"),3)))) -> 🌱 COTONEASTER DIELSIANA. 📏 E. 4 lts 💰 12.232 📏 E. 10 lts 💰 27.000 | D76: =B76 -> 🌱 COTONEASTER DIELSIANA. 📏 E. 4 lts 💰 12.232 📏 E. 10 lts 💰 27.000
A77: =TRIM(MADRE!A201) -> Cotoneaster Franchetti | B77: ="🌱 "&UPPER(TRIM(MADRE!A201))&CHAR(10)&CHAR(10)&"📏 "&TRIM(MADRE!A202)&CHAR(10)&CHAR(10)&"💰 "&IF(MADRE!D202="","",IF(MADRE!D202<1000,TEXT(MADRE!D202,"0"),IF(MADRE!D202<1000000,LEFT(TEXT(MADRE!D202,"0"),LEN(TEXT(MADRE!D202,"0"))-3)&"."&RIGHT(TEXT(MADRE!D202,"0"),3),LEFT(TEXT(MADRE!D202,"0"),LEN(TEXT(MADRE!D202,"0"))-6)&"."&MID(TEXT(MADRE!D202,"0"),LEN(TEXT(MADRE!D202,"0"))-5,3)&"."&RIGHT(TEXT(MADRE!D202,"0"),3))))&CHAR(10)&CHAR(10)&"📏 "&TRIM(MADRE!A203)&CHAR(10)&CHAR(10)&"💰 "&IF(MADRE!D203="","",IF(MADRE!D203<1000,TEXT(MADRE!D203,"0"),IF(MADRE!D203<1000000,LEFT(TEXT(MADRE!D203,"0"),LEN(TEXT(MADRE!D203,"0"))-3)&"."&RIGHT(TEXT(MADRE!D203,"0"),3),LEFT(TEXT(MADRE!D203,"0"),LEN(TEXT(MADRE!D203,"0"))-6)&"."&MID(TEXT(MADRE!D203,"0"),LEN(TEXT(MADRE!D203,"0"))-5,3)&"."&RIGHT(TEXT(MADRE!D203,"0"),3)))) -> 🌱 COTONEASTER FRANCHETTI 📏 E. 4lts 💰 12.232 📏 E. 10lts 💰 27.000 | D77: =B77 -> 🌱 COTONEASTER FRANCHETTI 📏 E. 4lts 💰 12.232 📏 E. 10lts 💰 27.000
A78: =TRIM(MADRE!A204) -> Cotoneaster racimiflora. | B78: ="🌱 "&UPPER(TRIM(MADRE!A204))&CHAR(10)&CHAR(10)&"📏 "&TRIM(MADRE!A205)&CHAR(10)&CHAR(10)&"💰 "&IF(MADRE!D205="","",IF(MADRE!D205<1000,TEXT(MADRE!D205,"0"),IF(MADRE!D205<1000000,LEFT(TEXT(MADRE!D205,"0"),LEN(TEXT(MADRE!D205,"0"))-3)&"."&RIGHT(TEXT(MADRE!D205,"0"),3),LEFT(TEXT(MADRE!D205,"0"),LEN(TEXT(MADRE!D205,"0"))-6)&"."&MID(TEXT(MADRE!D205,"0"),LEN(TEXT(MADRE!D205,"0"))-5,3)&"."&RIGHT(TEXT(MADRE!D205,"0"),3))))&CHAR(10)&CHAR(10)&"📏 "&TRIM(MADRE!A206)&CHAR(10)&CHAR(10)&"💰 "&IF(MADRE!D206="","",IF(MADRE!D206<1000,TEXT(MADRE!D206,"0"),IF(MADRE!D206<1000000,LEFT(TEXT(MADRE!D206,"0"),LEN(TEXT(MADRE!D206,"0"))-3)&"."&RIGHT(TEXT(MADRE!D206,"0"),3),LEFT(TEXT(MADRE!D206,"0"),LEN(TEXT(MADRE!D206,"0"))-6)&"."&MID(TEXT(MADRE!D206,"0"),LEN(TEXT(MADRE!D206,"0"))-5,3)&"."&RIGHT(TEXT(MADRE!D206,"0"),3)))) -> 🌱 COTONEASTER RACIMIFLORA. 📏 E. 4 lts 💰 12.232 📏 E. 10 lts 💰 27.000 | D78: =B78 -> 🌱 COTONEASTER RACIMIFLORA. 📏 E. 4 lts 💰 12.232 📏 E. 10 lts 💰 27.000
A79: =TRIM(MADRE!A207) -> Cotoneaster serotina. | B79: ="🌱 "&UPPER(TRIM(MADRE!A207))&CHAR(10)&CHAR(10)&"📏 "&TRIM(MADRE!A208)&CHAR(10)&CHAR(10)&"💰 "&IF(MADRE!D208="","",IF(MADRE!D208<1000,TEXT(MADRE!D208,"0"),IF(MADRE!D208<1000000,LEFT(TEXT(MADRE!D208,"0"),LEN(TEXT(MADRE!D208,"0"))-3)&"."&RIGHT(TEXT(MADRE!D208,"0"),3),LEFT(TEXT(MADRE!D208,"0"),LEN(TEXT(MADRE!D208,"0"))-6)&"."&MID(TEXT(MADRE!D208,"0"),LEN(TEXT(MADRE!D208,"0"))-5,3)&"."&RIGHT(TEXT(MADRE!D208,"0"),3))))&CHAR(10)&CHAR(10)&"📏 "&TRIM(MADRE!A209)&CHAR(10)&CHAR(10)&"💰 "&IF(MADRE!D209="","",IF(MADRE!D209<1000,TEXT(MADRE!D209,"0"),IF(MADRE!D209<1000000,LEFT(TEXT(MADRE!D209,"0"),LEN(TEXT(MADRE!D209,"0"))-3)&"."&RIGHT(TEXT(MADRE!D209,"0"),3),LEFT(TEXT(MADRE!D209,"0"),LEN(TEXT(MADRE!D209,"0"))-6)&"."&MID(TEXT(MADRE!D209,"0"),LEN(TEXT(MADRE!D209,"0"))-5,3)&"."&RIGHT(TEXT(MADRE!D209,"0"),3)))) -> 🌱 COTONEASTER SEROTINA. 📏 E. 4 lts 💰 12.232 📏 E. 10 lts 💰 27.000 | D79: =B79 -> 🌱 COTONEASTER SEROTINA. 📏 E. 4 lts 💰 12.232 📏 E. 10 lts 💰 27.000
A80: =TRIM(MADRE!A210) -> Crataegus (Pyracantha coccinea). | B80: ="🌱 "&UPPER(TRIM(MADRE!A210))&CHAR(10)&CHAR(10)&"📏 "&TRIM(MADRE!A211)&CHAR(10)&CHAR(10)&"💰 "&IF(MADRE!D211="","",IF(MADRE!D211<1000,TEXT(MADRE!D211,"0"),IF(MADRE!D211<1000000,LEFT(TEXT(MADRE!D211,"0"),LEN(TEXT(MADRE!D211,"0"))-3)&"."&RIGHT(TEXT(MADRE!D211,"0"),3),LEFT(TEXT(MADRE!D211,"0"),LEN(TEXT(MADRE!D211,"0"))-6)&"."&MID(TEXT(MADRE!D211,"0"),LEN(TEXT(MADRE!D211,"0"))-5,3)&"."&RIGHT(TEXT(MADRE!D211,"0"),3)))) -> 🌱 CRATAEGUS (PYRACANTHA COCCINEA). 📏 fruto amarillo y rojo 120 cm. E. 4 lts 💰 9.657 | D80: =B80 -> 🌱 CRATAEGUS (PYRACANTHA COCCINEA). 📏 fruto amarillo y rojo 120 cm. E. 4 lts 💰 9.657
A81: =TRIM(MADRE!A212) -> Crataegus vanhedeni (Pyracantha crenatoserrata. | B81: ="🌱 "&UPPER(TRIM(MADRE!A212))&CHAR(10)&CHAR(10)&"📏 "&TRIM(MADRE!A213)&CHAR(10)&CHAR(10)&"💰 "&IF(MADRE!D213="","",IF(MADRE!D213<1000,TEXT(MADRE!D213,"0"),IF(MADRE!D213<1000000,LEFT(TEXT(MADRE!D213,"0"),LEN(TEXT(MADRE!D213,"0"))-3)&"."&RIGHT(TEXT(MADRE!D213,"0"),3),LEFT(TEXT(MADRE!D213,"0"),LEN(TEXT(MADRE!D213,"0"))-6)&"."&MID(TEXT(MADRE!D213,"0"),LEN(TEXT(MADRE!D213,"0"))-5,3)&"."&RIGHT(TEXT(MADRE!D213,"0"),3))))&CHAR(10)&CHAR(10)&"📏 "&TRIM(MADRE!A214)&CHAR(10)&CHAR(10)&"💰 "&IF(MADRE!D214="","",IF(MADRE!D214<1000,TEXT(MADRE!D214,"0"),IF(MADRE!D214<1000000,LEFT(TEXT(MADRE!D214,"0"),LEN(TEXT(MADRE!D214,"0"))-3)&"."&RIGHT(TEXT(MADRE!D214,"0"),3),LEFT(TEXT(MADRE!D214,"0"),LEN(TEXT(MADRE!D214,"0"))-6)&"."&MID(TEXT(MADRE!D214,"0"),LEN(TEXT(MADRE!D214,"0"))-5,3)&"."&RIGHT(TEXT(MADRE!D214,"0"),3)))) -> 🌱 CRATAEGUS VANHEDENI (PYRACANTHA CRENATOSERRATA. 📏 100-120cm. E. 4 lts 💰 12.876 📏 150-180cm E. 10lts 💰 27.000 | D81: =B81 -> 🌱 CRATAEGUS VANHEDENI (PYRACANTHA CRENATOSERRATA. 📏 100-120cm. E. 4 lts 💰 12.876 📏 150-180cm E. 10lts 💰 27.000
A82: =TRIM(MADRE!A215) -> Cupressocyparis leylandi. | B82: ="🌱 "&UPPER(TRIM(MADRE!A215))&CHAR(10)&CHAR(10)&"📏 "&TRIM(MADRE!A216)&CHAR(10)&CHAR(10)&"💰 "&IF(MADRE!D216="","",IF(MADRE!D216<1000,TEXT(MADRE!D216,"0"),IF(MADRE!D216<1000000,LEFT(TEXT(MADRE!D216,"0"),LEN(TEXT(MADRE!D216,"0"))-3)&"."&RIGHT(TEXT(MADRE!D216,"0"),3),LEFT(TEXT(MADRE!D216,"0"),LEN(TEXT(MADRE!D216,"0"))-6)&"."&MID(TEXT(MADRE!D216,"0"),LEN(TEXT(MADRE!D216,"0"))-5,3)&"."&RIGHT(TEXT(MADRE!D216,"0"),3))))&CHAR(10)&CHAR(10)&"📏 "&TRIM(MADRE!A217)&CHAR(10)&CHAR(10)&"💰 "&IF(MADRE!D217="","",IF(MADRE!D217<1000,TEXT(MADRE!D217,"0"),IF(MADRE!D217<1000000,LEFT(TEXT(MADRE!D217,"0"),LEN(TEXT(MADRE!D217,"0"))-3)&"."&RIGHT(TEXT(MADRE!D217,"0"),3),LEFT(TEXT(MADRE!D217,"0"),LEN(TEXT(MADRE!D217,"0"))-6)&"."&MID(TEXT(MADRE!D217,"0"),LEN(TEXT(MADRE!D217,"0"))-5,3)&"."&RIGHT(TEXT(MADRE!D217,"0"),3))))&CHAR(10)&CHAR(10)&"📏 "&TRIM(MADRE!A218)&CHAR(10)&CHAR(10)&"💰 "&IF(MADRE!D218="","",IF(MADRE!D218<1000,TEXT(MADRE!D218,"0"),IF(MADRE!D218<1000000,LEFT(TEXT(MADRE!D218,"0"),LEN(TEXT(MADRE!D218,"0"))-3)&"."&RIGHT(TEXT(MADRE!D218,"0"),3),LEFT(TEXT(MADRE!D218,"0"),LEN(TEXT(MADRE!D218,"0"))-6)&"."&MID(TEXT(MADRE!D218,"0"),LEN(TEXT(MADRE!D218,"0"))-5,3)&"."&RIGHT(TEXT(MADRE!D218,"0"),3))))&CHAR(10)&CHAR(10)&"📏 "&TRIM(MADRE!A219)&CHAR(10)&CHAR(10)&"💰 "&IF(MADRE!D219="","",IF(MADRE!D219<1000,TEXT(MADRE!D219,"0"),IF(MADRE!D219<1000000,LEFT(TEXT(MADRE!D219,"0"),LEN(TEXT(MADRE!D219,"0"))-3)&"."&RIGHT(TEXT(MADRE!D219,"0"),3),LEFT(TEXT(MADRE!D219,"0"),LEN(TEXT(MADRE!D219,"0"))-6)&"."&MID(TEXT(MADRE!D219,"0"),LEN(TEXT(MADRE!D219,"0"))-5,3)&"."&RIGHT(TEXT(MADRE!D219,"0"),3)))) -> 🌱 CUPRESSOCYPARIS LEYLANDI. 📏 80-120cm 💰 12.500 📏 120-150cm 💰 29.000 📏 150-180cm 💰 35.000 📏 180-250cm 💰 137.085 | D82: =B82 -> 🌱 CUPRESSOCYPARIS LEYLANDI. 📏 80-120cm 💰 12.500 📏 120-150cm 💰 29.000 📏 150-180cm 💰 35.000 📏 180-250cm 💰 137.085
A83: =TRIM(MADRE!A220) -> Cupressocyparis Leylandi castlewelland gold | B83: ="🌱 "&UPPER(TRIM(MADRE!A220))&CHAR(10)&CHAR(10)&"📏 "&TRIM(MADRE!A221)&CHAR(10)&CHAR(10)&"💰 "&IF(MADRE!D221="","",IF(MADRE!D221<1000,TEXT(MADRE!D221,"0"),IF(MADRE!D221<1000000,LEFT(TEXT(MADRE!D221,"0"),LEN(TEXT(MADRE!D221,"0"))-3)&"."&RIGHT(TEXT(MADRE!D221,"0"),3),LEFT(TEXT(MADRE!D221,"0"),LEN(TEXT(MADRE!D221,"0"))-6)&"."&MID(TEXT(MADRE!D221,"0"),LEN(TEXT(MADRE!D221,"0"))-5,3)&"."&RIGHT(TEXT(MADRE!D221,"0"),3))))&CHAR(10)&CHAR(10)&"📏 "&TRIM(MADRE!A222)&CHAR(10)&CHAR(10)&"💰 "&IF(MADRE!D222="","",IF(MADRE!D222<1000,TEXT(MADRE!D222,"0"),IF(MADRE!D222<1000000,LEFT(TEXT(MADRE!D222,"0"),LEN(TEXT(MADRE!D222,"0"))-3)&"."&RIGHT(TEXT(MADRE!D222,"0"),3),LEFT(TEXT(MADRE!D222,"0"),LEN(TEXT(MADRE!D222,"0"))-6)&"."&MID(TEXT(MADRE!D222,"0"),LEN(TEXT(MADRE!D222,"0"))-5,3)&"."&RIGHT(TEXT(MADRE!D222,"0"),3)))) -> 🌱 CUPRESSOCYPARIS LEYLANDI CASTLEWELLAND GOLD 📏 100-120cm 💰 39.072 📏 120-150cm 💰 52.000 | D83: =B83 -> 🌱 CUPRESSOCYPARIS LEYLANDI CASTLEWELLAND GOLD 📏 100-120cm 💰 39.072 📏 120-150cm 💰 52.000
A84: =TRIM(MADRE!A223) -> Cupressus sempervirens stricta (Cipres piramidal). | B84: ="🌱 "&UPPER(TRIM(MADRE!A223))&CHAR(10)&CHAR(10)&"📏 "&TRIM(MADRE!A224)&CHAR(10)&CHAR(10)&"💰 "&IF(MADRE!D224="","",IF(MADRE!D224<1000,TEXT(MADRE!D224,"0"),IF(MADRE!D224<1000000,LEFT(TEXT(MADRE!D224,"0"),LEN(TEXT(MADRE!D224,"0"))-3)&"."&RIGHT(TEXT(MADRE!D224,"0"),3),LEFT(TEXT(MADRE!D224,"0"),LEN(TEXT(MADRE!D224,"0"))-6)&"."&MID(TEXT(MADRE!D224,"0"),LEN(TEXT(MADRE!D224,"0"))-5,3)&"."&RIGHT(TEXT(MADRE!D224,"0"),3))))&CHAR(10)&CHAR(10)&"📏 "&TRIM(MADRE!A225)&CHAR(10)&CHAR(10)&"💰 "&IF(MADRE!D225="","",IF(MADRE!D225<1000,TEXT(MADRE!D225,"0"),IF(MADRE!D225<1000000,LEFT(TEXT(MADRE!D225,"0"),LEN(TEXT(MADRE!D225,"0"))-3)&"."&RIGHT(TEXT(MADRE!D225,"0"),3),LEFT(TEXT(MADRE!D225,"0"),LEN(TEXT(MADRE!D225,"0"))-6)&"."&MID(TEXT(MADRE!D225,"0"),LEN(TEXT(MADRE!D225,"0"))-5,3)&"."&RIGHT(TEXT(MADRE!D225,"0"),3))))&CHAR(10)&CHAR(10)&"📏 "&TRIM(MADRE!A226)&CHAR(10)&CHAR(10)&"💰 "&IF(MADRE!D226="","",IF(MADRE!D226<1000,TEXT(MADRE!D226,"0"),IF(MADRE!D226<1000000,LEFT(TEXT(MADRE!D226,"0"),LEN(TEXT(MADRE!D226,"0"))-3)&"."&RIGHT(TEXT(MADRE!D226,"0"),3),LEFT(TEXT(MADRE!D226,"0"),LEN(TEXT(MADRE!D226,"0"))-6)&"."&MID(TEXT(MADRE!D226,"0"),LEN(TEXT(MADRE!D226,"0"))-5,3)&"."&RIGHT(TEXT(MADRE!D226,"0"),3))))&CHAR(10)&CHAR(10)&"📏 "&TRIM(MADRE!A227)&CHAR(10)&CHAR(10)&"💰 "&IF(MADRE!D227="","",IF(MADRE!D227<1000,TEXT(MADRE!D227,"0"),IF(MADRE!D227<1000000,LEFT(TEXT(MADRE!D227,"0"),LEN(TEXT(MADRE!D227,"0"))-3)&"."&RIGHT(TEXT(MADRE!D227,"0"),3),LEFT(TEXT(MADRE!D227,"0"),LEN(TEXT(MADRE!D227,"0"))-6)&"."&MID(TEXT(MADRE!D227,"0"),LEN(TEXT(MADRE!D227,"0"))-5,3)&"."&RIGHT(TEXT(MADRE!D227,"0"),3)))) -> 🌱 CUPRESSUS SEMPERVIRENS STRICTA (CIPRES PIRAMIDAL). 📏 130-150 cm. E. 10 lts 💰 22.944 📏 150-180cm E. 10lts 💰 27.000 📏 180- 210cm E. 10lts 💰 48.000 📏 180-210cm OFERTA COMPRANO 10 UNIDADES 💰 47.000 | D84: =B84 -> 🌱 CUPRESSUS SEMPERVIRENS STRICTA (CIPRES PIRAMIDAL). 📏 130-150 cm. E. 10 lts 💰 22.944 📏 150-180cm E. 10lts 💰 27.000 📏 180- 210cm E. 10lts 💰 48.000 📏 180-210cm OFERTA COMPRANO 10 UNIDADES 💰 47.000
A85: =TRIM(MADRE!A228) -> Cydonia japónica (Chaenomeles lagenaria). | B85: ="🌱 "&UPPER(TRIM(MADRE!A228))&CHAR(10)&CHAR(10)&"📏 "&TRIM(MADRE!A229)&CHAR(10)&CHAR(10)&"💰 "&IF(MADRE!D229="","",IF(MADRE!D229<1000,TEXT(MADRE!D229,"0"),IF(MADRE!D229<1000000,LEFT(TEXT(MADRE!D229,"0"),LEN(TEXT(MADRE!D229,"0"))-3)&"."&RIGHT(TEXT(MADRE!D229,"0"),3),LEFT(TEXT(MADRE!D229,"0"),LEN(TEXT(MADRE!D229,"0"))-6)&"."&MID(TEXT(MADRE!D229,"0"),LEN(TEXT(MADRE!D229,"0"))-5,3)&"."&RIGHT(TEXT(MADRE!D229,"0"),3))))&CHAR(10)&CHAR(10)&"📏 "&TRIM(MADRE!A230)&CHAR(10)&CHAR(10)&"💰 "&IF(MADRE!D230="","",IF(MADRE!D230<1000,TEXT(MADRE!D230,"0"),IF(MADRE!D230<1000000,LEFT(TEXT(MADRE!D230,"0"),LEN(TEXT(MADRE!D230,"0"))-3)&"."&RIGHT(TEXT(MADRE!D230,"0"),3),LEFT(TEXT(MADRE!D230,"0"),LEN(TEXT(MADRE!D230,"0"))-6)&"."&MID(TEXT(MADRE!D230,"0"),LEN(TEXT(MADRE!D230,"0"))-5,3)&"."&RIGHT(TEXT(MADRE!D230,"0"),3)))) -> 🌱 CYDONIA JAPÓNICA (CHAENOMELES LAGENARIA). 📏 flores color blanco, matizado, rojo y rosado E. 4 lts 💰 12.232 📏 flores color blanco, matizado, rojo y rosado E. 10 lts 💰 27.000 | D85: =B85 -> 🌱 CYDONIA JAPÓNICA (CHAENOMELES LAGENARIA). 📏 flores color blanco, matizado, rojo y rosado E. 4 lts 💰 12.232 📏 flores color blanco, matizado, rojo y rosado E. 10 lts 💰 27.000
A86: =TRIM(MADRE!A232) -> . E. 4 lts | B86: ="🌱 "&UPPER(TRIM(MADRE!A232))&CHAR(10)&CHAR(10)&"📏 "&TRIM(MADRE!A233)&CHAR(10)&CHAR(10)&"💰 "&IF(MADRE!D233="","",IF(MADRE!D233<1000,TEXT(MADRE!D233,"0"),IF(MADRE!D233<1000000,LEFT(TEXT(MADRE!D233,"0"),LEN(TEXT(MADRE!D233,"0"))-3)&"."&RIGHT(TEXT(MADRE!D233,"0"),3),LEFT(TEXT(MADRE!D233,"0"),LEN(TEXT(MADRE!D233,"0"))-6)&"."&MID(TEXT(MADRE!D233,"0"),LEN(TEXT(MADRE!D233,"0"))-5,3)&"."&RIGHT(TEXT(MADRE!D233,"0"),3)))) -> 🌱 . E. 4 LTS 📏 E. 10 lts. 💰 25.000 | D86: =B86 -> 🌱 . E. 4 LTS 📏 E. 10 lts. 💰 25.000
A87: =TRIM(MADRE!A234) -> Dietes brasilero, grandiflora | B87: ="🌱 "&UPPER(TRIM(MADRE!A234))&CHAR(10)&CHAR(10)&"📏 "&TRIM(MADRE!A235)&CHAR(10)&CHAR(10)&"💰 "&IF(MADRE!D235="","",IF(MADRE!D235<1000,TEXT(MADRE!D235,"0"),IF(MADRE!D235<1000000,LEFT(TEXT(MADRE!D235,"0"),LEN(TEXT(MADRE!D235,"0"))-3)&"."&RIGHT(TEXT(MADRE!D235,"0"),3),LEFT(TEXT(MADRE!D235,"0"),LEN(TEXT(MADRE!D235,"0"))-6)&"."&MID(TEXT(MADRE!D235,"0"),LEN(TEXT(MADRE!D235,"0"))-5,3)&"."&RIGHT(TEXT(MADRE!D235,"0"),3))))&CHAR(10)&CHAR(10)&"📏 "&TRIM(MADRE!A236)&CHAR(10)&CHAR(10)&"💰 "&IF(MADRE!D236="","",IF(MADRE!D236<1000,TEXT(MADRE!D236,"0"),IF(MADRE!D236<1000000,LEFT(TEXT(MADRE!D236,"0"),LEN(TEXT(MADRE!D236,"0"))-3)&"."&RIGHT(TEXT(MADRE!D236,"0"),3),LEFT(TEXT(MADRE!D236,"0"),LEN(TEXT(MADRE!D236,"0"))-6)&"."&MID(TEXT(MADRE!D236,"0"),LEN(TEXT(MADRE!D236,"0"))-5,3)&"."&RIGHT(TEXT(MADRE!D236,"0"),3)))) -> 🌱 DIETES BRASILERO, GRANDIFLORA 📏 E. 4 lts. 💰 9.900 📏 OFERTA X 10 UNIDADES 💰 9.500 | D87: =B87 -> 🌱 DIETES BRASILERO, GRANDIFLORA 📏 E. 4 lts. 💰 9.900 📏 OFERTA X 10 UNIDADES 💰 9.500
A88: =TRIM(MADRE!A237) -> Dodonea viscosa púrpura. | B88: ="🌱 "&UPPER(TRIM(MADRE!A237))&CHAR(10)&CHAR(10)&"📏 "&TRIM(MADRE!A238)&CHAR(10)&CHAR(10)&"💰 "&IF(MADRE!D238="","",IF(MADRE!D238<1000,TEXT(MADRE!D238,"0"),IF(MADRE!D238<1000000,LEFT(TEXT(MADRE!D238,"0"),LEN(TEXT(MADRE!D238,"0"))-3)&"."&RIGHT(TEXT(MADRE!D238,"0"),3),LEFT(TEXT(MADRE!D238,"0"),LEN(TEXT(MADRE!D238,"0"))-6)&"."&MID(TEXT(MADRE!D238,"0"),LEN(TEXT(MADRE!D238,"0"))-5,3)&"."&RIGHT(TEXT(MADRE!D238,"0"),3))))&CHAR(10)&CHAR(10)&"📏 "&TRIM(MADRE!A239)&CHAR(10)&CHAR(10)&"💰 "&IF(MADRE!D239="","",IF(MADRE!D239<1000,TEXT(MADRE!D239,"0"),IF(MADRE!D239<1000000,LEFT(TEXT(MADRE!D239,"0"),LEN(TEXT(MADRE!D239,"0"))-3)&"."&RIGHT(TEXT(MADRE!D239,"0"),3),LEFT(TEXT(MADRE!D239,"0"),LEN(TEXT(MADRE!D239,"0"))-6)&"."&MID(TEXT(MADRE!D239,"0"),LEN(TEXT(MADRE!D239,"0"))-5,3)&"."&RIGHT(TEXT(MADRE!D239,"0"),3))))&CHAR(10)&CHAR(10)&"📏 "&TRIM(MADRE!A240)&CHAR(10)&CHAR(10)&"💰 "&IF(MADRE!D240="","",IF(MADRE!D240<1000,TEXT(MADRE!D240,"0"),IF(MADRE!D240<1000000,LEFT(TEXT(MADRE!D240,"0"),LEN(TEXT(MADRE!D240,"0"))-3)&"."&RIGHT(TEXT(MADRE!D240,"0"),3),LEFT(TEXT(MADRE!D240,"0"),LEN(TEXT(MADRE!D240,"0"))-6)&"."&MID(TEXT(MADRE!D240,"0"),LEN(TEXT(MADRE!D240,"0"))-5,3)&"."&RIGHT(TEXT(MADRE!D240,"0"),3)))) -> 🌱 DODONEA VISCOSA PÚRPURA. 📏 E. 4 lts 80cm 💰 12.232 📏 E. 10 lts 💰 27.000 📏 E. 20lts 💰 0 | D88: =B88 -> 🌱 DODONEA VISCOSA PÚRPURA. 📏 E. 4 lts 80cm 💰 12.232 📏 E. 10 lts 💰 27.000 📏 E. 20lts 💰 0
A89: =TRIM(MADRE!A241) -> Dracena indivisa (Cordyline australis). | B89: ="🌱 "&UPPER(TRIM(MADRE!A241))&CHAR(10)&CHAR(10)&"📏 "&TRIM(MADRE!A242)&CHAR(10)&CHAR(10)&"💰 "&IF(MADRE!D242="","",IF(MADRE!D242<1000,TEXT(MADRE!D242,"0"),IF(MADRE!D242<1000000,LEFT(TEXT(MADRE!D242,"0"),LEN(TEXT(MADRE!D242,"0"))-3)&"."&RIGHT(TEXT(MADRE!D242,"0"),3),LEFT(TEXT(MADRE!D242,"0"),LEN(TEXT(MADRE!D242,"0"))-6)&"."&MID(TEXT(MADRE!D242,"0"),LEN(TEXT(MADRE!D242,"0"))-5,3)&"."&RIGHT(TEXT(MADRE!D242,"0"),3))))&CHAR(10)&CHAR(10)&"📏 "&TRIM(MADRE!A243)&CHAR(10)&CHAR(10)&"💰 "&IF(MADRE!D243="","",IF(MADRE!D243<1000,TEXT(MADRE!D243,"0"),IF(MADRE!D243<1000000,LEFT(TEXT(MADRE!D243,"0"),LEN(TEXT(MADRE!D243,"0"))-3)&"."&RIGHT(TEXT(MADRE!D243,"0"),3),LEFT(TEXT(MADRE!D243,"0"),LEN(TEXT(MADRE!D243,"0"))-6)&"."&MID(TEXT(MADRE!D243,"0"),LEN(TEXT(MADRE!D243,"0"))-5,3)&"."&RIGHT(TEXT(MADRE!D243,"0"),3)))) -> 🌱 DRACENA INDIVISA (CORDYLINE AUSTRALIS). 📏 E. 4 lts 💰 12.232 📏 E. 10 lts 💰 27.000 | D89: =B89 -> 🌱 DRACENA INDIVISA (CORDYLINE AUSTRALIS). 📏 E. 4 lts 💰 12.232 📏 E. 10 lts 💰 27.000
A90: =TRIM(MADRE!A244) -> Dracena rubra (Cordylini australis rubra). | B90: ="🌱 "&UPPER(TRIM(MADRE!A244))&CHAR(10)&CHAR(10)&"📏 "&TRIM(MADRE!A245)&CHAR(10)&CHAR(10)&"💰 "&IF(MADRE!D245="","",IF(MADRE!D245<1000,TEXT(MADRE!D245,"0"),IF(MADRE!D245<1000000,LEFT(TEXT(MADRE!D245,"0"),LEN(TEXT(MADRE!D245,"0"))-3)&"."&RIGHT(TEXT(MADRE!D245,"0"),3),LEFT(TEXT(MADRE!D245,"0"),LEN(TEXT(MADRE!D245,"0"))-6)&"."&MID(TEXT(MADRE!D245,"0"),LEN(TEXT(MADRE!D245,"0"))-5,3)&"."&RIGHT(TEXT(MADRE!D245,"0"),3))))&CHAR(10)&CHAR(10)&"📏 "&TRIM(MADRE!A246)&CHAR(10)&CHAR(10)&"💰 "&IF(MADRE!D246="","",IF(MADRE!D246<1000,TEXT(MADRE!D246,"0"),IF(MADRE!D246<1000000,LEFT(TEXT(MADRE!D246,"0"),LEN(TEXT(MADRE!D246,"0"))-3)&"."&RIGHT(TEXT(MADRE!D246,"0"),3),LEFT(TEXT(MADRE!D246,"0"),LEN(TEXT(MADRE!D246,"0"))-6)&"."&MID(TEXT(MADRE!D246,"0"),LEN(TEXT(MADRE!D246,"0"))-5,3)&"."&RIGHT(TEXT(MADRE!D246,"0"),3)))) -> 🌱 DRACENA RUBRA (CORDYLINI AUSTRALIS RUBRA). 📏 E. 4 lts 💰 16.095 📏 E. 10 lts. 💰 32.190 | D90: =B90 -> 🌱 DRACENA RUBRA (CORDYLINI AUSTRALIS RUBRA). 📏 E. 4 lts 💰 16.095 📏 E. 10 lts. 💰 32.190
A91: =TRIM(MADRE!A247) -> Duranta repens aurea. | B91: ="🌱 "&UPPER(TRIM(MADRE!A247))&CHAR(10)&CHAR(10)&"📏 "&TRIM(MADRE!A248)&CHAR(10)&CHAR(10)&"💰 "&IF(MADRE!D248="","",IF(MADRE!D248<1000,TEXT(MADRE!D248,"0"),IF(MADRE!D248<1000000,LEFT(TEXT(MADRE!D248,"0"),LEN(TEXT(MADRE!D248,"0"))-3)&"."&RIGHT(TEXT(MADRE!D248,"0"),3),LEFT(TEXT(MADRE!D248,"0"),LEN(TEXT(MADRE!D248,"0"))-6)&"."&MID(TEXT(MADRE!D248,"0"),LEN(TEXT(MADRE!D248,"0"))-5,3)&"."&RIGHT(TEXT(MADRE!D248,"0"),3))))&CHAR(10)&CHAR(10)&"📏 "&TRIM(MADRE!A249)&CHAR(10)&CHAR(10)&"💰 "&IF(MADRE!D249="","",IF(MADRE!D249<1000,TEXT(MADRE!D249,"0"),IF(MADRE!D249<1000000,LEFT(TEXT(MADRE!D249,"0"),LEN(TEXT(MADRE!D249,"0"))-3)&"."&RIGHT(TEXT(MADRE!D249,"0"),3),LEFT(TEXT(MADRE!D249,"0"),LEN(TEXT(MADRE!D249,"0"))-6)&"."&MID(TEXT(MADRE!D249,"0"),LEN(TEXT(MADRE!D249,"0"))-5,3)&"."&RIGHT(TEXT(MADRE!D249,"0"),3))))&CHAR(10)&CHAR(10)&"📏 "&TRIM(MADRE!A250)&CHAR(10)&CHAR(10)&"💰 "&IF(MADRE!D250="","",IF(MADRE!D250<1000,TEXT(MADRE!D250,"0"),IF(MADRE!D250<1000000,LEFT(TEXT(MADRE!D250,"0"),LEN(TEXT(MADRE!D250,"0"))-3)&"."&RIGHT(TEXT(MADRE!D250,"0"),3),LEFT(TEXT(MADRE!D250,"0"),LEN(TEXT(MADRE!D250,"0"))-6)&"."&MID(TEXT(MADRE!D250,"0"),LEN(TEXT(MADRE!D250,"0"))-5,3)&"."&RIGHT(TEXT(MADRE!D250,"0"),3)))) -> 🌱 DURANTA REPENS AUREA. 📏 E. 4 lts 💰 12.232 📏 flor lila E. 10 lts 💰 27.000 📏 OFERTA COMPRANDO 10 UNIDADES 10LTS 💰 25.000 | D91: =B91 -> 🌱 DURANTA REPENS AUREA. 📏 E. 4 lts 💰 12.232 📏 flor lila E. 10 lts 💰 27.000 📏 OFERTA COMPRANDO 10 UNIDADES 10LTS 💰 25.000
A92: =TRIM(MADRE!A251) -> Eleagnus aurea. | B92: ="🌱 "&UPPER(TRIM(MADRE!A251))&CHAR(10)&CHAR(10)&"📏 "&TRIM(MADRE!A252)&CHAR(10)&CHAR(10)&"💰 "&IF(MADRE!D252="","",IF(MADRE!D252<1000,TEXT(MADRE!D252,"0"),IF(MADRE!D252<1000000,LEFT(TEXT(MADRE!D252,"0"),LEN(TEXT(MADRE!D252,"0"))-3)&"."&RIGHT(TEXT(MADRE!D252,"0"),3),LEFT(TEXT(MADRE!D252,"0"),LEN(TEXT(MADRE!D252,"0"))-6)&"."&MID(TEXT(MADRE!D252,"0"),LEN(TEXT(MADRE!D252,"0"))-5,3)&"."&RIGHT(TEXT(MADRE!D252,"0"),3))))&CHAR(10)&CHAR(10)&"📏 "&TRIM(MADRE!A253)&CHAR(10)&CHAR(10)&"💰 "&IF(MADRE!D253="","",IF(MADRE!D253<1000,TEXT(MADRE!D253,"0"),IF(MADRE!D253<1000000,LEFT(TEXT(MADRE!D253,"0"),LEN(TEXT(MADRE!D253,"0"))-3)&"."&RIGHT(TEXT(MADRE!D253,"0"),3),LEFT(TEXT(MADRE!D253,"0"),LEN(TEXT(MADRE!D253,"0"))-6)&"."&MID(TEXT(MADRE!D253,"0"),LEN(TEXT(MADRE!D253,"0"))-5,3)&"."&RIGHT(TEXT(MADRE!D253,"0"),3))))&CHAR(10)&CHAR(10)&"📏 "&TRIM(MADRE!A254)&CHAR(10)&CHAR(10)&"💰 "&IF(MADRE!D254="","",IF(MADRE!D254<1000,TEXT(MADRE!D254,"0"),IF(MADRE!D254<1000000,LEFT(TEXT(MADRE!D254,"0"),LEN(TEXT(MADRE!D254,"0"))-3)&"."&RIGHT(TEXT(MADRE!D254,"0"),3),LEFT(TEXT(MADRE!D254,"0"),LEN(TEXT(MADRE!D254,"0"))-6)&"."&MID(TEXT(MADRE!D254,"0"),LEN(TEXT(MADRE!D254,"0"))-5,3)&"."&RIGHT(TEXT(MADRE!D254,"0"),3)))) -> 🌱 ELEAGNUS AUREA. 📏 E. 4 lts 💰 12.232 📏 E. 10 lts 💰 27.000 📏 E. 15 lts 💰 36.500 | D92: =B92 -> 🌱 ELEAGNUS AUREA. 📏 E. 4 lts 💰 12.232 📏 E. 10 lts 💰 27.000 📏 E. 15 lts 💰 36.500
A93: =TRIM(MADRE!A255) -> Eleagnus ebbingei (verde) | B93: ="🌱 "&UPPER(TRIM(MADRE!A255))&CHAR(10)&CHAR(10)&"📏 "&TRIM(MADRE!A256)&CHAR(10)&CHAR(10)&"💰 "&IF(MADRE!D256="","",IF(MADRE!D256<1000,TEXT(MADRE!D256,"0"),IF(MADRE!D256<1000000,LEFT(TEXT(MADRE!D256,"0"),LEN(TEXT(MADRE!D256,"0"))-3)&"."&RIGHT(TEXT(MADRE!D256,"0"),3),LEFT(TEXT(MADRE!D256,"0"),LEN(TEXT(MADRE!D256,"0"))-6)&"."&MID(TEXT(MADRE!D256,"0"),LEN(TEXT(MADRE!D256,"0"))-5,3)&"."&RIGHT(TEXT(MADRE!D256,"0"),3))))&CHAR(10)&CHAR(10)&"📏 "&TRIM(MADRE!A257)&CHAR(10)&CHAR(10)&"💰 "&IF(MADRE!D257="","",IF(MADRE!D257<1000,TEXT(MADRE!D257,"0"),IF(MADRE!D257<1000000,LEFT(TEXT(MADRE!D257,"0"),LEN(TEXT(MADRE!D257,"0"))-3)&"."&RIGHT(TEXT(MADRE!D257,"0"),3),LEFT(TEXT(MADRE!D257,"0"),LEN(TEXT(MADRE!D257,"0"))-6)&"."&MID(TEXT(MADRE!D257,"0"),LEN(TEXT(MADRE!D257,"0"))-5,3)&"."&RIGHT(TEXT(MADRE!D257,"0"),3))))&CHAR(10)&CHAR(10)&"📏 "&TRIM(MADRE!A258)&CHAR(10)&CHAR(10)&"💰 "&IF(MADRE!D258="","",IF(MADRE!D258<1000,TEXT(MADRE!D258,"0"),IF(MADRE!D258<1000000,LEFT(TEXT(MADRE!D258,"0"),LEN(TEXT(MADRE!D258,"0"))-3)&"."&RIGHT(TEXT(MADRE!D258,"0"),3),LEFT(TEXT(MADRE!D258,"0"),LEN(TEXT(MADRE!D258,"0"))-6)&"."&MID(TEXT(MADRE!D258,"0"),LEN(TEXT(MADRE!D258,"0"))-5,3)&"."&RIGHT(TEXT(MADRE!D258,"0"),3)))) -> 🌱 ELEAGNUS EBBINGEI (VERDE) 📏 E. 4lts 💰 12.232 📏 E. 10lts 💰 27.000 📏 E 15lts 💰 36.500 | D93: =B93 -> 🌱 ELEAGNUS EBBINGEI (VERDE) 📏 E. 4lts 💰 12.232 📏 E. 10lts 💰 27.000 📏 E 15lts 💰 36.500
A94: =TRIM(MADRE!A259) -> Enamorada del muro (Ficus repens). | B94: ="🌱 "&UPPER(TRIM(MADRE!A259))&CHAR(10)&CHAR(10)&"📏 "&TRIM(MADRE!A260)&CHAR(10)&CHAR(10)&"💰 "&IF(MADRE!D260="","",IF(MADRE!D260<1000,TEXT(MADRE!D260,"0"),IF(MADRE!D260<1000000,LEFT(TEXT(MADRE!D260,"0"),LEN(TEXT(MADRE!D260,"0"))-3)&"."&RIGHT(TEXT(MADRE!D260,"0"),3),LEFT(TEXT(MADRE!D260,"0"),LEN(TEXT(MADRE!D260,"0"))-6)&"."&MID(TEXT(MADRE!D260,"0"),LEN(TEXT(MADRE!D260,"0"))-5,3)&"."&RIGHT(TEXT(MADRE!D260,"0"),3)))) -> 🌱 ENAMORADA DEL MURO (FICUS REPENS). 📏 E. 4 lts 40-60cm 💰 12.232 | D94: =B94 -> 🌱 ENAMORADA DEL MURO (FICUS REPENS). 📏 E. 4 lts 40-60cm 💰 12.232
A95: =TRIM(MADRE!A261) -> Equisetum. | B95: ="🌱 "&UPPER(TRIM(MADRE!A261))&CHAR(10)&CHAR(10)&"📏 "&TRIM(MADRE!A262)&CHAR(10)&CHAR(10)&"💰 "&IF(MADRE!D262="","",IF(MADRE!D262<1000,TEXT(MADRE!D262,"0"),IF(MADRE!D262<1000000,LEFT(TEXT(MADRE!D262,"0"),LEN(TEXT(MADRE!D262,"0"))-3)&"."&RIGHT(TEXT(MADRE!D262,"0"),3),LEFT(TEXT(MADRE!D262,"0"),LEN(TEXT(MADRE!D262,"0"))-6)&"."&MID(TEXT(MADRE!D262,"0"),LEN(TEXT(MADRE!D262,"0"))-5,3)&"."&RIGHT(TEXT(MADRE!D262,"0"),3))))&CHAR(10)&CHAR(10)&"📏 "&TRIM(MADRE!A263)&CHAR(10)&CHAR(10)&"💰 "&IF(MADRE!D263="","",IF(MADRE!D263<1000,TEXT(MADRE!D263,"0"),IF(MADRE!D263<1000000,LEFT(TEXT(MADRE!D263,"0"),LEN(TEXT(MADRE!D263,"0"))-3)&"."&RIGHT(TEXT(MADRE!D263,"0"),3),LEFT(TEXT(MADRE!D263,"0"),LEN(TEXT(MADRE!D263,"0"))-6)&"."&MID(TEXT(MADRE!D263,"0"),LEN(TEXT(MADRE!D263,"0"))-5,3)&"."&RIGHT(TEXT(MADRE!D263,"0"),3)))) -> 🌱 EQUISETUM. 📏 E. 4 lts 💰 8.900 📏 E. 4lts comprando 10 unidades 💰 8.500 | D95: =B95 -> 🌱 EQUISETUM. 📏 E. 4 lts 💰 8.900 📏 E. 4lts comprando 10 unidades 💰 8.500
A96: =TRIM(MADRE!A264) -> Eucalyptus cinerea. | B96: ="🌱 "&UPPER(TRIM(MADRE!A264))&CHAR(10)&CHAR(10)&"📏 "&TRIM(MADRE!A265)&CHAR(10)&CHAR(10)&"💰 "&IF(MADRE!D265="","",IF(MADRE!D265<1000,TEXT(MADRE!D265,"0"),IF(MADRE!D265<1000000,LEFT(TEXT(MADRE!D265,"0"),LEN(TEXT(MADRE!D265,"0"))-3)&"."&RIGHT(TEXT(MADRE!D265,"0"),3),LEFT(TEXT(MADRE!D265,"0"),LEN(TEXT(MADRE!D265,"0"))-6)&"."&MID(TEXT(MADRE!D265,"0"),LEN(TEXT(MADRE!D265,"0"))-5,3)&"."&RIGHT(TEXT(MADRE!D265,"0"),3))))&CHAR(10)&CHAR(10)&"📏 "&TRIM(MADRE!A266)&CHAR(10)&CHAR(10)&"💰 "&IF(MADRE!D266="","",IF(MADRE!D266<1000,TEXT(MADRE!D266,"0"),IF(MADRE!D266<1000000,LEFT(TEXT(MADRE!D266,"0"),LEN(TEXT(MADRE!D266,"0"))-3)&"."&RIGHT(TEXT(MADRE!D266,"0"),3),LEFT(TEXT(MADRE!D266,"0"),LEN(TEXT(MADRE!D266,"0"))-6)&"."&MID(TEXT(MADRE!D266,"0"),LEN(TEXT(MADRE!D266,"0"))-5,3)&"."&RIGHT(TEXT(MADRE!D266,"0"),3))))&CHAR(10)&CHAR(10)&"📏 "&TRIM(MADRE!A267)&CHAR(10)&CHAR(10)&"💰 "&IF(MADRE!D267="","",IF(MADRE!D267<1000,TEXT(MADRE!D267,"0"),IF(MADRE!D267<1000000,LEFT(TEXT(MADRE!D267,"0"),LEN(TEXT(MADRE!D267,"0"))-3)&"."&RIGHT(TEXT(MADRE!D267,"0"),3),LEFT(TEXT(MADRE!D267,"0"),LEN(TEXT(MADRE!D267,"0"))-6)&"."&MID(TEXT(MADRE!D267,"0"),LEN(TEXT(MADRE!D267,"0"))-5,3)&"."&RIGHT(TEXT(MADRE!D267,"0"),3)))) -> 🌱 EUCALYPTUS CINEREA. 📏 100-120 cm. E. 4 lts 💰 12.265 📏 120-150 cm E. 4 lts 💰 19.000 📏 150-180 cm E. 4 lts 💰 32.468 | D96: =B96 -> 🌱 EUCALYPTUS CINEREA. 📏 100-120 cm. E. 4 lts 💰 12.265 📏 120-150 cm E. 4 lts 💰 19.000 📏 150-180 cm E. 4 lts 💰 32.468
A97: =TRIM(MADRE!A268) -> Eugenia myrtifolia. | B97: ="🌱 "&UPPER(TRIM(MADRE!A268))&CHAR(10)&CHAR(10)&"📏 "&TRIM(MADRE!A269)&CHAR(10)&CHAR(10)&"💰 "&IF(MADRE!D269="","",IF(MADRE!D269<1000,TEXT(MADRE!D269,"0"),IF(MADRE!D269<1000000,LEFT(TEXT(MADRE!D269,"0"),LEN(TEXT(MADRE!D269,"0"))-3)&"."&RIGHT(TEXT(MADRE!D269,"0"),3),LEFT(TEXT(MADRE!D269,"0"),LEN(TEXT(MADRE!D269,"0"))-6)&"."&MID(TEXT(MADRE!D269,"0"),LEN(TEXT(MADRE!D269,"0"))-5,3)&"."&RIGHT(TEXT(MADRE!D269,"0"),3))))&CHAR(10)&CHAR(10)&"📏 "&TRIM(MADRE!A270)&CHAR(10)&CHAR(10)&"💰 "&IF(MADRE!D270="","",IF(MADRE!D270<1000,TEXT(MADRE!D270,"0"),IF(MADRE!D270<1000000,LEFT(TEXT(MADRE!D270,"0"),LEN(TEXT(MADRE!D270,"0"))-3)&"."&RIGHT(TEXT(MADRE!D270,"0"),3),LEFT(TEXT(MADRE!D270,"0"),LEN(TEXT(MADRE!D270,"0"))-6)&"."&MID(TEXT(MADRE!D270,"0"),LEN(TEXT(MADRE!D270,"0"))-5,3)&"."&RIGHT(TEXT(MADRE!D270,"0"),3))))&CHAR(10)&CHAR(10)&"📏 "&TRIM(MADRE!A271)&CHAR(10)&CHAR(10)&"💰 "&IF(MADRE!D271="","",IF(MADRE!D271<1000,TEXT(MADRE!D271,"0"),IF(MADRE!D271<1000000,LEFT(TEXT(MADRE!D271,"0"),LEN(TEXT(MADRE!D271,"0"))-3)&"."&RIGHT(TEXT(MADRE!D271,"0"),3),LEFT(TEXT(MADRE!D271,"0"),LEN(TEXT(MADRE!D271,"0"))-6)&"."&MID(TEXT(MADRE!D271,"0"),LEN(TEXT(MADRE!D271,"0"))-5,3)&"."&RIGHT(TEXT(MADRE!D271,"0"),3)))) -> 🌱 EUGENIA MYRTIFOLIA. 📏 150-180cm OFERTA 💰 25.000 📏 180-210cm Oferta 💰 28.716 📏 220-240cm 💰 59.163 | D97: =B97 -> 🌱 EUGENIA MYRTIFOLIA. 📏 150-180cm OFERTA 💰 25.000 📏 180-210cm Oferta 💰 28.716 📏 220-240cm 💰 59.163
A98: =TRIM(MADRE!A272) -> Euryops | B98: ="🌱 "&UPPER(TRIM(MADRE!A272))&CHAR(10)&CHAR(10)&"📏 "&TRIM(MADRE!A273)&CHAR(10)&CHAR(10)&"💰 "&IF(MADRE!D273="","",IF(MADRE!D273<1000,TEXT(MADRE!D273,"0"),IF(MADRE!D273<1000000,LEFT(TEXT(MADRE!D273,"0"),LEN(TEXT(MADRE!D273,"0"))-3)&"."&RIGHT(TEXT(MADRE!D273,"0"),3),LEFT(TEXT(MADRE!D273,"0"),LEN(TEXT(MADRE!D273,"0"))-6)&"."&MID(TEXT(MADRE!D273,"0"),LEN(TEXT(MADRE!D273,"0"))-5,3)&"."&RIGHT(TEXT(MADRE!D273,"0"),3))))&CHAR(10)&CHAR(10)&"📏 "&TRIM(MADRE!A274)&CHAR(10)&CHAR(10)&"💰 "&IF(MADRE!D274="","",IF(MADRE!D274<1000,TEXT(MADRE!D274,"0"),IF(MADRE!D274<1000000,LEFT(TEXT(MADRE!D274,"0"),LEN(TEXT(MADRE!D274,"0"))-3)&"."&RIGHT(TEXT(MADRE!D274,"0"),3),LEFT(TEXT(MADRE!D274,"0"),LEN(TEXT(MADRE!D274,"0"))-6)&"."&MID(TEXT(MADRE!D274,"0"),LEN(TEXT(MADRE!D274,"0"))-5,3)&"."&RIGHT(TEXT(MADRE!D274,"0"),3)))) -> 🌱 EURYOPS 📏 E. 4lts 💰 8.900 📏 oferta comprando 10 unidades 💰 8.500 | D98: =B98 -> 🌱 EURYOPS 📏 E. 4lts 💰 8.900 📏 oferta comprando 10 unidades 💰 8.500
A99: =TRIM(MADRE!A275) -> Evonymus maculata aurea, japonica argentea y japonico aurea. | B99: ="🌱 "&UPPER(TRIM(MADRE!A275))&CHAR(10)&CHAR(10)&"📏 "&TRIM(MADRE!A276)&CHAR(10)&CHAR(10)&"💰 "&IF(MADRE!D276="","",IF(MADRE!D276<1000,TEXT(MADRE!D276,"0"),IF(MADRE!D276<1000000,LEFT(TEXT(MADRE!D276,"0"),LEN(TEXT(MADRE!D276,"0"))-3)&"."&RIGHT(TEXT(MADRE!D276,"0"),3),LEFT(TEXT(MADRE!D276,"0"),LEN(TEXT(MADRE!D276,"0"))-6)&"."&MID(TEXT(MADRE!D276,"0"),LEN(TEXT(MADRE!D276,"0"))-5,3)&"."&RIGHT(TEXT(MADRE!D276,"0"),3))))&CHAR(10)&CHAR(10)&"📏 "&TRIM(MADRE!A277)&CHAR(10)&CHAR(10)&"💰 "&IF(MADRE!D277="","",IF(MADRE!D277<1000,TEXT(MADRE!D277,"0"),IF(MADRE!D277<1000000,LEFT(TEXT(MADRE!D277,"0"),LEN(TEXT(MADRE!D277,"0"))-3)&"."&RIGHT(TEXT(MADRE!D277,"0"),3),LEFT(TEXT(MADRE!D277,"0"),LEN(TEXT(MADRE!D277,"0"))-6)&"."&MID(TEXT(MADRE!D277,"0"),LEN(TEXT(MADRE!D277,"0"))-5,3)&"."&RIGHT(TEXT(MADRE!D277,"0"),3)))) -> 🌱 EVONYMUS MACULATA AUREA, JAPONICA ARGENTEA Y JAPONICO AUREA. 📏 E. 4 lts 💰 12.232 📏 E. 10 lts 💰 27.000 | D99: =B99 -> 🌱 EVONYMUS MACULATA AUREA, JAPONICA ARGENTEA Y JAPONICO AUREA. 📏 E. 4 lts 💰 12.232 📏 E. 10 lts 💰 27.000
A100: =TRIM(MADRE!A278) -> Festuca glauca | B100: ="🌱 "&UPPER(TRIM(MADRE!A278))&CHAR(10)&CHAR(10)&"📏 "&TRIM(MADRE!A279)&CHAR(10)&CHAR(10)&"💰 "&IF(MADRE!D279="","",IF(MADRE!D279<1000,TEXT(MADRE!D279,"0"),IF(MADRE!D279<1000000,LEFT(TEXT(MADRE!D279,"0"),LEN(TEXT(MADRE!D279,"0"))-3)&"."&RIGHT(TEXT(MADRE!D279,"0"),3),LEFT(TEXT(MADRE!D279,"0"),LEN(TEXT(MADRE!D279,"0"))-6)&"."&MID(TEXT(MADRE!D279,"0"),LEN(TEXT(MADRE!D279,"0"))-5,3)&"."&RIGHT(TEXT(MADRE!D279,"0"),3)))) -> 🌱 FESTUCA GLAUCA 📏 E. 4 lts 💰 8.900 | D100: =B100 -> 🌱 FESTUCA GLAUCA 📏 E. 4 lts 💰 8.900
...
